BEGIN:VCALENDAR
VERSION:2.0
PRODID:-//Amala - Body  Soul  Dance - ECPv6.7.0//NONSGML v1.0//EN
CALSCALE:GREGORIAN
METHOD:PUBLISH
X-WR-CALNAME:Amala - Body  Soul  Dance
X-ORIGINAL-URL:https://amala-dance.com
X-WR-CALDESC:Veranstaltungen für Amala - Body  Soul  Dance
REFRESH-INTERVAL;VALUE=DURATION:PT1H
X-Robots-Tag:noindex
X-PUBLISHED-TTL:PT1H
BEGIN:VTIMEZONE
TZID:Europe/Helsinki
BEGIN:DAYLIGHT
TZOFFSETFROM:+0200
TZOFFSETTO:+0300
TZNAME:EEST
DTSTART:20200329T010000
END:DAYLIGHT
BEGIN:STANDARD
TZOFFSETFROM:+0300
TZOFFSETTO:+0200
TZNAME:EET
DTSTART:20201025T010000
END:STANDARD
TZID:Atlantic/Azores
BEGIN:DAYLIGHT
TZOFFSETFROM:-0100
TZOFFSETTO:+0000
TZNAME:+00
DTSTART:20200329T010000
END:DAYLIGHT
BEGIN:STANDARD
TZOFFSETFROM:+0000
TZOFFSETTO:-0100
TZNAME:-01
DTSTART:20201025T010000
END:STANDARD
END:VTIMEZONE
BEGIN:VEVENT
DTSTART;TZID=Europe/Helsinki:20201020T200000
DTEND;TZID=Europe/Helsinki:20201020T220000
DTSTAMP:20260423T073016
CREATED:20200811T110658Z
LAST-MODIFIED:20200811T110658Z
UID:10006370-1603224000-1603231200@amala-dance.com
SUMMARY:Wave after Wave
DESCRIPTION:Diese Kurse sind eine Einladung die 5 Rhythmen™ kennen zu lernen\nund das Verständnis für die Rhythmen zu vertiefen.\nWir beginnen da wo wir sind. In der Balance zwischen freier Bewegung\nund Anleitung erforschen wir jeden der fünf Rhythmen: die Form\, die\nBewegung im Körper und im Raum\, die spezifische Energie\,\ndie der jeweilige Rhythmus in uns erweckt und wie wir diese Energie\nfür uns und in Gemeinschaft nutzen können. Jeder Abend fokussiert\nein Thema und führt durch eine vollständige Wave.\nWir folgen dem freien Fluss unserer Energie\,\nder Freude an Bewegung und geben uns die Freiheit\nuns auszudrücken. \n“Wave tanzen schafft eine heilsame\, kraftvolle\nund tiefe Verbindung zum eigenen Körper\,\nseiner Lebendigkeit\, und der Quelle des Lebens\,\ndem Spirit oder dem Sein.”  Amala \nAlle sind willkommen\, Anfänger\, erfahrene Tänzer/innen und Neugierige.\nDie fortlaufenden Kurse sind einzeln buchbar.\nMitzubringen: bequeme Kleidung\, Getränk\, rutschfeste Socken/ Tanzschuhe\nAnmeldung: bitte telefonisch unter 0711 6076724 oder via email amala@5rhythmen-stuttgart.de anmelden \nDie bis dahin geltenden Coronaregeln bestimmen die Teilnehmerzahl und den Ablauf.  \n 
URL:https://amala-dance.com/event/basic-skills-2-2-2-3-3-2-2-2-2/
LOCATION:Tanztempel Ost\, Ulmer Str. 184\, Stuttgart\, Baden Württemberg\, 70188\, Deutschland
CATEGORIES:5Rhythmen®,Classes,Einsteiger-Kurse,Wave after Wave,Wave-Angebot
ATTACH;FMTTYPE=image/jpeg:https://amala-dance.com/wp-content/uploads/2013/12/home21.jpg
ORGANIZER;CN="Amala P. Storm":MAILTO:amala@5rhythmen-stuttgart.de
GEO:48.8001622;9.2146158
X-APPLE-STRUCTURED-LOCATION;VALUE=URI;X-ADDRESS=Tanztempel Ost Ulmer Str. 184 Stuttgart Baden Württemberg 70188 Deutschland;X-APPLE-RADIUS=500;X-TITLE=Ulmer Str. 184:geo:9.2146158,48.8001622
END:VEVENT
BEGIN:VEVENT
DTSTART;TZID=Europe/Helsinki:20201017T193000
DTEND;TZID=Europe/Helsinki:20201017T213000
DTSTAMP:20260423T073016
CREATED:20201005T121229Z
LAST-MODIFIED:20201029T153055Z
UID:10006377-1602963000-1602970200@amala-dance.com
SUMMARY:Saturday Wave fällt aus
DESCRIPTION:The fastest way to still the mind is to move the body\nDie 5 Rhythmen™ flowing\, staccato\, chaos\, lyrical und stillness sind eine Bewegungspraxis\, die in ihrer Abfolge getanzt eine Wave bilden.\nDer Samstagabend ist ein offener Übungsraum\, bei dem es nur wenig Anleitung gibt. \nTanze durch alles was dich bewegt mit Bewusstheit. Tanze alleine oder mit anderen und lasse dich von der Magie der Welle tragen. \nAlle sind willkommen\, Anfänger und erfahrene Tänzer/innen \nDie Teilnehmerzahl ist begrenzt auf 20 Personen.  \n19.30h – 21.30h Waves \nOrte:  Tanzstudio Iris al Wardani\, Mercedesstr.9\, 70372 Stuttgart Bad Cannstatt\nAnmeldung erforderlich :  https://form.jotform.com/201483442727354 \n 
URL:https://amala-dance.com/event/saturday-wave-5rhythmen-in-cannstatt-7-3-2-2-2-2-2-3/
LOCATION:Tanztempel Ost\, Ulmer Str. 184\, Stuttgart\, Baden Württemberg\, 70188\, Deutschland
CATEGORIES:5Rhythmen®,Abtanzen,Classes,Einsteiger-Kurse,Saturday Wave,Sweat your Prayers,Wave-Angebot
ATTACH;FMTTYPE=image/jpeg:https://amala-dance.com/wp-content/uploads/2013/12/saturday-wave.jpg
ORGANIZER;CN="Amala P. Storm":MAILTO:amala@5rhythmen-stuttgart.de
GEO:48.8001622;9.2146158
X-APPLE-STRUCTURED-LOCATION;VALUE=URI;X-ADDRESS=Tanztempel Ost Ulmer Str. 184 Stuttgart Baden Württemberg 70188 Deutschland;X-APPLE-RADIUS=500;X-TITLE=Ulmer Str. 184:geo:9.2146158,48.8001622
END:VEVENT
BEGIN:VEVENT
DTSTART;TZID=Europe/Helsinki:20201013T200000
DTEND;TZID=Europe/Helsinki:20201013T220000
DTSTAMP:20260423T073016
CREATED:20200811T110624Z
LAST-MODIFIED:20200811T110638Z
UID:10006369-1602619200-1602626400@amala-dance.com
SUMMARY:Wave after Wave
DESCRIPTION:Diese Kurse sind eine Einladung die 5 Rhythmen™ kennen zu lernen\nund das Verständnis für die Rhythmen zu vertiefen.\nWir beginnen da wo wir sind. In der Balance zwischen freier Bewegung\nund Anleitung erforschen wir jeden der fünf Rhythmen: die Form\, die\nBewegung im Körper und im Raum\, die spezifische Energie\,\ndie der jeweilige Rhythmus in uns erweckt und wie wir diese Energie\nfür uns und in Gemeinschaft nutzen können. Jeder Abend fokussiert\nein Thema und führt durch eine vollständige Wave.\nWir folgen dem freien Fluss unserer Energie\,\nder Freude an Bewegung und geben uns die Freiheit\nuns auszudrücken. \n“Wave tanzen schafft eine heilsame\, kraftvolle\nund tiefe Verbindung zum eigenen Körper\,\nseiner Lebendigkeit\, und der Quelle des Lebens\,\ndem Spirit oder dem Sein.”  Amala \nAlle sind willkommen\, Anfänger\, erfahrene Tänzer/innen und Neugierige.\nDie fortlaufenden Kurse sind einzeln buchbar.\nMitzubringen: bequeme Kleidung\, Getränk\, rutschfeste Socken/ Tanzschuhe\nAnmeldung: bitte telefonisch unter 0711 6076724 oder via email amala@5rhythmen-stuttgart.de anmelden \nDie bis dahin geltenden Coronaregeln bestimmen die Teilnehmerzahl und den Ablauf.  \n 
URL:https://amala-dance.com/event/basic-skills-2-2-2-3-3-2-2-2/
LOCATION:Tanztempel Ost\, Ulmer Str. 184\, Stuttgart\, Baden Württemberg\, 70188\, Deutschland
CATEGORIES:5Rhythmen®,Classes,Einsteiger-Kurse,Wave after Wave,Wave-Angebot
ATTACH;FMTTYPE=image/jpeg:https://amala-dance.com/wp-content/uploads/2013/12/home21.jpg
ORGANIZER;CN="Amala P. Storm":MAILTO:amala@5rhythmen-stuttgart.de
GEO:48.8001622;9.2146158
X-APPLE-STRUCTURED-LOCATION;VALUE=URI;X-ADDRESS=Tanztempel Ost Ulmer Str. 184 Stuttgart Baden Württemberg 70188 Deutschland;X-APPLE-RADIUS=500;X-TITLE=Ulmer Str. 184:geo:9.2146158,48.8001622
END:VEVENT
BEGIN:VEVENT
DTSTART;TZID=Europe/Helsinki:20201006T200000
DTEND;TZID=Europe/Helsinki:20201006T220000
DTSTAMP:20260423T073016
CREATED:20200811T110607Z
LAST-MODIFIED:20200811T110607Z
UID:10006368-1602014400-1602021600@amala-dance.com
SUMMARY:Wave after Wave
DESCRIPTION:Diese Kurse sind eine Einladung die 5 Rhythmen™ kennen zu lernen\nund das Verständnis für die Rhythmen zu vertiefen.\nWir beginnen da wo wir sind. In der Balance zwischen freier Bewegung\nund Anleitung erforschen wir jeden der fünf Rhythmen: die Form\, die\nBewegung im Körper und im Raum\, die spezifische Energie\,\ndie der jeweilige Rhythmus in uns erweckt und wie wir diese Energie\nfür uns und in Gemeinschaft nutzen können. Jeder Abend fokussiert\nein Thema und führt durch eine vollständige Wave.\nWir folgen dem freien Fluss unserer Energie\,\nder Freude an Bewegung und geben uns die Freiheit\nuns auszudrücken. \n“Wave tanzen schafft eine heilsame\, kraftvolle\nund tiefe Verbindung zum eigenen Körper\,\nseiner Lebendigkeit\, und der Quelle des Lebens\,\ndem Spirit oder dem Sein.”  Amala \nAlle sind willkommen\, Anfänger\, erfahrene Tänzer/innen und Neugierige.\nDie fortlaufenden Kurse sind einzeln buchbar.\nMitzubringen: bequeme Kleidung\, Getränk\, rutschfeste Socken/ Tanzschuhe\nAnmeldung: bitte telefonisch unter 0711 6076724 oder via email amala@5rhythmen-stuttgart.de anmelden \nDie bis dahin geltenden Coronaregeln bestimmen die Teilnehmerzahl und den Ablauf.  \n 
URL:https://amala-dance.com/event/basic-skills-2-2-2-3-3-2-2/
LOCATION:Tanztempel Ost\, Ulmer Str. 184\, Stuttgart\, Baden Württemberg\, 70188\, Deutschland
CATEGORIES:5Rhythmen®,Classes,Einsteiger-Kurse,Wave after Wave,Wave-Angebot
ATTACH;FMTTYPE=image/jpeg:https://amala-dance.com/wp-content/uploads/2013/12/home21.jpg
ORGANIZER;CN="Amala P. Storm":MAILTO:amala@5rhythmen-stuttgart.de
GEO:48.8001622;9.2146158
X-APPLE-STRUCTURED-LOCATION;VALUE=URI;X-ADDRESS=Tanztempel Ost Ulmer Str. 184 Stuttgart Baden Württemberg 70188 Deutschland;X-APPLE-RADIUS=500;X-TITLE=Ulmer Str. 184:geo:9.2146158,48.8001622
END:VEVENT
BEGIN:VEVENT
DTSTART;TZID=Europe/Helsinki:20200929T200000
DTEND;TZID=Europe/Helsinki:20200929T220000
DTSTAMP:20260423T073016
CREATED:20200811T110544Z
LAST-MODIFIED:20200811T110544Z
UID:10006367-1601409600-1601416800@amala-dance.com
SUMMARY:Wave after Wave
DESCRIPTION:Diese Kurse sind eine Einladung die 5 Rhythmen™ kennen zu lernen\nund das Verständnis für die Rhythmen zu vertiefen.\nWir beginnen da wo wir sind. In der Balance zwischen freier Bewegung\nund Anleitung erforschen wir jeden der fünf Rhythmen: die Form\, die\nBewegung im Körper und im Raum\, die spezifische Energie\,\ndie der jeweilige Rhythmus in uns erweckt und wie wir diese Energie\nfür uns und in Gemeinschaft nutzen können. Jeder Abend fokussiert\nein Thema und führt durch eine vollständige Wave.\nWir folgen dem freien Fluss unserer Energie\,\nder Freude an Bewegung und geben uns die Freiheit\nuns auszudrücken. \n“Wave tanzen schafft eine heilsame\, kraftvolle\nund tiefe Verbindung zum eigenen Körper\,\nseiner Lebendigkeit\, und der Quelle des Lebens\,\ndem Spirit oder dem Sein.”  Amala \nAlle sind willkommen\, Anfänger\, erfahrene Tänzer/innen und Neugierige.\nDie fortlaufenden Kurse sind einzeln buchbar.\nMitzubringen: bequeme Kleidung\, Getränk\, rutschfeste Socken/ Tanzschuhe\nAnmeldung: bitte telefonisch unter 0711 6076724 oder via email amala@5rhythmen-stuttgart.de anmelden \nDie bis dahin geltenden Coronaregeln bestimmen die Teilnehmerzahl und den Ablauf.  \n 
URL:https://amala-dance.com/event/basic-skills-2-2-2-3-3-2/
LOCATION:Tanztempel Ost\, Ulmer Str. 184\, Stuttgart\, Baden Württemberg\, 70188\, Deutschland
CATEGORIES:5Rhythmen®,Classes,Einsteiger-Kurse,Wave after Wave,Wave-Angebot
ATTACH;FMTTYPE=image/jpeg:https://amala-dance.com/wp-content/uploads/2013/12/home21.jpg
ORGANIZER;CN="Amala P. Storm":MAILTO:amala@5rhythmen-stuttgart.de
GEO:48.8001622;9.2146158
X-APPLE-STRUCTURED-LOCATION;VALUE=URI;X-ADDRESS=Tanztempel Ost Ulmer Str. 184 Stuttgart Baden Württemberg 70188 Deutschland;X-APPLE-RADIUS=500;X-TITLE=Ulmer Str. 184:geo:9.2146158,48.8001622
END:VEVENT
BEGIN:VEVENT
DTSTART;TZID=Europe/Helsinki:20200922T200000
DTEND;TZID=Europe/Helsinki:20200922T220000
DTSTAMP:20260423T073016
CREATED:20200811T110525Z
LAST-MODIFIED:20200811T110525Z
UID:10006366-1600804800-1600812000@amala-dance.com
SUMMARY:Wave after Wave
DESCRIPTION:Diese Kurse sind eine Einladung die 5 Rhythmen™ kennen zu lernen\nund das Verständnis für die Rhythmen zu vertiefen.\nWir beginnen da wo wir sind. In der Balance zwischen freier Bewegung\nund Anleitung erforschen wir jeden der fünf Rhythmen: die Form\, die\nBewegung im Körper und im Raum\, die spezifische Energie\,\ndie der jeweilige Rhythmus in uns erweckt und wie wir diese Energie\nfür uns und in Gemeinschaft nutzen können. Jeder Abend fokussiert\nein Thema und führt durch eine vollständige Wave.\nWir folgen dem freien Fluss unserer Energie\,\nder Freude an Bewegung und geben uns die Freiheit\nuns auszudrücken. \n“Wave tanzen schafft eine heilsame\, kraftvolle\nund tiefe Verbindung zum eigenen Körper\,\nseiner Lebendigkeit\, und der Quelle des Lebens\,\ndem Spirit oder dem Sein.”  Amala \nAlle sind willkommen\, Anfänger\, erfahrene Tänzer/innen und Neugierige.\nDie fortlaufenden Kurse sind einzeln buchbar.\nMitzubringen: bequeme Kleidung\, Getränk\, rutschfeste Socken/ Tanzschuhe\nAnmeldung: bitte telefonisch unter 0711 6076724 oder via email amala@5rhythmen-stuttgart.de anmelden \nDie bis dahin geltenden Coronaregeln bestimmen die Teilnehmerzahl und den Ablauf.  \n 
URL:https://amala-dance.com/event/basic-skills-2-2-2-3-3/
LOCATION:Tanztempel Ost\, Ulmer Str. 184\, Stuttgart\, Baden Württemberg\, 70188\, Deutschland
CATEGORIES:5Rhythmen®,Classes,Einsteiger-Kurse,Wave after Wave,Wave-Angebot
ATTACH;FMTTYPE=image/jpeg:https://amala-dance.com/wp-content/uploads/2013/12/home21.jpg
ORGANIZER;CN="Amala P. Storm":MAILTO:amala@5rhythmen-stuttgart.de
GEO:48.8001622;9.2146158
X-APPLE-STRUCTURED-LOCATION;VALUE=URI;X-ADDRESS=Tanztempel Ost Ulmer Str. 184 Stuttgart Baden Württemberg 70188 Deutschland;X-APPLE-RADIUS=500;X-TITLE=Ulmer Str. 184:geo:9.2146158,48.8001622
END:VEVENT
BEGIN:VEVENT
DTSTART;TZID=Europe/Helsinki:20200811T200000
DTEND;TZID=Europe/Helsinki:20200811T220000
DTSTAMP:20260423T073016
CREATED:20200729T110002Z
LAST-MODIFIED:20200729T110435Z
UID:10006365-1597176000-1597183200@amala-dance.com
SUMMARY:Wave after Wave
DESCRIPTION:Diese Kurse sind eine Einladung die 5 Rhythmen™ kennen zu lernen\nund das Verständnis für die Rhythmen zu vertiefen.\nWir beginnen da wo wir sind. In der Balance zwischen freier Bewegung\nund Anleitung erforschen wir jeden der fünf Rhythmen: die Form\, die\nBewegung im Körper und im Raum\, die spezifische Energie\,\ndie der jeweilige Rhythmus in uns erweckt und wie wir diese Energie\nfür uns und in Gemeinschaft nutzen können. Jeder Abend fokussiert\nein Thema und führt durch eine vollständige Wave.\nWir folgen dem freien Fluss unserer Energie\,\nder Freude an Bewegung und geben uns die Freiheit\nuns auszudrücken. \n“Wave tanzen schafft eine heilsame\, kraftvolle\nund tiefe Verbindung zum eigenen Körper\,\nseiner Lebendigkeit\, und der Quelle des Lebens\,\ndem Spirit oder dem Sein.”  Amala \nDie Teilnehmerzahl ist auf 20 Personen begrenzt . Bitte melde dich via email unter amala@5rhythmen-stuttgart.de an.\nDie fortlaufenden Kurse sind einzeln buchbar.\nAnmeldung: das erste Mal telefonisch auf AB\nMitzubringen: bequeme Kleidung\, Getränk\, rutschfeste Socken/ Tanzschuhe\nEinführung in die 5Rhythmen™ siehe unter Einführungskurse!\nTermine siehe Kalender \n\n 
URL:https://amala-dance.com/event/basic-skills-2-2-2-3-2-2-3-2-2-2-2-2-2-2/
LOCATION:Tanztempel Ost\, Ulmer Str. 184\, Stuttgart\, Baden Württemberg\, 70188\, Deutschland
CATEGORIES:5Rhythmen®,Classes,Einsteiger-Kurse,Wave after Wave,Wave-Angebot
ATTACH;FMTTYPE=image/jpeg:https://amala-dance.com/wp-content/uploads/2013/12/home21.jpg
ORGANIZER;CN="Amala P. Storm":MAILTO:amala@5rhythmen-stuttgart.de
GEO:48.8001622;9.2146158
X-APPLE-STRUCTURED-LOCATION;VALUE=URI;X-ADDRESS=Tanztempel Ost Ulmer Str. 184 Stuttgart Baden Württemberg 70188 Deutschland;X-APPLE-RADIUS=500;X-TITLE=Ulmer Str. 184:geo:9.2146158,48.8001622
END:VEVENT
BEGIN:VEVENT
DTSTART;TZID=Europe/Helsinki:20200804T200000
DTEND;TZID=Europe/Helsinki:20200804T220000
DTSTAMP:20260423T073016
CREATED:20200222T133401Z
LAST-MODIFIED:20200729T110357Z
UID:10006349-1596571200-1596578400@amala-dance.com
SUMMARY:Wave after Wave
DESCRIPTION:TanzDiese Kurse sind eine Einladung die 5 Rhythmen™ kennen zu lernen\nund das Verständnis für die Rhythmen zu vertiefen.\nWir beginnen da wo wir sind. In der Balance zwischen freier Bewegung\nund Anleitung erforschen wir jeden der fünf Rhythmen: die Form\, die\nBewegung im Körper und im Raum\, die spezifische Energie\,\ndie der jeweilige Rhythmus in uns erweckt und wie wir diese Energie\nfür uns und in Gemeinschaft nutzen können. Jeder Abend fokussiert\nein Thema und führt durch eine vollständige Wave.\nWir folgen dem freien Fluss unserer Energie\,\nder Freude an Bewegung und geben uns die Freiheit\nuns auszudrücken. \n“Wave tanzen schafft eine heilsame\, kraftvolle\nund tiefe Verbindung zum eigenen Körper\,\nseiner Lebendigkeit\, und der Quelle des Lebens\,\ndem Spirit oder dem Sein.”  Amala \nAlle sind willkommen\, Anfänger\, erfahrene Tänzer/innen und Neugierige.\nDie fortlaufenden Kurse sind einzeln buchbar.\nAnmeldung: das erste Mal telefonisch auf AB\nMitzubringen: bequeme Kleidung\, Getränk\, rutschfeste Socken/ Tanzschuhe\nEinführung in die 5Rhythmen™ siehe unter Einführungskurse!\nTermine siehe Kalender \n\n 
URL:https://amala-dance.com/event/basic-skills-2-2-2-3-2-2-3-2-2-2-2-2-2/
LOCATION:Tanztempel Ost\, Ulmer Str. 184\, Stuttgart\, Baden Württemberg\, 70188\, Deutschland
CATEGORIES:5Rhythmen®,Classes,Einsteiger-Kurse,Wave after Wave,Wave-Angebot
ATTACH;FMTTYPE=image/jpeg:https://amala-dance.com/wp-content/uploads/2013/12/home21.jpg
ORGANIZER;CN="Amala P. Storm":MAILTO:amala@5rhythmen-stuttgart.de
GEO:48.8001622;9.2146158
X-APPLE-STRUCTURED-LOCATION;VALUE=URI;X-ADDRESS=Tanztempel Ost Ulmer Str. 184 Stuttgart Baden Württemberg 70188 Deutschland;X-APPLE-RADIUS=500;X-TITLE=Ulmer Str. 184:geo:9.2146158,48.8001622
END:VEVENT
BEGIN:VEVENT
DTSTART;TZID=Europe/Helsinki:20200630T200000
DTEND;TZID=Europe/Helsinki:20200630T220000
DTSTAMP:20260423T073016
CREATED:20200529T095330Z
LAST-MODIFIED:20200529T095330Z
UID:10006081-1593547200-1593554400@amala-dance.com
SUMMARY:Wave after Wave
DESCRIPTION:Hallo liebe Tänzer/innen\, \nIn Corona Zeiten  werden wir zu mehr Aufmerksamkeit und Geduld aufgefordert . Gesetzlich braucht es entsprechende Vorkehrungen.\nDa die Teilnehmerzahl begrenzt ist\, ist eine Anmeldung erforderlich und verbindlich. \nDas Anmeldeformular mit den entsprechenden Vorgaben findest du hier\, eine 2. Möglichkeit ist dieses Worddoc: KursanmeldungC\nBitte melde dich bis spätestens 2 Stunden vor Beginn amala@5rhythmen-stuttgart.de an.\n \nFalls es zeitlich knapp wird kannst du mich auch anrufen/ sms  unter 017661982060 und nachfragen ob es noch Platz gibt.\nIch freue mich wieder live mit dir zu tanzen  \n  \nDiese Kurse sind eine Einladung die 5 Rhythmen™ kennen zu lernen\nund das Verständnis für die Rhythmen zu vertiefen.\nWir beginnen da wo wir sind. In der Balance zwischen freier Bewegung\nund Anleitung erforschen wir jeden der fünf Rhythmen: die Form\, die\nBewegung im Körper und im Raum\, die spezifische Energie\,\ndie der jeweilige Rhythmus in uns erweckt und wie wir diese Energie\nfür uns und in Gemeinschaft nutzen können. Jeder Abend fokussiert\nein Thema und führt durch eine vollständige Wave.\nWir folgen dem freien Fluss unserer Energie\,\nder Freude an Bewegung und geben uns die Freiheit\nuns auszudrücken. \n  \n\n 
URL:https://amala-dance.com/event/basic-skills-2-2-2-3-2-2-3-3/
LOCATION:Tanztempel Ost\, Ulmer Str. 184\, Stuttgart\, Baden Württemberg\, 70188\, Deutschland
CATEGORIES:5Rhythmen®,Classes,Einsteiger-Kurse,Wave after Wave,Wave-Angebot
ATTACH;FMTTYPE=image/jpeg:https://amala-dance.com/wp-content/uploads/2013/12/home21.jpg
ORGANIZER;CN="Amala P. Storm":MAILTO:amala@5rhythmen-stuttgart.de
GEO:48.8001622;9.2146158
X-APPLE-STRUCTURED-LOCATION;VALUE=URI;X-ADDRESS=Tanztempel Ost Ulmer Str. 184 Stuttgart Baden Württemberg 70188 Deutschland;X-APPLE-RADIUS=500;X-TITLE=Ulmer Str. 184:geo:9.2146158,48.8001622
END:VEVENT
BEGIN:VEVENT
DTSTART;TZID=Europe/Helsinki:20200623T200000
DTEND;TZID=Europe/Helsinki:20200623T220000
DTSTAMP:20260423T073016
CREATED:20200529T095311Z
LAST-MODIFIED:20200529T095311Z
UID:10006079-1592942400-1592949600@amala-dance.com
SUMMARY:Wave after Wave
DESCRIPTION:Hallo liebe Tänzer/innen\, \nIn Corona Zeiten  werden wir zu mehr Aufmerksamkeit und Geduld aufgefordert . Gesetzlich braucht es entsprechende Vorkehrungen.\nDa die Teilnehmerzahl begrenzt ist\, ist eine Anmeldung erforderlich und verbindlich. \nDas Anmeldeformular mit den entsprechenden Vorgaben findest du hier\, eine 2. Möglichkeit ist dieses Worddoc: KursanmeldungC\nBitte melde dich bis spätestens 2 Stunden vor Beginn amala@5rhythmen-stuttgart.de an.\n \nFalls es zeitlich knapp wird kannst du mich auch anrufen/ sms  unter 017661982060 und nachfragen ob es noch Platz gibt.\nIch freue mich wieder live mit dir zu tanzen  \n  \nDiese Kurse sind eine Einladung die 5 Rhythmen™ kennen zu lernen\nund das Verständnis für die Rhythmen zu vertiefen.\nWir beginnen da wo wir sind. In der Balance zwischen freier Bewegung\nund Anleitung erforschen wir jeden der fünf Rhythmen: die Form\, die\nBewegung im Körper und im Raum\, die spezifische Energie\,\ndie der jeweilige Rhythmus in uns erweckt und wie wir diese Energie\nfür uns und in Gemeinschaft nutzen können. Jeder Abend fokussiert\nein Thema und führt durch eine vollständige Wave.\nWir folgen dem freien Fluss unserer Energie\,\nder Freude an Bewegung und geben uns die Freiheit\nuns auszudrücken. \n  \n\n 
URL:https://amala-dance.com/event/basic-skills-2-2-2-3-2-2-3/
LOCATION:Tanztempel Ost\, Ulmer Str. 184\, Stuttgart\, Baden Württemberg\, 70188\, Deutschland
CATEGORIES:5Rhythmen®,Classes,Einsteiger-Kurse,Wave after Wave,Wave-Angebot
ATTACH;FMTTYPE=image/jpeg:https://amala-dance.com/wp-content/uploads/2013/12/home21.jpg
ORGANIZER;CN="Amala P. Storm":MAILTO:amala@5rhythmen-stuttgart.de
GEO:48.8001622;9.2146158
X-APPLE-STRUCTURED-LOCATION;VALUE=URI;X-ADDRESS=Tanztempel Ost Ulmer Str. 184 Stuttgart Baden Württemberg 70188 Deutschland;X-APPLE-RADIUS=500;X-TITLE=Ulmer Str. 184:geo:9.2146158,48.8001622
END:VEVENT
BEGIN:VEVENT
DTSTART;TZID=Europe/Helsinki:20200620T193000
DTEND;TZID=Europe/Helsinki:20200620T213000
DTSTAMP:20260423T073016
CREATED:20200220T141718Z
LAST-MODIFIED:20200529T095942Z
UID:10006342-1592681400-1592688600@amala-dance.com
SUMMARY:Saturday Wave / 5Rhythmen in Cannstatt
DESCRIPTION:Hallo liebe Tänzer/innen\, \nIn Corona Zeiten  werden wir zu mehr Aufmerksamkeit und Geduld aufgefordert . Gesetzlich braucht es entsprechende Vorkehrungen.\nDa die Teilnehmerzahl begrenzt ist\, ist eine Anmeldung erforderlich und verbindlich. \nDas Anmeldeformular mit den entsprechenden Vorgaben findest du hier\, eine 2. Möglichkeit ist dieses Worddoc: KursanmeldungC\nBitte melde dich bis spätestens 2 Stunden vor Beginn amala@5rhythmen-stuttgart.de an.\n \nFalls es zeitlich knapp wird kannst du mich auch anrufen/ sms  unter 017661982060 und nachfragen ob es noch Platz gibt.\nIch freue mich wieder live mit dir zu tanzen  \n  \nThe fastest way to still the mind is to move the body\nDie 5 Rhythmen™ flowing\, staccato\, chaos\, lyrical und stillness sind eine Bewegungspraxis\, die in ihrer Abfolge getanzt eine Wave bilden.\nDer Samstagabend ist ein offener Übungsraum\, bei dem es nur wenig Anleitung gibt. \nTanze durch alles was dich bewegt mit Bewusstheit. Tanze alleine oder mit anderen und lasse dich von der Magie der Welle tragen. \nAlle sind willkommen\, Anfänger und erfahrene Tänzer/innen\, sofern sie sich an die Vorgaben halten. \nZeit: 19.30h – 21.30h Ort:  Tanzstudio Iris al Wardani\, Mercedesstr.9\, 70372 Stuttgart Bad Cannstatt \n\n 
URL:https://amala-dance.com/event/saturday-wave-5rhythmen-in-cannstatt-7-3-2-2-3/
LOCATION:Tanztempel Ost\, Ulmer Str. 184\, Stuttgart\, Baden Württemberg\, 70188\, Deutschland
CATEGORIES:5Rhythmen®,Abtanzen,Classes,Einsteiger-Kurse,Saturday Wave,Sweat your Prayers,Wave-Angebot
ATTACH;FMTTYPE=image/jpeg:https://amala-dance.com/wp-content/uploads/2013/12/saturday-wave.jpg
ORGANIZER;CN="Amala P. Storm":MAILTO:amala@5rhythmen-stuttgart.de
GEO:48.8001622;9.2146158
X-APPLE-STRUCTURED-LOCATION;VALUE=URI;X-ADDRESS=Tanztempel Ost Ulmer Str. 184 Stuttgart Baden Württemberg 70188 Deutschland;X-APPLE-RADIUS=500;X-TITLE=Ulmer Str. 184:geo:9.2146158,48.8001622
END:VEVENT
BEGIN:VEVENT
DTSTART;TZID=Europe/Helsinki:20200616T200000
DTEND;TZID=Europe/Helsinki:20200616T220000
DTSTAMP:20260423T073016
CREATED:20200529T095248Z
LAST-MODIFIED:20200529T095248Z
UID:10006077-1592337600-1592344800@amala-dance.com
SUMMARY:Wave after Wave
DESCRIPTION:Hallo liebe Tänzer/innen\, \nIn Corona Zeiten  werden wir zu mehr Aufmerksamkeit und Geduld aufgefordert . Gesetzlich braucht es entsprechende Vorkehrungen.\nDa die Teilnehmerzahl begrenzt ist\, ist eine Anmeldung erforderlich und verbindlich. \nDas Anmeldeformular mit den entsprechenden Vorgaben findest du hier\, eine 2. Möglichkeit ist dieses Worddoc: KursanmeldungC\nBitte melde dich bis spätestens 2 Stunden vor Beginn amala@5rhythmen-stuttgart.de an.\n \nFalls es zeitlich knapp wird kannst du mich auch anrufen/ sms  unter 017661982060 und nachfragen ob es noch Platz gibt.\nIch freue mich wieder live mit dir zu tanzen  \n  \nDiese Kurse sind eine Einladung die 5 Rhythmen™ kennen zu lernen\nund das Verständnis für die Rhythmen zu vertiefen.\nWir beginnen da wo wir sind. In der Balance zwischen freier Bewegung\nund Anleitung erforschen wir jeden der fünf Rhythmen: die Form\, die\nBewegung im Körper und im Raum\, die spezifische Energie\,\ndie der jeweilige Rhythmus in uns erweckt und wie wir diese Energie\nfür uns und in Gemeinschaft nutzen können. Jeder Abend fokussiert\nein Thema und führt durch eine vollständige Wave.\nWir folgen dem freien Fluss unserer Energie\,\nder Freude an Bewegung und geben uns die Freiheit\nuns auszudrücken. \n  \n\n 
URL:https://amala-dance.com/event/basic-skills-2-2-2-3-2-2/
LOCATION:Tanztempel Ost\, Ulmer Str. 184\, Stuttgart\, Baden Württemberg\, 70188\, Deutschland
CATEGORIES:5Rhythmen®,Classes,Einsteiger-Kurse,Wave after Wave,Wave-Angebot
ATTACH;FMTTYPE=image/jpeg:https://amala-dance.com/wp-content/uploads/2013/12/home21.jpg
ORGANIZER;CN="Amala P. Storm":MAILTO:amala@5rhythmen-stuttgart.de
GEO:48.8001622;9.2146158
X-APPLE-STRUCTURED-LOCATION;VALUE=URI;X-ADDRESS=Tanztempel Ost Ulmer Str. 184 Stuttgart Baden Württemberg 70188 Deutschland;X-APPLE-RADIUS=500;X-TITLE=Ulmer Str. 184:geo:9.2146158,48.8001622
END:VEVENT
BEGIN:VEVENT
DTSTART;TZID=Atlantic/Azores:20200301T110000
DTEND;TZID=Atlantic/Azores:20200301T180000
DTSTAMP:20260423T073016
CREATED:20191212T170138Z
LAST-MODIFIED:20200220T140318Z
UID:10006067-1583060400-1583085600@amala-dance.com
SUMMARY:Re_Connecting with Myself / fällt aus !!!!
DESCRIPTION:ein Tag für dich – Open Floor & Individuelle Session\nDieser Kurs ist eine Einladung deine Tanzpraxis zu vertiefen und mit deinen ganz persönlichen Anliegen da zu sein.\nGemeinsam bewegen wir was fest steckt\, auf den Weg gebracht werden will  und lebendig sein möchte. \nDabei nutzen wir die Ressourcen der Open Floor Praxis und die Einzelarbeit von Therapie in Motion. \nIn der unterstützenden Gemeinschaft der Gruppe können innere Prozesse geschehen\, die dir die nächste Bewegung zeigen.\nEs entsteht eine neue Wahlfreiheit und ein tiefes einverstanden sein\, wenn du so mit dir in Kontakt bist. \nWährend dieser Zeit haben 2 Tänzer die Möglichkeit einzeln mit mir zu arbeiten.\nTherapie in Motion \n“My deep longing in life ist o be present with anything that meets me.” \nOffener Abend Samstag 19. Oktober 19.30h -22.00h Intro Therapy in Motion & Wave\nTanztag Sonntag 1.März  11-18h \nAnmeldeformular anfordernde bei openfloor@amala-dance.com\nVorraussetzung 20h Conscious Dance Praxis;
URL:https://amala-dance.com/event/reconnecting-4/
LOCATION:Tanztempel Ost\, Ulmer Str. 184\, Stuttgart\, Baden Württemberg\, 70188\, Deutschland
CATEGORIES:Open Floor,OpenFloor-Workshops
ATTACH;FMTTYPE=image/jpeg:https://amala-dance.com/wp-content/uploads/2017/12/B2K0655-Kopie.jpg
ORGANIZER;CN="Amala Storm":MAILTO:openfloor@amala-dance.com
GEO:48.8001622;9.2146158
X-APPLE-STRUCTURED-LOCATION;VALUE=URI;X-ADDRESS=Tanztempel Ost Ulmer Str. 184 Stuttgart Baden Württemberg 70188 Deutschland;X-APPLE-RADIUS=500;X-TITLE=Ulmer Str. 184:geo:9.2146158,48.8001622
END:VEVENT
END:VCALENDAR