BEGIN:VCALENDAR
VERSION:2.0
PRODID:-//Amala - Body  Soul  Dance - ECPv6.7.0//NONSGML v1.0//EN
CALSCALE:GREGORIAN
METHOD:PUBLISH
X-ORIGINAL-URL:https://amala-dance.com
X-WR-CALDESC:Veranstaltungen für Amala - Body  Soul  Dance
REFRESH-INTERVAL;VALUE=DURATION:PT1H
X-Robots-Tag:noindex
X-PUBLISHED-TTL:PT1H
BEGIN:VTIMEZONE
TZID:Europe/Berlin
BEGIN:DAYLIGHT
TZOFFSETFROM:+0100
TZOFFSETTO:+0200
TZNAME:CEST
DTSTART:20160327T010000
END:DAYLIGHT
BEGIN:STANDARD
TZOFFSETFROM:+0200
TZOFFSETTO:+0100
TZNAME:CET
DTSTART:20161030T010000
END:STANDARD
BEGIN:DAYLIGHT
TZOFFSETFROM:+0100
TZOFFSETTO:+0200
TZNAME:CEST
DTSTART:20170326T010000
END:DAYLIGHT
BEGIN:STANDARD
TZOFFSETFROM:+0200
TZOFFSETTO:+0100
TZNAME:CET
DTSTART:20171029T010000
END:STANDARD
END:VTIMEZONE
BEGIN:VEVENT
DTSTART;TZID=Europe/Berlin:20171105T110000
DTEND;TZID=Europe/Berlin:20171105T180000
DTSTAMP:20260422T125104
CREATED:20130829T153506Z
LAST-MODIFIED:20170817T065613Z
UID:10005870-1509879600-1509904800@amala-dance.com
SUMMARY:Selbstfürsorge / Self Care
DESCRIPTION:ein 5Rhythmen® Workshop für Anfänger – und fortgeschrittene Tänzer/innen \n\n    Haben wir ein Gespür dafür\, was uns gut tut?\n    Kümmere ich mich um das was ich brauche\, körperlich\, emotional\, spirituell\, im Umgang mit anderen und mit mir selbst?\n    Was sind meine stärksten inneren Saboteure?\n\nSelbstfürsorge ist ein Ausdruck dafür\, dass wir mit uns selbst Freundschaft schließen.\nNur dem\, was uns wichtig und wert ist\, lassen wir Fürsorge zukommen. \nOftmals jedoch ist alles andere wichtig\, wir veräußern uns\, oder stecken in widersprüchlichen Gefühlen fest\, die Arbeit muss getan werden und gleichzeitig brauchen wir Entspannung.\nDas benötigt von dir einen umsichtigen\, ausbalancierten Kontakt zu dir selbst. Manche von uns sind gewohnt den fürsorglichen Anteil eher nach außen zu leben\, und es ist Zeit die Aufmerksamkeit zurück auf das Selbst zu richten. \nIm Kurs nutzen wir die Magie des Tanzes\, um uns selbst im Körper wieder besser wahrzunehmen. Der Körper hat seine eigene Sprache und Wahrhaftigkeit\, der wir achtsam folgen lernen. \nWir bewegen uns durch die Rhythmen als Energiefelder des Alltags\, die uns zeigen\, was es bedeutet fürsorglich zu sein. Braucht die Situation Flowing oder ist Staccato fürsorglich? Geht es ums Loslassen oder um Erleichterung? \nWir üben die Kunst aktiv\, durch die Bewegung mehr Gestaltungsspielraum zu erfahren und erlangen dadurch mehr Zufriedenheit. \n„Lass uns das Leben so gestalten\,\n dass wir es lieben können.“\nSabine Lichtenfels \nMitzubringen: Schreibzeug\, Essen zum Teilen\nAnmeldung: Oliver Common; deepdance@gmx.net; 08924290392 \n 
URL:https://amala-dance.com/event/self-care/
LOCATION:Lachdach\, Steinerstr. 5-9\, München\, Bayern\, Deutschland
CATEGORIES:5Rhythmen®,Workshops
ATTACH;FMTTYPE=image/jpeg:https://amala-dance.com/wp-content/uploads/2014/07/selflove-14.jpg
ORGANIZER;CN="Amala P. Storm":MAILTO:amala@5rhythmen-stuttgart.de
GEO:48.1447;11.45413
X-APPLE-STRUCTURED-LOCATION;VALUE=URI;X-ADDRESS=Lachdach Steinerstr. 5-9 München Bayern Deutschland;X-APPLE-RADIUS=500;X-TITLE=Steinerstr. 5-9:geo:11.45413,48.1447
END:VEVENT
BEGIN:VEVENT
DTSTART;TZID=Europe/Berlin:20160514T193000
DTEND;TZID=Europe/Berlin:20160514T220000
DTSTAMP:20260422T125104
CREATED:20160504T151518Z
LAST-MODIFIED:20160504T151714Z
UID:10006196-1463254200-1463263200@amala-dance.com
SUMMARY:5Rhythmen Wave in München
DESCRIPTION:
URL:https://amala-dance.com/event/5rhythmen-wave-in-muenchen/
LOCATION:Lachdach\, Steinerstr. 5-9\, München\, Bayern\, Deutschland
ORGANIZER;CN="Amala P. Storm":MAILTO:amala@5rhythmen-stuttgart.de
GEO:48.1447;11.45413
X-APPLE-STRUCTURED-LOCATION;VALUE=URI;X-ADDRESS=Lachdach Steinerstr. 5-9 München Bayern Deutschland;X-APPLE-RADIUS=500;X-TITLE=Steinerstr. 5-9:geo:11.45413,48.1447
END:VEVENT
END:VCALENDAR