BEGIN:VCALENDAR
VERSION:2.0
PRODID:-//Amala - Body  Soul  Dance - ECPv6.7.0//NONSGML v1.0//EN
CALSCALE:GREGORIAN
METHOD:PUBLISH
X-WR-CALNAME:Amala - Body  Soul  Dance
X-ORIGINAL-URL:https://amala-dance.com
X-WR-CALDESC:Veranstaltungen für Amala - Body  Soul  Dance
REFRESH-INTERVAL;VALUE=DURATION:PT1H
X-Robots-Tag:noindex
X-PUBLISHED-TTL:PT1H
BEGIN:VTIMEZONE
TZID:Europe/Helsinki
BEGIN:DAYLIGHT
TZOFFSETFROM:+0200
TZOFFSETTO:+0300
TZNAME:EEST
DTSTART:20250330T010000
END:DAYLIGHT
BEGIN:STANDARD
TZOFFSETFROM:+0300
TZOFFSETTO:+0200
TZNAME:EET
DTSTART:20251026T010000
END:STANDARD
END:VTIMEZONE
BEGIN:VEVENT
DTSTART;TZID=Europe/Helsinki:20251014T200000
DTEND;TZID=Europe/Helsinki:20251014T220000
DTSTAMP:20260423T191755
CREATED:20250724T140204Z
LAST-MODIFIED:20250724T140204Z
UID:10006618-1760472000-1760479200@amala-dance.com
SUMMARY:Wave after Wave  / offene Gruppe
DESCRIPTION:Jeder Körper\, jeder Mensch und jede Bewegungspraxis hat seine ganz eigenen Sprache.\nIn diesem Kurs widmen wir und der Vielfalt und der Essenz der 5Rhythmen Tanzwelt von G. Roth\nDu musst keine Schritte lernen\, erfährst aber die unterschiedlichen Qualititäten und Gateways in den jeweiligen Rhythmen \nDiese Kurse sind eine Einladung die 5 Rhythmen™ kennen zu lernen\nund das Verständnis für die Rhythmen zu vertiefen.\nWir beginnen da wo wir sind. In der Balance zwischen freier Bewegung\nund Anleitung erforschen wir jeden der fünf Rhythmen: die Form\, die\nBewegung im Körper und im Raum\, die spezifische Energie\,\ndie der jeweilige Rhythmus in uns erweckt und wie wir diese Energie\nfür uns und in Gemeinschaft nutzen können. Jeder Abend fokussiert\nein Thema und führt durch eine vollständige Wave.\nWir folgen dem freien Fluss unserer Energie\,\nder Freude an Bewegung und geben uns die Freiheit\nuns auszudrücken. \n“Wave tanzen schafft eine heilsame\, kraftvolle\nund tiefe Verbindung zum eigenen Körper\,\nseiner Lebendigkeit\, und der Quelle des Lebens\,\ndem Spirit oder dem Sein.”  Amala \nAlle sind willkommen\, Anfänger\, erfahrene Tänzer/innen und Neugierige.\nDie fortlaufenden Kurse sind einzeln buchbar.\nAnmeldung: das erste Mal telefonisch auf AB\nMitzubringen: bequeme Kleidung\, Getränk\, rutschfeste Socken/ Tanzschuhe \nTermine siehe auch Kalender \n\n 
URL:https://amala-dance.com/event/wave-after-wave-3/2025-10-14/
LOCATION:Sängerschaft Schwaben\, Am Kriegsbergturm 37\, Stuttgart\, Baden Württemberg\, 70192\, Deutschland
CATEGORIES:5Rhythmen®,Classes,Einsteiger-Kurse,Wave after Wave,Wave-Angebot
ATTACH;FMTTYPE=image/jpeg:https://amala-dance.com/wp-content/uploads/2013/12/home21.jpg
ORGANIZER;CN="Amala P. Storm":MAILTO:amala@5rhythmen-stuttgart.de
END:VEVENT
BEGIN:VEVENT
DTSTART;TZID=Europe/Helsinki:20251015T194500
DTEND;TZID=Europe/Helsinki:20251015T213000
DTSTAMP:20260423T191755
CREATED:20250805T143724Z
LAST-MODIFIED:20250805T143724Z
UID:10006628-1760557500-1760563800@amala-dance.com
SUMMARY:5Rhythmen / Dance Tribe München
DESCRIPTION:Die 5 Rhythmen® sind eine Bewegungsmeditation. Durch das bewusste Tanzen der aufeinanderfolgenden Rhythmen (Flowing Staccato Chaos Lyrical Stillness®) werden Energien freigesetzt und Blockaden in Fluss gebracht. \nWir tanzen barfuß. Bring Dir ausreichend Wasser zum Trinken und bequeme Tanzkleidung mit. \nDie Veranstaltungen sind offen für alle\, die Interesse an Tanz und Bewegung haben – unabhängig davon\, ob sie DTM-Vereinsmitglieder sind oder nicht. Ermäßigungsmöglichkeiten an der Kasse erfragen. \n\n” Seit mehr als 14 Jahren gebe ich die Sweat your Prayers Abende in München und freue mich diese Abende in der gewachsenen Gemeinschaft der Tänzer/innen zu gestalten. ” Amala
URL:https://amala-dance.com/event/5rhythmen-dance-tribe-muenchen-15/
LOCATION:München Agilolfingerplatz 1\, Agilolfingerpl. 1\, München\, Bayern\, 81543\, Deutschland
CATEGORIES:5Rhythmen®,Wave-Angebot
ATTACH;FMTTYPE=image/jpeg:https://amala-dance.com/wp-content/uploads/2016/07/IMG_2592-Kopie1.jpg
GEO:48.11511;11.56572
X-APPLE-STRUCTURED-LOCATION;VALUE=URI;X-ADDRESS=München Agilolfingerplatz 1 Agilolfingerpl. 1 München Bayern 81543 Deutschland;X-APPLE-RADIUS=500;X-TITLE=Agilolfingerpl. 1:geo:11.56572,48.11511
END:VEVENT
END:VCALENDAR