BEGIN:VCALENDAR
VERSION:2.0
PRODID:-//Amala - Body  Soul  Dance - ECPv6.7.0//NONSGML v1.0//EN
CALSCALE:GREGORIAN
METHOD:PUBLISH
X-WR-CALNAME:Amala - Body  Soul  Dance
X-ORIGINAL-URL:https://amala-dance.com
X-WR-CALDESC:Veranstaltungen für Amala - Body  Soul  Dance
REFRESH-INTERVAL;VALUE=DURATION:PT1H
X-Robots-Tag:noindex
X-PUBLISHED-TTL:PT1H
BEGIN:VTIMEZONE
TZID:Europe/Helsinki
BEGIN:DAYLIGHT
TZOFFSETFROM:+0200
TZOFFSETTO:+0300
TZNAME:EEST
DTSTART:20240331T010000
END:DAYLIGHT
BEGIN:STANDARD
TZOFFSETFROM:+0300
TZOFFSETTO:+0200
TZNAME:EET
DTSTART:20241027T010000
END:STANDARD
END:VTIMEZONE
BEGIN:VEVENT
DTSTART;TZID=Europe/Helsinki:20241119T200000
DTEND;TZID=Europe/Helsinki:20241119T220000
DTSTAMP:20260425T125700
CREATED:20240820T075828Z
LAST-MODIFIED:20240820T080347Z
UID:10006193-1732046400-1732053600@amala-dance.com
SUMMARY:Diving Deeper / Breathing Heart  / geschlossene Gruppe
DESCRIPTION:5Rhythmen Diving Deeper Reihe im November \nDer Tages bzw. Halbtagesworkshop  Breathing Heart Part I am 1.November ist die Einführung zur Teilnahme in der nachfolgenden Diving Deeper Dienstags-Wave 5. / 12. / 19.11.\nAusnahme langjährige Tänzer*innen meiner Kurse und mit Erfahrung in Concisous Dance. \nDein Atem hält dich am Leben\, er verbindet dich mit dir selbst in vielfältiger Weise und auf vielen Ebenen .\nDu atmest ein\, du atmest aus – du nimmst und du gibst\, du spürst dich selbst intensiver\, deutlicher im Rhythmus der Einfachheit.\nDein Atem aktiviert deine Energie\, dein Potential\, deine Lebendigkeit.\nEr erlaubt dir tiefer loszulassen und dich hinzugeben.\n\nWir kultivieren unser Kapazitäten durch bewusstes atmen und tanzen\, unser Herz zu befreien und Raum zu schaffen\,  für alles was da ist.\nWir üben unsere Lebendigkeit in jedem noch so kleinen Moment zu spüren.\n\nAtem ist Leben und Lust\, Heilig und Profan. Let`s Breathe \n\nTermine : 3 Abende 05. / 12. / 19.11.2024 \nDer Kurs kann nur als Gesamtpaket gebucht werden ! Mindestteilnehmerzahl 15 \nKosten: 3 Abende 70\,- Euro / 3 Abende plus 1/2 Tag Breathing Heart 120.- / \nAnmeldeformular anfordern bei 5Rhythmen@amala-dance.com \n  \n\n 
URL:https://amala-dance.com/event/dd-herbst-24/2024-11-19/
LOCATION:Sängerschaft Schwaben\, Am Kriegsbergturm 37\, Stuttgart\, Baden Württemberg\, 70192\, Deutschland
CATEGORIES:Open Floor,OpenFloor-Classes
ATTACH;FMTTYPE=image/jpeg:https://amala-dance.com/wp-content/uploads/2024/08/AMALA_02.jpeg
ORGANIZER;CN="Amala Storm":MAILTO:openfloor@amala-dance.com
END:VEVENT
END:VCALENDAR