BEGIN:VCALENDAR
VERSION:2.0
PRODID:-//Amala - Body  Soul  Dance - ECPv6.7.0//NONSGML v1.0//EN
CALSCALE:GREGORIAN
METHOD:PUBLISH
X-ORIGINAL-URL:https://amala-dance.com
X-WR-CALDESC:Veranstaltungen für Amala - Body  Soul  Dance
REFRESH-INTERVAL;VALUE=DURATION:PT1H
X-Robots-Tag:noindex
X-PUBLISHED-TTL:PT1H
BEGIN:VTIMEZONE
TZID:Europe/Helsinki
BEGIN:DAYLIGHT
TZOFFSETFROM:+0200
TZOFFSETTO:+0300
TZNAME:EEST
DTSTART:20240331T010000
END:DAYLIGHT
BEGIN:STANDARD
TZOFFSETFROM:+0300
TZOFFSETTO:+0200
TZNAME:EET
DTSTART:20241027T010000
END:STANDARD
END:VTIMEZONE
BEGIN:VEVENT
DTSTART;TZID=Europe/Helsinki:20240924T200000
DTEND;TZID=Europe/Helsinki:20240924T220000
DTSTAMP:20260424T155232
CREATED:20240819T092315Z
LAST-MODIFIED:20241025T194726Z
UID:10006478-1727208000-1727215200@amala-dance.com
SUMMARY:Wave after Wave  / Basics
DESCRIPTION:Diese Kurse sind eine Einladung die 5 Rhythmen™ kennen zu lernen\nund das Verständnis für die Rhythmen zu vertiefen.\nWir beginnen da wo wir sind. In der Balance zwischen freier Bewegung\nund Anleitung erforschen wir jeden der fünf Rhythmen: die Form\, die\nBewegung im Körper und im Raum\, die spezifische Energie\,\ndie der jeweilige Rhythmus in uns erweckt und wie wir diese Energie\nfür uns und in Gemeinschaft nutzen können. Jeder Abend fokussiert\nein Thema und führt durch eine vollständige Wave.\nWir folgen dem freien Fluss unserer Energie\,\nder Freude an Bewegung und geben uns die Freiheit\nuns auszudrücken. \nBASICS – im Basiskurs lernen wir die Grundelemente jedes Rhythmus kennen\, wir erlernen und erleben eine neue Bewegungsprache.\nJeder Rhythmus lädt dich in ein\, dich selbst und deine Art in der Welt zu sein und mit ihr umzugehen zu erkennen.\nWir üben Fluss\, Kontinuum\, Präsenz\, Kraft\, Loslassen\, Befreiung\, Mühelosigkeit und Stille.\nIn jedem Kurs wir die komplette Wave durchtanzt\, während wir dem roten Faden der fokussierten Qualität folgen. \n24.09. Flowing / 1.10. Staccato / 8.10. Chaos / 15.10. Lyrica / 22.10. Stillness / 29.10. all together \nEinführungen finden am 14. und 17. September statt \n6 Abende – Kosten einzel 20\,- / Kosten gesamt 108\,- Empfehlung für Anfänger*innen zahlbar in bar am 1. Abend \n“Wave tanzen schafft eine heilsame\, kraftvolle\nund tiefe Verbindung zum eigenen Körper\,\nseiner Lebendigkeit\, und der Quelle des Lebens\,\ndem Spirit oder dem Sein.”  Amala \nAlle sind willkommen\, Anfänger\, erfahrene Tänzer/innen und Neugierige.\nDie fortlaufenden Kurse sind einzeln buchbar.\nAnmeldung: das erste Mal telefonisch auf AB\nMitzubringen: bequeme Kleidung\, Getränk\, rutschfeste Socken/ Tanzschuhe \nTermine siehe auch Kalender \n\n 
URL:https://amala-dance.com/event/basics-2/2024-09-24/
LOCATION:Sängerschaft Schwaben\, Am Kriegsbergturm 37\, Stuttgart\, Baden Württemberg\, 70192\, Deutschland
CATEGORIES:5Rhythmen®,Classes,Einsteiger-Kurse,Wave after Wave,Wave-Angebot
ATTACH;FMTTYPE=image/jpeg:https://amala-dance.com/wp-content/uploads/2013/12/home21.jpg
ORGANIZER;CN="Amala P. Storm":MAILTO:amala@5rhythmen-stuttgart.de
END:VEVENT
END:VCALENDAR