BEGIN:VCALENDAR
VERSION:2.0
PRODID:-//Amala - Body  Soul  Dance - ECPv6.7.0//NONSGML v1.0//EN
CALSCALE:GREGORIAN
METHOD:PUBLISH
X-ORIGINAL-URL:https://amala-dance.com
X-WR-CALDESC:Veranstaltungen für Amala - Body  Soul  Dance
REFRESH-INTERVAL;VALUE=DURATION:PT1H
X-Robots-Tag:noindex
X-PUBLISHED-TTL:PT1H
BEGIN:VTIMEZONE
TZID:Europe/Helsinki
BEGIN:DAYLIGHT
TZOFFSETFROM:+0200
TZOFFSETTO:+0300
TZNAME:EEST
DTSTART:20240331T010000
END:DAYLIGHT
BEGIN:STANDARD
TZOFFSETFROM:+0300
TZOFFSETTO:+0200
TZNAME:EET
DTSTART:20241027T010000
END:STANDARD
END:VTIMEZONE
BEGIN:VEVENT
DTSTART;TZID=Europe/Helsinki:20240917T200000
DTEND;TZID=Europe/Helsinki:20240917T220000
DTSTAMP:20260424T155227
CREATED:20231211T105510Z
LAST-MODIFIED:20240819T090418Z
UID:10006178-1726603200-1726610400@amala-dance.com
SUMMARY:Wave after Wave / start new\, start again\, start now
DESCRIPTION:Diese Kurse sind eine Einladung die 5 Rhythmen™ kennen zu lernen\nund das Verständnis für die Rhythmen zu vertiefen.\nWir beginnen da wo wir sind. In der Balance zwischen freier Bewegung\nund Anleitung erforschen wir jeden der fünf Rhythmen: die Form\, die\nBewegung im Körper und im Raum\, die spezifische Energie\,\ndie der jeweilige Rhythmus in uns erweckt und wie wir diese Energie\nfür uns und in Gemeinschaft nutzen können. Jeder Abend fokussiert\nein Thema und führt durch eine vollständige Wave.\nWir folgen dem freien Fluss unserer Energie\,\nder Freude an Bewegung und geben uns die Freiheit\nuns auszudrücken. \n“Wave tanzen schafft eine heilsame\, kraftvolle\nund tiefe Verbindung zum eigenen Körper\,\nseiner Lebendigkeit\, und der Quelle des Lebens\,\ndem Spirit oder dem Sein.”  Amala \nAlle sind willkommen\, Anfänger\, erfahrene Tänzer/innen und Neugierige.\nDie fortlaufenden Kurse sind einzeln buchbar.\nAnmeldung: das erste Mal telefonisch auf AB\nMitzubringen: bequeme Kleidung\, Getränk\, rutschfeste Socken/ Tanzschuhe \nKosten 20.- ( Barzahlung ) \n\n 
URL:https://amala-dance.com/event/herbst-wave-1/
LOCATION:Sängerschaft Schwaben\, Am Kriegsbergturm 37\, Stuttgart\, Baden Württemberg\, 70192\, Deutschland
CATEGORIES:5Rhythmen®,Classes,Einsteiger-Kurse,Wave after Wave,Wave-Angebot
ATTACH;FMTTYPE=image/jpeg:https://amala-dance.com/wp-content/uploads/2013/12/home21.jpg
ORGANIZER;CN="Amala P. Storm":MAILTO:amala@5rhythmen-stuttgart.de
END:VEVENT
BEGIN:VEVENT
DTSTART;TZID=Europe/Helsinki:20240918T194500
DTEND;TZID=Europe/Helsinki:20240918T213000
DTSTAMP:20260424T155228
CREATED:20240820T082045Z
LAST-MODIFIED:20240820T082045Z
UID:10006195-1726688700-1726695000@amala-dance.com
SUMMARY:5Rhythmen / Dance Tribe München
DESCRIPTION:Die 5 Rhythmen® sind eine Bewegungsmeditation. Durch das bewusste Tanzen der aufeinanderfolgenden Rhythmen (Flowing Staccato Chaos Lyrical Stillness®) werden Energien freigesetzt und Blockaden in Fluss gebracht. \nWir tanzen barfuß. Bring Dir ausreichend Wasser zum Trinken und bequeme Tanzkleidung mit. \nDie Veranstaltungen sind offen für alle\, die Interesse an Tanz und Bewegung haben – unabhängig davon\, ob sie DTM-Vereinsmitglieder sind oder nicht. Ermäßigungsmöglichkeiten an der Kasse erfragen. \n\n” Seit mehr als 14 Jahren gebe ich die Sweat your Prayers Abende in München und freue mich diese Abende in der gewachsenen Gemeinschaft der Tänzer/innen zu gestalten. ” Amala
URL:https://amala-dance.com/event/dance-tribe-24/
LOCATION:München Agilolfingerplatz 1\, Agilolfingerpl. 1\, München\, Bayern\, 81543\, Deutschland
CATEGORIES:5Rhythmen®,Wave-Angebot
ATTACH;FMTTYPE=image/jpeg:https://amala-dance.com/wp-content/uploads/2016/07/IMG_2592-Kopie1.jpg
GEO:48.11511;11.56572
X-APPLE-STRUCTURED-LOCATION;VALUE=URI;X-ADDRESS=München Agilolfingerplatz 1 Agilolfingerpl. 1 München Bayern 81543 Deutschland;X-APPLE-RADIUS=500;X-TITLE=Agilolfingerpl. 1:geo:11.56572,48.11511
END:VEVENT
END:VCALENDAR