BEGIN:VCALENDAR
VERSION:2.0
PRODID:-//Amala - Body  Soul  Dance - ECPv6.7.0//NONSGML v1.0//EN
CALSCALE:GREGORIAN
METHOD:PUBLISH
X-WR-CALNAME:Amala - Body  Soul  Dance
X-ORIGINAL-URL:https://amala-dance.com
X-WR-CALDESC:Veranstaltungen für Amala - Body  Soul  Dance
REFRESH-INTERVAL;VALUE=DURATION:PT1H
X-Robots-Tag:noindex
X-PUBLISHED-TTL:PT1H
BEGIN:VTIMEZONE
TZID:Europe/Berlin
BEGIN:DAYLIGHT
TZOFFSETFROM:+0100
TZOFFSETTO:+0200
TZNAME:CEST
DTSTART:20240331T010000
END:DAYLIGHT
BEGIN:STANDARD
TZOFFSETFROM:+0200
TZOFFSETTO:+0100
TZNAME:CET
DTSTART:20241027T010000
END:STANDARD
END:VTIMEZONE
BEGIN:VEVENT
DTSTART;TZID=Europe/Berlin:20240723T200000
DTEND;TZID=Europe/Berlin:20240723T220000
DTSTAMP:20260425T140801
CREATED:20231220T165827Z
LAST-MODIFIED:20231220T165827Z
UID:10006468-1721764800-1721772000@amala-dance.com
SUMMARY:Sweat your Prayers
DESCRIPTION:Dieser 5Rhythmen Abend ist eine Einladung deine Gebete zu schwitzen. Nutze die Tanzfläche um alles zu durchtanzen\, was erlöst\, entspannt\, aktiviert und befreit werden möchte. \nFolge deinem Körper durch 2 Waves mit wenig Anleitung und freier Bewegung. Die Gemeinschaft der Tänzer*innen begleitet und inspiriert dich . \nAnfänger bitte ab 19.45h für eine Kurzeinführung da sein. \nAlle sind willkommen\, offene Gruppe\, einzel buchbar 20\,-
URL:https://amala-dance.com/event/sweat-your-prayers-1-2-2-2/
LOCATION:Sängerschaft Schwaben\, Am Kriegsbergturm 37\, Stuttgart\, Baden Württemberg\, 70192\, Deutschland
ATTACH;FMTTYPE=image/jpeg:https://amala-dance.com/wp-content/uploads/2017/08/sweat.jpg
ORGANIZER;CN="Amala P. Storm":MAILTO:amala@5rhythmen-stuttgart.de
END:VEVENT
END:VCALENDAR