BEGIN:VCALENDAR
VERSION:2.0
PRODID:-//Amala - Body  Soul  Dance - ECPv6.7.0//NONSGML v1.0//EN
CALSCALE:GREGORIAN
METHOD:PUBLISH
X-WR-CALNAME:Amala - Body  Soul  Dance
X-ORIGINAL-URL:https://amala-dance.com
X-WR-CALDESC:Veranstaltungen für Amala - Body  Soul  Dance
REFRESH-INTERVAL;VALUE=DURATION:PT1H
X-Robots-Tag:noindex
X-PUBLISHED-TTL:PT1H
BEGIN:VTIMEZONE
TZID:Europe/Helsinki
BEGIN:DAYLIGHT
TZOFFSETFROM:+0200
TZOFFSETTO:+0300
TZNAME:EEST
DTSTART:20240331T010000
END:DAYLIGHT
BEGIN:STANDARD
TZOFFSETFROM:+0300
TZOFFSETTO:+0200
TZNAME:EET
DTSTART:20241027T010000
END:STANDARD
TZID:Europe/Berlin
BEGIN:DAYLIGHT
TZOFFSETFROM:+0100
TZOFFSETTO:+0200
TZNAME:CEST
DTSTART:20240331T010000
END:DAYLIGHT
BEGIN:STANDARD
TZOFFSETFROM:+0200
TZOFFSETTO:+0100
TZNAME:CET
DTSTART:20241027T010000
END:STANDARD
END:VTIMEZONE
BEGIN:VEVENT
DTSTART;TZID=Europe/Helsinki:20240528T200000
DTEND;TZID=Europe/Helsinki:20240528T220000
DTSTAMP:20260425T182813
CREATED:20231211T110134Z
LAST-MODIFIED:20240408T174718Z
UID:10006181-1716926400-1716933600@amala-dance.com
SUMMARY:Wave after Wave
DESCRIPTION:Dieser Kurs richtet sich auf uns aus . Lyrical ist unser Bedürfnis nach Weite\, Öffnung und Leichtigkeit.\nJe nachdem ob das Wetter im April stimmig ist findet der Kurs unter diesem Motto statt . \nDiese Kurse sind eine Einladung die 5 Rhythmen™ kennen zu lernen\nund das Verständnis für die Rhythmen zu vertiefen.\nWir beginnen da wo wir sind. In der Balance zwischen freier Bewegung\nund Anleitung erforschen wir jeden der fünf Rhythmen: die Form\, die\nBewegung im Körper und im Raum\, die spezifische Energie\,\ndie der jeweilige Rhythmus in uns erweckt und wie wir diese Energie\nfür uns und in Gemeinschaft nutzen können. Jeder Abend fokussiert\nein Thema und führt durch eine vollständige Wave.\nWir folgen dem freien Fluss unserer Energie\,\nder Freude an Bewegung und geben uns die Freiheit\nuns auszudrücken. \n“Wave tanzen schafft eine heilsame\, kraftvolle\nund tiefe Verbindung zum eigenen Körper\,\nseiner Lebendigkeit\, und der Quelle des Lebens\,\ndem Spirit oder dem Sein.”  Amala \nAlle sind willkommen\, Anfänger\, erfahrene Tänzer/innen und Neugierige.\nDie fortlaufenden Kurse sind einzeln buchbar.\nAnmeldung: das erste Mal telefonisch auf AB\nMitzubringen: bequeme Kleidung\, Getränk\, rutschfeste Socken/ Tanzschuhe\nEinführung in die 5Rhythmen™ siehe unter Einführungskurse!\nTermine siehe Kalender \n\n 
URL:https://amala-dance.com/event/24-1-3-2-2/2024-05-28/
LOCATION:Sängerschaft Schwaben\, Am Kriegsbergturm 37\, Stuttgart\, Baden Württemberg\, 70192\, Deutschland
CATEGORIES:5Rhythmen®,Classes,Einsteiger-Kurse,Wave after Wave,Wave-Angebot
ATTACH;FMTTYPE=image/jpeg:https://amala-dance.com/wp-content/uploads/2013/12/home21.jpg
ORGANIZER;CN="Amala P. Storm":MAILTO:amala@5rhythmen-stuttgart.de
END:VEVENT
BEGIN:VEVENT
DTSTART;TZID=Europe/Berlin:20240601T143000
DTEND;TZID=Europe/Berlin:20240601T183000
DTSTAMP:20260425T182813
CREATED:20240104T113227Z
LAST-MODIFIED:20240104T113449Z
UID:10006473-1717252200-1717266600@amala-dance.com
SUMMARY:Dive in / Dive deeper: Love & Light / 5Rhythmen Mini Workshop
DESCRIPTION:NEW – NEW – NEW –  Mini Workshop am Samstagnachmittag – 3 Retreats \nCenter & Ground – 3. Februar \nPower & Passion –  6. April \nLove & Light – 1. Juni \n  \nLove & Light \nWie können wir Leichtigkeit\, Liebe und Öffnung in unser Leben einladen?  \nIn den Kursen geht es darum\, durch Bewegung innere Ressourcen aufzubauen. Wir erleben diese Erfahrung auf allen Ebenen: körperlich\, seelisch\, emotional und durch den Austausch mit anderen. Um uns wohl in unserer Haut und in unserem Leben zu fühlen braucht es einen guten Zugang zu den verschiedenen Qualtitäten\, die wir hervortanzen.\nWir stärken sie durch unseren Tanz und nähren damit unsere Seele. \nWorkshop: Samstagnachmittag 14.30h – 18.30h / jeweils 1. Samstag im Monat \, alle 2 Monate \n14.30h – 16.30h Kurs \n16.30h – 17.00h Pause\, Snack* & Connect \n17.00h – 18.30h Wave & Integration \nKosten: Einzel buchbar 49\,- Euro \, 3-er Paket 140\,- \n*Snack bitte mitbringen \nAnmeldung schriftlich anfordern unter amala@5rhythmen-stuttgart.de\nAnmeldeschluss spätestens Dienstag vor Beginn\,  Mindestteilnehmerzahl 12 \nDieser Kurs richtet sich an alle Tänzer*innen die neugierig und experimentierfreudig sind. An alle\,die dienstags keine Zeit finden oder den Abend versäumt haben\, \n an alle die Neu sind\, an alle alten Hasen\, an alle die gerne tanzen und in Kontakt mit sich und anderen sind. \n 
URL:https://amala-dance.com/event/dive-in-dive-deeper-center-ground-5rhythmen-mini-workshop-3/
LOCATION:Sängerschaft Schwaben\, Am Kriegsbergturm 37\, Stuttgart\, Baden Württemberg\, 70192\, Deutschland
CATEGORIES:5Rhythmen®,Classes,Einsteiger-Workshops,Fortgeschrittenen-Workshops,Saturday Wave,Wave: Basic Skills
ATTACH;FMTTYPE=image/jpeg:https://amala-dance.com/wp-content/uploads/2024/01/Taenzer-1.jpeg
ORGANIZER;CN="Amala P. Storm":MAILTO:amala@5rhythmen-stuttgart.de
END:VEVENT
END:VCALENDAR