BEGIN:VCALENDAR
VERSION:2.0
PRODID:-//Amala - Body  Soul  Dance - ECPv6.7.0//NONSGML v1.0//EN
CALSCALE:GREGORIAN
METHOD:PUBLISH
X-ORIGINAL-URL:https://amala-dance.com
X-WR-CALDESC:Veranstaltungen für Amala - Body  Soul  Dance
REFRESH-INTERVAL;VALUE=DURATION:PT1H
X-Robots-Tag:noindex
X-PUBLISHED-TTL:PT1H
BEGIN:VTIMEZONE
TZID:Europe/Helsinki
BEGIN:DAYLIGHT
TZOFFSETFROM:+0200
TZOFFSETTO:+0300
TZNAME:EEST
DTSTART:20240331T010000
END:DAYLIGHT
BEGIN:STANDARD
TZOFFSETFROM:+0300
TZOFFSETTO:+0200
TZNAME:EET
DTSTART:20241027T010000
END:STANDARD
END:VTIMEZONE
BEGIN:VEVENT
DTSTART;TZID=Europe/Helsinki:20240517T180000
DTEND;TZID=Europe/Helsinki:20240520T140000
DTSTAMP:20260426T023805
CREATED:20231207T120718Z
LAST-MODIFIED:20240408T174808Z
UID:10006465-1715968800-1716213600@amala-dance.com
SUMMARY:The Joy of  Aliveness /5Rhythmen Pfingstworkshop
DESCRIPTION:  \nPlay – Practice – Pray\nFreude ist unsere Natur\, wir sind geschaffen\, um uns an unserer Existenz zu erfreuen.Als Tänzer*innen können wir immer wieder neu einen Zugang zu unserem Sweet Spot finden\, dem Ort\, wo unser Tanz müheloser und freier wird\, unsere Seele sich ausweitet und wir uns selbst vergessen. \nWir alle streben nach diesem Zustand\, sind uns jedoch oft selbst im Weg oder machen die  Umstände\, die Weltlage\, dies und das verantwortlich. Die Liste ist lang und von unserer Vergangenheit überschattet. Um Freude zu empfinden brauchen einen Raum\, den wir uns selbst geben\, eine Balance in all den wilden Polaritäten\, die uns und die Welt umtreibt. Und wir brauchen Bewusstheit\, was uns geprägt und beeinflusst hat. \nWir tanzen uns frei\, indem wir alles erlauben was da ist oder sich zeigen möchte auf der Tastatur der Gefühle. Wir stärken die Fähigkeit loszulassen\, Raum zu geben und lernen Freude in all ihren Facetten kennen. \n\nWas hebt dich aus der Schwere der Dinge?\nWas lässt dich zweifeln und hadern?\nWas ist wirklich wesentlich\, um Freude zu empfinden?\n\nIm Kurs nutzen wir die Landkarte der 5Rhythmen\, um die unendlichen Möglichkeiten zu erforschen\, die unsere Bewegung uns offenbart. \n\n\n\n\n\n\n\n\n\n\n\n\nDie Reise umfasst:\n– 5Rhythmen Tanz / Waves & Heartbeat\n– Meditationen & Inquiry\n– Ritual or Therapy in Motion\n– ev. Film\nUnd nicht zu vergessen: die Freude am Tanz und der Gemeinschaft . \nDieser Kurs ist einzeln oder als Teil der Workshop Reihe Emotionale Intelligence  buchbar. \n\n\n\n\nOrt: Seminarzentrum Sonnenstrahl \, Kißlegg\nVorraussetzung: 20 h Conscious Dance Praxis\, 5Rhythmen® Waves Erfahrung\nAnmeldeformular anfordern bei amala@5rhythmen-stuttgart.de \n\n\n\n\n  \n\n\n\n\n\n\n\n\n\n\n\n 
URL:https://amala-dance.com/event/joy-of-aliveness/
LOCATION:Yoga- und Seminarzentrum Sonnenstrahl im Allgäu\, Sebastian-Kneipp-Straße 1\, Kißlegg\, Baden Württemberg\, 88353\, Deutschland
CATEGORIES:5Rhythmen®,Einsteiger-Workshops,Fortgeschrittenen-Workshops,Heartbeat-Workshops
ATTACH;FMTTYPE=image/jpeg:https://amala-dance.com/wp-content/uploads/2023/12/neu-joy-.jpg
ORGANIZER;CN="Amala P. Storm":MAILTO:amala@5rhythmen-stuttgart.de
GEO:47.789715;9.8857952
X-APPLE-STRUCTURED-LOCATION;VALUE=URI;X-ADDRESS=Yoga- und Seminarzentrum Sonnenstrahl im Allgäu Sebastian-Kneipp-Straße 1 Kißlegg Baden Württemberg 88353 Deutschland;X-APPLE-RADIUS=500;X-TITLE=Sebastian-Kneipp-Straße 1:geo:9.8857952,47.789715
END:VEVENT
END:VCALENDAR