BEGIN:VCALENDAR
VERSION:2.0
PRODID:-//Amala - Body  Soul  Dance - ECPv6.7.0//NONSGML v1.0//EN
CALSCALE:GREGORIAN
METHOD:PUBLISH
X-WR-CALNAME:Amala - Body  Soul  Dance
X-ORIGINAL-URL:https://amala-dance.com
X-WR-CALDESC:Veranstaltungen für Amala - Body  Soul  Dance
REFRESH-INTERVAL;VALUE=DURATION:PT1H
X-Robots-Tag:noindex
X-PUBLISHED-TTL:PT1H
BEGIN:VTIMEZONE
TZID:Europe/Berlin
BEGIN:DAYLIGHT
TZOFFSETFROM:+0100
TZOFFSETTO:+0200
TZNAME:CEST
DTSTART:20240331T010000
END:DAYLIGHT
BEGIN:STANDARD
TZOFFSETFROM:+0200
TZOFFSETTO:+0100
TZNAME:CET
DTSTART:20241027T010000
END:STANDARD
END:VTIMEZONE
BEGIN:VEVENT
DTSTART;TZID=Europe/Berlin:20240416T200000
DTEND;TZID=Europe/Berlin:20240416T220000
DTSTAMP:20260425T170554
CREATED:20231212T143559Z
LAST-MODIFIED:20231212T143559Z
UID:10006185-1713297600-1713304800@amala-dance.com
SUMMARY:Wave after Wave / Hope for Spring
DESCRIPTION:Dieser Kurs richtet sich auf uns aus . Lyrical ist unser Bedürfnis nach Weite\, Öffnung und Leichtigkeit.\nJe nachdem ob das Wetter im April stimmig ist findet der Kurs unter diesem Motto statt . \nAlle sind willkommen\, Anfänger und erfahrene Tänzer*innen \noffene Gruppe
URL:https://amala-dance.com/event/wave-after-wave-hope-for-spring/2024-04-16/
LOCATION:Sängerschaft Schwaben\, Am Kriegsbergturm 37\, Stuttgart\, Baden Württemberg\, 70192\, Deutschland
ATTACH;FMTTYPE=image/jpeg:https://amala-dance.com/wp-content/uploads/2016/07/website_andalusien.jpg
ORGANIZER;CN="Amala P. Storm":MAILTO:amala@5rhythmen-stuttgart.de
END:VEVENT
END:VCALENDAR