BEGIN:VCALENDAR
VERSION:2.0
PRODID:-//Amala - Body  Soul  Dance - ECPv6.7.0//NONSGML v1.0//EN
CALSCALE:GREGORIAN
METHOD:PUBLISH
X-ORIGINAL-URL:https://amala-dance.com
X-WR-CALDESC:Veranstaltungen für Amala - Body  Soul  Dance
REFRESH-INTERVAL;VALUE=DURATION:PT1H
X-Robots-Tag:noindex
X-PUBLISHED-TTL:PT1H
BEGIN:VTIMEZONE
TZID:Europe/Helsinki
BEGIN:DAYLIGHT
TZOFFSETFROM:+0200
TZOFFSETTO:+0300
TZNAME:EEST
DTSTART:20230326T010000
END:DAYLIGHT
BEGIN:STANDARD
TZOFFSETFROM:+0300
TZOFFSETTO:+0200
TZNAME:EET
DTSTART:20231029T010000
END:STANDARD
END:VTIMEZONE
BEGIN:VEVENT
DTSTART;TZID=Europe/Helsinki:20231219T200000
DTEND;TZID=Europe/Helsinki:20231219T223000
DTSTAMP:20260426T015220
CREATED:20140630T154118Z
LAST-MODIFIED:20231128T172724Z
UID:10000028-1703016000-1703025000@amala-dance.com
SUMMARY:Advents Wave
DESCRIPTION:Wir kommen zusammen um das gemeinsame Tanzjahr zu verabschieden und zu feiern. \nDANCE – MEDITATE – SHARE – CELEBRATE  \nNach den Waves feiern wir Advent mit Süßem oder Salzigem\,\nTee & Gebäck  und geniessen den Ausklang \nNur für Teilnehmer der diesjährigen Kurse\nBitte gib Bescheid ob du kommen möchtest . amala@5rhythmen-stuttgart.de \nFür den Ausklang bringt jeder etwas mit zum gemeinsamen teilen. \n 
URL:https://amala-dance.com/event/advents-wave-3-2/
LOCATION:Sängerschaft Schwaben\, Am Kriegsbergturm 37\, Stuttgart\, Baden Württemberg\, 70192\, Deutschland
CATEGORIES:5Rhythmen®
ATTACH;FMTTYPE=image/jpeg:https://amala-dance.com/wp-content/uploads/2014/06/weihnachten-2.jpg
ORGANIZER;CN="Amala P. Storm":MAILTO:amala@5rhythmen-stuttgart.de
END:VEVENT
END:VCALENDAR