BEGIN:VCALENDAR
VERSION:2.0
PRODID:-//Amala - Body  Soul  Dance - ECPv6.7.0//NONSGML v1.0//EN
CALSCALE:GREGORIAN
METHOD:PUBLISH
X-WR-CALNAME:Amala - Body  Soul  Dance
X-ORIGINAL-URL:https://amala-dance.com
X-WR-CALDESC:Veranstaltungen für Amala - Body  Soul  Dance
REFRESH-INTERVAL;VALUE=DURATION:PT1H
X-Robots-Tag:noindex
X-PUBLISHED-TTL:PT1H
BEGIN:VTIMEZONE
TZID:Europe/Helsinki
BEGIN:DAYLIGHT
TZOFFSETFROM:+0200
TZOFFSETTO:+0300
TZNAME:EEST
DTSTART:20220327T010000
END:DAYLIGHT
BEGIN:STANDARD
TZOFFSETFROM:+0300
TZOFFSETTO:+0200
TZNAME:EET
DTSTART:20221030T010000
END:STANDARD
END:VTIMEZONE
BEGIN:VEVENT
DTSTART;TZID=Europe/Helsinki:20220222T200000
DTEND;TZID=Europe/Helsinki:20220222T220000
DTSTAMP:20260420T173138
CREATED:20211126T122332Z
LAST-MODIFIED:20220127T121920Z
UID:10006404-1645560000-1645567200@amala-dance.com
SUMMARY:Wave after Wave / Center & Edge
DESCRIPTION:Diese Kurse sind eine Einladung die 5 Rhythmen™ kennen zu lernen\nund das Verständnis für die Rhythmen zu vertiefen.\nWir beginnen da wo wir sind. In der Balance zwischen freier Bewegung\nund Anleitung erforschen wir jeden der fünf Rhythmen: die Form\, die\nBewegung im Körper und im Raum\, die spezifische Energie\,\ndie der jeweilige Rhythmus in uns erweckt und wie wir diese Energie\nfür uns und in Gemeinschaft nutzen können. Jeder Abend fokussiert\nein Thema und führt durch eine vollständige Wave. \nDas aktuelle Thema im Februar ist Center & Edge \n\nWas bringt dich aus dem Gleichgewicht? \nWo ist deine Grenze?\nWie lebst du mit Extremen?\n\nWas fühlt sich gut an im Risikobereich?\n\nWo ist deine Mitte?\nWie fühlt sie sich an?\nWie agierst du aus dem Zentrum heraus?\nWas ist ruhig\, was ist kraftvoll\, was ist weise\, was ist ausgeglichen? \nWie kultiviere ich ein starkes Zentrum?\nGibt es eine perfekte Balance?\n\nAlle sind willkommen\, Anfänger\, erfahrene Tänzer/innen und Neugierige. \nOffene Gruppe ! Es gelten die aktuellen Coronaregeln  \nDie fortlaufenden Kurse sind einzeln buchbar.\nAnmeldung: das erste Mal telefonisch auf AB\nMitzubringen: bequeme Kleidung\, Getränk\, rutschfeste Socken/ Tanzschuhe\nEinführung in die 5Rhythmen™ siehe unter Einführungskurse!\nTermine siehe Kalender \n\n 
URL:https://amala-dance.com/event/center-edge/2022-02-22/
LOCATION:Tanztempel Ost\, Ulmer Str. 184\, Stuttgart\, Baden Württemberg\, 70188\, Deutschland
CATEGORIES:5Rhythmen®,Classes,Einsteiger-Kurse,Wave after Wave,Wave-Angebot
ATTACH;FMTTYPE=image/jpeg:https://amala-dance.com/wp-content/uploads/2021/11/aaron-burden-Kp9z6zcUfGw-unsplash-Kopie.jpg
ORGANIZER;CN="Amala P. Storm":MAILTO:amala@5rhythmen-stuttgart.de
GEO:48.8001622;9.2146158
X-APPLE-STRUCTURED-LOCATION;VALUE=URI;X-ADDRESS=Tanztempel Ost Ulmer Str. 184 Stuttgart Baden Württemberg 70188 Deutschland;X-APPLE-RADIUS=500;X-TITLE=Ulmer Str. 184:geo:9.2146158,48.8001622
END:VEVENT
BEGIN:VEVENT
DTSTART;TZID=Europe/Helsinki:20220224T180000
DTEND;TZID=Europe/Helsinki:20220227T140000
DTSTAMP:20260420T173138
CREATED:20211116T140155Z
LAST-MODIFIED:20220215T142806Z
UID:10006398-1645725600-1645970400@amala-dance.com
SUMMARY:EI  / The Power of your Heart fällt leider aus!
DESCRIPTION:Was hilft dir doch wohl\, zentriert und in einem guten Kontakt mit dir zu fühlen? Wie gehts du mit dir um\, wenn du dich unsicher oder ärgerlich\, beschämt oder verloren fühlst ?\nDie meisten von uns haben nicht gelernt\, heilsam mit sich selbst und ihrem Fühlen umzugehen. \nIn den 5Rhythmen nutzen wir bewusstes Tanzen\, um mit uns in Kontakt zu kommen.\nWir kultivieren  die Fähigkeit präsent zu bleiben\, mit dem was ist und unsere Gefühle als Wegweiser zu nutzen.\nEin Grundgefühl unseres Menschseins ist die Scham. Anstatt sie zu bekämpfen nehmen wir sie in unser Herz und schauen\, was wir brauchen\, um mutig zu uns zu stehen. \nWir üben uns anzunehmen\, mit allen Unvollkommenheiten.\nJedes Gefühl ist eine Kraft die eingesetzt werden möchte für deine Einzigartigkeit\, dein Potential\, deine Kreativität und dein Mitgefühl. \n\n\n\n\n\n\n\n\nDas gibt dir ein stärkeres Selbstgefühl und den Mut authentisch zu sein. \n\n\n\n\n\n\n\n\n\n\n\n\nDie Reise umfasst:\n– 5Rhythmen Tanz / Waves & Heartbeat \n– Teachings : Elemente Emotionaler Intelligenz \n– Feedback \n– Differenzierung : Past – Presence ; Sensation –  Story\n– Scham und Mut\n– Meditationen & Inquiry & Dual Awarness Practice \n– Ritual or Therapy in Motion. \nUnd nicht zu vergessen: die Freude am Tanz und der Gemeinschaft . \n\n\n\n\nDieser Kurs ist einzeln oder als Teil der Workshopreihe Emotional Intelligence  buchbar. \n\n\n\n\nOrt: Seminarhaus Sonnenstrahl Kisslegg  / Kurs-  und Seminarhaus Kosten findest du in der Anmeldung\nVorraussetzung: 20 h Conscious Dance Praxis\, 5Rhythmen® Waves Erfahrung\nAnmeldeformular anfordern bei amala@5rhythmen-stuttgart.de / Anmeldeschluss 13.Februar 2022\nEs gelten die aktuellen Coronaregeln. \n\n\n\n\nDie Kursstunden sind anerkannt für das Teacher Training. Heartbeat Level 2 \n\n\n\n\n\n\n\n\n\n\n\n 
URL:https://amala-dance.com/event/power-of-your-heart/
LOCATION:Yoga- und Seminarzentrum Sonnenstrahl im Allgäu\, Sebastian-Kneipp-Straße 1\, Kißlegg\, Baden Württemberg\, 88353\, Deutschland
CATEGORIES:5Rhythmen®,Einsteiger-Workshops,Fortgeschrittenen-Workshops,Heartbeat-Workshops
ATTACH;FMTTYPE=image/jpeg:https://amala-dance.com/wp-content/uploads/2018/08/B2K1519.jpg
ORGANIZER;CN="Amala P. Storm":MAILTO:amala@5rhythmen-stuttgart.de
GEO:47.789715;9.8857952
X-APPLE-STRUCTURED-LOCATION;VALUE=URI;X-ADDRESS=Yoga- und Seminarzentrum Sonnenstrahl im Allgäu Sebastian-Kneipp-Straße 1 Kißlegg Baden Württemberg 88353 Deutschland;X-APPLE-RADIUS=500;X-TITLE=Sebastian-Kneipp-Straße 1:geo:9.8857952,47.789715
END:VEVENT
END:VCALENDAR