BEGIN:VCALENDAR
VERSION:2.0
PRODID:-//Amala - Body  Soul  Dance - ECPv6.7.0//NONSGML v1.0//EN
CALSCALE:GREGORIAN
METHOD:PUBLISH
X-ORIGINAL-URL:https://amala-dance.com
X-WR-CALDESC:Veranstaltungen für Amala - Body  Soul  Dance
REFRESH-INTERVAL;VALUE=DURATION:PT1H
X-Robots-Tag:noindex
X-PUBLISHED-TTL:PT1H
BEGIN:VTIMEZONE
TZID:Europe/Helsinki
BEGIN:DAYLIGHT
TZOFFSETFROM:+0200
TZOFFSETTO:+0300
TZNAME:EEST
DTSTART:20220327T010000
END:DAYLIGHT
BEGIN:STANDARD
TZOFFSETFROM:+0300
TZOFFSETTO:+0200
TZNAME:EET
DTSTART:20221030T010000
END:STANDARD
END:VTIMEZONE
BEGIN:VEVENT
DTSTART;TZID=Europe/Helsinki:20220118T200000
DTEND;TZID=Europe/Helsinki:20220118T220000
DTSTAMP:20260421T001806
CREATED:20211126T122332Z
LAST-MODIFIED:20211221T105442Z
UID:10006400-1642536000-1642543200@amala-dance.com
SUMMARY:Wave after Wave / offene Gruppe
DESCRIPTION:Diese Kurse sind eine Einladung die 5 Rhythmen™ kennen zu lernen\nund das Verständnis für die Rhythmen zu vertiefen.\nWir beginnen da wo wir sind. In der Balance zwischen freier Bewegung\nund Anleitung erforschen wir jeden der fünf Rhythmen: die Form\, die\nBewegung im Körper und im Raum\, die spezifische Energie\,\ndie der jeweilige Rhythmus in uns erweckt und wie wir diese Energie\nfür uns und in Gemeinschaft nutzen können. Jeder Abend fokussiert\nein Thema und führt durch eine vollständige Wave.\nWir folgen dem freien Fluss unserer Energie\,\nder Freude an Bewegung und geben uns die Freiheit\nuns auszudrücken. \n“Wave tanzen schafft eine heilsame\, kraftvolle\nund tiefe Verbindung zum eigenen Körper\,\nseiner Lebendigkeit\, und der Quelle des Lebens\,\ndem Spirit oder dem Sein.”  Amala \nAlle sind willkommen\, Anfänger\, erfahrene Tänzer/innen und Neugierige.\nDie fortlaufenden Kurse sind einzeln buchbar.\nAnmeldung: das erste Mal telefonisch auf AB\nMitzubringen: bequeme Kleidung\, Getränk\, rutschfeste Socken/ Tanzschuhe\nEinführung in die 5Rhythmen™ siehe unter Einführungskurse!\nTermine siehe Kalender \n\n 
URL:https://amala-dance.com/event/2022a/
LOCATION:Tanztempel Ost\, Ulmer Str. 184\, Stuttgart\, Baden Württemberg\, 70188\, Deutschland
CATEGORIES:5Rhythmen®,Classes,Einsteiger-Kurse,Wave after Wave,Wave-Angebot
ATTACH;FMTTYPE=image/jpeg:https://amala-dance.com/wp-content/uploads/2013/12/home21.jpg
ORGANIZER;CN="Amala P. Storm":MAILTO:amala@5rhythmen-stuttgart.de
GEO:48.8001622;9.2146158
X-APPLE-STRUCTURED-LOCATION;VALUE=URI;X-ADDRESS=Tanztempel Ost Ulmer Str. 184 Stuttgart Baden Württemberg 70188 Deutschland;X-APPLE-RADIUS=500;X-TITLE=Ulmer Str. 184:geo:9.2146158,48.8001622
END:VEVENT
BEGIN:VEVENT
DTSTART;TZID=Europe/Helsinki:20220122T193000
DTEND;TZID=Europe/Helsinki:20220122T213000
DTSTAMP:20260421T001806
CREATED:20211221T105057Z
LAST-MODIFIED:20211221T105057Z
UID:10006408-1642879800-1642887000@amala-dance.com
SUMMARY:Saturday Wave / 5Rhythmen
DESCRIPTION:The fastest way to still the mind is to move the body\nDie 5 Rhythmen™ flowing\, staccato\, chaos\, lyrical und stillness sind eine Bewegungspraxis\, die in ihrer Abfolge getanzt eine Wave bilden.\nDer Samstagabend ist ein offener Übungsraum\, bei dem es nur wenig Anleitung gibt. \nTanze durch alles was dich bewegt mit Bewusstheit. Tanze alleine oder mit anderen und lasse dich von der Magie der Welle tragen. \nAlle sind willkommen\, Anfänger und erfahrene Tänzer/innen \nOrt: Ulmerstr. 184\, Tanztempel Ost\nVorraussetzung : aktuelle Coronaregeln  \n 
URL:https://amala-dance.com/event/saturday-wave-2-2/
LOCATION:Tanztempel Ost\, Ulmer Str. 184\, Stuttgart\, Baden Württemberg\, 70188\, Deutschland
CATEGORIES:5Rhythmen®,Abtanzen,Classes,Einsteiger-Kurse,Saturday Wave,Sweat your Prayers,Wave-Angebot
ATTACH;FMTTYPE=image/jpeg:https://amala-dance.com/wp-content/uploads/2013/12/saturday-wave.jpg
ORGANIZER;CN="Amala P. Storm":MAILTO:amala@5rhythmen-stuttgart.de
GEO:48.8001622;9.2146158
X-APPLE-STRUCTURED-LOCATION;VALUE=URI;X-ADDRESS=Tanztempel Ost Ulmer Str. 184 Stuttgart Baden Württemberg 70188 Deutschland;X-APPLE-RADIUS=500;X-TITLE=Ulmer Str. 184:geo:9.2146158,48.8001622
END:VEVENT
END:VCALENDAR