BEGIN:VCALENDAR
VERSION:2.0
PRODID:-//Amala - Body  Soul  Dance - ECPv6.7.0//NONSGML v1.0//EN
CALSCALE:GREGORIAN
METHOD:PUBLISH
X-WR-CALNAME:Amala - Body  Soul  Dance
X-ORIGINAL-URL:https://amala-dance.com
X-WR-CALDESC:Veranstaltungen für Amala - Body  Soul  Dance
REFRESH-INTERVAL;VALUE=DURATION:PT1H
X-Robots-Tag:noindex
X-PUBLISHED-TTL:PT1H
BEGIN:VTIMEZONE
TZID:Europe/Helsinki
BEGIN:DAYLIGHT
TZOFFSETFROM:+0200
TZOFFSETTO:+0300
TZNAME:EEST
DTSTART:20210328T010000
END:DAYLIGHT
BEGIN:STANDARD
TZOFFSETFROM:+0300
TZOFFSETTO:+0200
TZNAME:EET
DTSTART:20211031T010000
END:STANDARD
END:VTIMEZONE
BEGIN:VEVENT
DTSTART;TZID=Europe/Helsinki:20211113T193000
DTEND;TZID=Europe/Helsinki:20211113T213000
DTSTAMP:20260421T052435
CREATED:20211027T111327Z
LAST-MODIFIED:20211109T083325Z
UID:10006397-1636831800-1636839000@amala-dance.com
SUMMARY:Saturday Wave
DESCRIPTION:The fastest way to still the mind is to move the body\nBewegungsmeditation – Selbsterfahrung – Körpertherapie\nDer Samstagabend ist ein offener Übungsraum für die Trainees zur Ausbildung und zum kennen lernen für alle die sich dafür interessieren. \nEs gelten die aktuellen Corona Regeln. \nOrt:  Ulmerstr. 184\, 70188 Stuttgart\nAnmeldung: bitte anmelden\, da die Teilnehmerzahl begrenzt ist; email amala@5rhythmen-stuttgart.de / phone 07116076724
URL:https://amala-dance.com/event/21-11-13/
LOCATION:Tanztempel Ost\, Ulmer Str. 184\, Stuttgart\, Baden Württemberg\, 70188\, Deutschland
CATEGORIES:5Rhythmen®,Abtanzen,Classes,Einsteiger-Kurse,Saturday Wave,Sweat your Prayers,Wave-Angebot
ATTACH;FMTTYPE=image/jpeg:https://amala-dance.com/wp-content/uploads/2013/12/saturday-wave.jpg
ORGANIZER;CN="Amala P. Storm":MAILTO:amala@5rhythmen-stuttgart.de
GEO:48.8001622;9.2146158
X-APPLE-STRUCTURED-LOCATION;VALUE=URI;X-ADDRESS=Tanztempel Ost Ulmer Str. 184 Stuttgart Baden Württemberg 70188 Deutschland;X-APPLE-RADIUS=500;X-TITLE=Ulmer Str. 184:geo:9.2146158,48.8001622
END:VEVENT
END:VCALENDAR