BEGIN:VCALENDAR
VERSION:2.0
PRODID:-//Amala - Body  Soul  Dance - ECPv6.7.0//NONSGML v1.0//EN
CALSCALE:GREGORIAN
METHOD:PUBLISH
X-WR-CALNAME:Amala - Body  Soul  Dance
X-ORIGINAL-URL:https://amala-dance.com
X-WR-CALDESC:Veranstaltungen für Amala - Body  Soul  Dance
REFRESH-INTERVAL;VALUE=DURATION:PT1H
X-Robots-Tag:noindex
X-PUBLISHED-TTL:PT1H
BEGIN:VTIMEZONE
TZID:Europe/Helsinki
BEGIN:DAYLIGHT
TZOFFSETFROM:+0200
TZOFFSETTO:+0300
TZNAME:EEST
DTSTART:20210328T010000
END:DAYLIGHT
BEGIN:STANDARD
TZOFFSETFROM:+0300
TZOFFSETTO:+0200
TZNAME:EET
DTSTART:20211031T010000
END:STANDARD
END:VTIMEZONE
BEGIN:VEVENT
DTSTART;TZID=Europe/Helsinki:20211102T200000
DTEND;TZID=Europe/Helsinki:20211102T220000
DTSTAMP:20260421T052415
CREATED:20190828T152005Z
LAST-MODIFIED:20211015T091418Z
UID:10006328-1635883200-1635890400@amala-dance.com
SUMMARY:Diving Deeper / Einführung
DESCRIPTION:Dieser Einführunskurs gibt gibt dir einen Überblick über die 5Rhythmen Diving Deeper Reihe im November / Dezember. Das Thema wird im Kurs bekannt gegeben. \nWir tanzen durch 2 Waves . Jeder ist willkommen und kann reinschnuppern. \n3G Regel erforderlich !! Testen vor Ort mit eigenem Test möglich \nAnmeldung: das erste Mal telefonisch auf AB \, danach mit Anmeldung Diving Deeper 21 \nMitzubringen: 3 G Nachweiss \, bequeme Kleidung\, Getränk\, rutschfeste Socken/ Tanzschuhe Termine siehe Kalender \n\n 
URL:https://amala-dance.com/event/diving-deeper-einfuehrung/
LOCATION:Tanztempel Ost\, Ulmer Str. 184\, Stuttgart\, Baden Württemberg\, 70188\, Deutschland
CATEGORIES:Open Floor,OpenFloor-Classes
ATTACH;FMTTYPE=image/jpeg:https://amala-dance.com/wp-content/uploads/2020/04/ODT-GLOBAL-2020-Image-e1587643970762.jpeg
ORGANIZER;CN="Amala Storm":MAILTO:openfloor@amala-dance.com
GEO:48.8001622;9.2146158
X-APPLE-STRUCTURED-LOCATION;VALUE=URI;X-ADDRESS=Tanztempel Ost Ulmer Str. 184 Stuttgart Baden Württemberg 70188 Deutschland;X-APPLE-RADIUS=500;X-TITLE=Ulmer Str. 184:geo:9.2146158,48.8001622
END:VEVENT
BEGIN:VEVENT
DTSTART;TZID=Europe/Helsinki:20211106T193000
DTEND;TZID=Europe/Helsinki:20211106T224500
DTSTAMP:20260421T052415
CREATED:20210608T113925Z
LAST-MODIFIED:20210609T094308Z
UID:10006114-1636227000-1636238700@amala-dance.com
SUMMARY:Saturday Wave in Neuaubing
DESCRIPTION:Dance & Connect with Awareness \n\n\n\nDer Samstagabend ist eine Einladung im Tanzen ganz bei dir anzukommen\, in deiner Lebendigkeit\, Mühelosigkeit\, Freiheit\, Ekstase\, in deinem Herzen und deinem innersten Raum. Wir nutzen die 5Rhythmen® flowing\, staccato\, chaos\, lyrical und stillness als unsere Bewegungspraxis. \nTanze durch alles was dich bewegt mit Bewusstheit. \nTanze alleine oder mit anderen und lasse dich von der Magie der Welle tragen. \n19.30h – 20.00 h Welcome \n 20.00h – 22.00 h Wave Dance \n 22.00h – ca.22.45h meet & connect ( Einhaltung der Coronabedingungen !!)  \n\n\n\nAlle sind willkommen\, Anfänger und erfahrene Tänzer/innen \nOrte:  Rote Fabrik \, Brunhamstr. 19a \, München Neuaubing \n\n\n\nMitzubringen? Bequeme Kleidung\, für den Ausklang Knabberzeug und alles was du brauchst um dich wohl zu fühlen \nMit Voranmeldung\, nutze das Formular um bereits vorab deine Daten einzutragen und bringe sie mit . \n\n\n\nAnmeldung-Wave-Amala-Rote-Fabrik-2 \n\n\n\nfür Fragen melde dich bei Amala 0176 / 61 98 20 60 amala@5rhythmen-stuttgart.de \n  \n\n\n\n\n\n\nWe dance to fall in love with the spirit in all things\, to break down walls and fall in the moment.\nG. Roth\n \n  \n\n\n\n 
URL:https://amala-dance.com/event/neuaubing-4-2-2-2-2/
LOCATION:Rote Fabrik Tanzraum Neuaubing\, Brunhamstr. 19a\, München\, Bayern\, 81249\, Deutschland
CATEGORIES:5Rhythmen®,Abtanzen,Classes,Einsteiger-Kurse,Saturday Wave,Sweat your Prayers,Wave-Angebot
ATTACH;FMTTYPE=image/jpeg:https://amala-dance.com/wp-content/uploads/2020/01/JWP0665.jpg
ORGANIZER;CN="Amala P. Storm":MAILTO:amala@5rhythmen-stuttgart.de
GEO:48.8001622;9.2146158
X-APPLE-STRUCTURED-LOCATION;VALUE=URI;X-ADDRESS=Rote Fabrik Tanzraum Neuaubing Brunhamstr. 19a München Bayern 81249 Deutschland;X-APPLE-RADIUS=500;X-TITLE=Brunhamstr. 19a:geo:9.2146158,48.8001622
END:VEVENT
END:VCALENDAR