BEGIN:VCALENDAR
VERSION:2.0
PRODID:-//Amala - Body  Soul  Dance - ECPv6.7.0//NONSGML v1.0//EN
CALSCALE:GREGORIAN
METHOD:PUBLISH
X-WR-CALNAME:Amala - Body  Soul  Dance
X-ORIGINAL-URL:https://amala-dance.com
X-WR-CALDESC:Veranstaltungen für Amala - Body  Soul  Dance
REFRESH-INTERVAL;VALUE=DURATION:PT1H
X-Robots-Tag:noindex
X-PUBLISHED-TTL:PT1H
BEGIN:VTIMEZONE
TZID:Europe/Helsinki
BEGIN:DAYLIGHT
TZOFFSETFROM:+0200
TZOFFSETTO:+0300
TZNAME:EEST
DTSTART:20210328T010000
END:DAYLIGHT
BEGIN:STANDARD
TZOFFSETFROM:+0300
TZOFFSETTO:+0200
TZNAME:EET
DTSTART:20211031T010000
END:STANDARD
END:VTIMEZONE
BEGIN:VEVENT
DTSTART;TZID=Europe/Helsinki:20210309T193000
DTEND;TZID=Europe/Helsinki:20210309T210000
DTSTAMP:20260422T235015
CREATED:20201217T134421Z
LAST-MODIFIED:20210226T151030Z
UID:10006384-1615318200-1615323600@amala-dance.com
SUMMARY:Tuesday Wave online
DESCRIPTION:Die 5 Rhythmen™ flowing\, staccato\, chaos\, lyrical und stillness sind eine Bewegungspraxis\, die in ihrer Abfolge getanzt eine Wave bilden.\nTanze durch alles was dich bewegt mit Bewusstheit. \nIm Februar gibt es eine Reihe mit dem Thema Wave after Wave\, wir nutzen  die Basics der 5Rhythmen Praxis und schauen jedes Mal neu was du brauchst. \nAlle sind willkommen\, Anfänger und erfahrene Tänzer/innen \nOrt:  Zoom online\, nach der Anmeldung erhälst du den Zugangslink\nAnmeldung Anmeldung und Konto online \n 
URL:https://amala-dance.com/event/tuesday-wave-online/2021-03-09/
LOCATION:online on Zoom\, Mercedesstr. 9\, Stuttgart\, 70372\, Deutschland
CATEGORIES:5Rhythmen®,Abtanzen,Classes,Einsteiger-Kurse,Saturday Wave,Sweat your Prayers,Wave-Angebot
ATTACH;FMTTYPE=image/png:https://amala-dance.com/wp-content/uploads/2020/04/exportImage.png
ORGANIZER;CN="Amala P. Storm":MAILTO:amala@5rhythmen-stuttgart.de
GEO:48.8001622;9.2146158
X-APPLE-STRUCTURED-LOCATION;VALUE=URI;X-ADDRESS=online on Zoom Mercedesstr. 9 Stuttgart 70372 Deutschland;X-APPLE-RADIUS=500;X-TITLE=Mercedesstr. 9:geo:9.2146158,48.8001622
END:VEVENT
BEGIN:VEVENT
DTSTART;TZID=Europe/Helsinki:20210313T193000
DTEND;TZID=Europe/Helsinki:20210313T210000
DTSTAMP:20260422T235015
CREATED:20200530T065919Z
LAST-MODIFIED:20210226T151334Z
UID:10006086-1615663800-1615669200@amala-dance.com
SUMMARY:Saturday Wave / 5Rhythmen online
DESCRIPTION:The fastest way to still the mind is to move the body\nDie 5 Rhythmen™ flowing\, staccato\, chaos\, lyrical und stillness sind eine Bewegungspraxis\, die in ihrer Abfolge getanzt eine Wave bilden.\nDer Samstagabend ist ein offener Übungsraum\, bei dem es nur wenig Anleitung gibt. \nTanze durch alles was dich bewegt mit Bewusstheit. Tanze alleine oder mit anderen und lasse dich von der Magie der Welle tragen. \nAlle sind willkommen\, Anfänger und erfahrene Tänzer/innen \nOrt:  Zoom online\, nach Anmeldung erhälst du den Zugangslink\nAnmeldung und Konto online \n 
URL:https://amala-dance.com/event/online/
LOCATION:online on Zoom\, Mercedesstr. 9\, Stuttgart\, 70372\, Deutschland
CATEGORIES:5Rhythmen®,Abtanzen,Classes,Einsteiger-Kurse,Saturday Wave,Sweat your Prayers,Wave-Angebot
ATTACH;FMTTYPE=image/jpeg:https://amala-dance.com/wp-content/uploads/2013/12/saturday-wave.jpg
ORGANIZER;CN="Amala P. Storm":MAILTO:amala@5rhythmen-stuttgart.de
GEO:48.8001622;9.2146158
X-APPLE-STRUCTURED-LOCATION;VALUE=URI;X-ADDRESS=online on Zoom Mercedesstr. 9 Stuttgart 70372 Deutschland;X-APPLE-RADIUS=500;X-TITLE=Mercedesstr. 9:geo:9.2146158,48.8001622
END:VEVENT
END:VCALENDAR