BEGIN:VCALENDAR
VERSION:2.0
PRODID:-//Amala - Body  Soul  Dance - ECPv6.7.0//NONSGML v1.0//EN
CALSCALE:GREGORIAN
METHOD:PUBLISH
X-ORIGINAL-URL:https://amala-dance.com
X-WR-CALDESC:Veranstaltungen für Amala - Body  Soul  Dance
REFRESH-INTERVAL;VALUE=DURATION:PT1H
X-Robots-Tag:noindex
X-PUBLISHED-TTL:PT1H
BEGIN:VTIMEZONE
TZID:Europe/Helsinki
BEGIN:DAYLIGHT
TZOFFSETFROM:+0200
TZOFFSETTO:+0300
TZNAME:EEST
DTSTART:20200329T010000
END:DAYLIGHT
BEGIN:STANDARD
TZOFFSETFROM:+0300
TZOFFSETTO:+0200
TZNAME:EET
DTSTART:20201025T010000
END:STANDARD
END:VTIMEZONE
BEGIN:VEVENT
DTSTART;TZID=Europe/Helsinki:20201215T193000
DTEND;TZID=Europe/Helsinki:20201215T210000
DTSTAMP:20260424T104750
CREATED:20200610T100640Z
LAST-MODIFIED:20201201T142609Z
UID:10006362-1608060600-1608066000@amala-dance.com
SUMMARY:Tuesday  Wave online / Selfcare
DESCRIPTION:Selfcare – Selflove – Selfcompassion – SELF\nDie 5 Rhythmen™ flowing\, staccato\, chaos\, lyrical und stillness sind eine Bewegungspraxis\, die in ihrer Abfolge getanzt eine Wave bilden.\nTanze durch alles was dich bewegt mit Bewusstheit. \nIm Dezember gibt es eine Reihe mit dem Thema Selfcare / Selbstfürsorge \nAlle sind willkommen\, Anfänger und erfahrene Tänzer/innen \nOrt:  Zoom online\nAnmeldung Anmeldung und Konto online \n 
URL:https://amala-dance.com/event/saturday-wave-5rhythmen-in-cannstatt-7-3-2-3-2-2-2-2-2-2020-11-24/2020-12-15/
LOCATION:online on Zoom\, Mercedesstr. 9\, Stuttgart\, 70372\, Deutschland
CATEGORIES:5Rhythmen®,Abtanzen,Classes,Einsteiger-Kurse,Saturday Wave,Sweat your Prayers,Wave-Angebot
ATTACH;FMTTYPE=image/jpeg:https://amala-dance.com/wp-content/uploads/2019/09/OneDance-2019_0245-2.jpg
ORGANIZER;CN="Amala P. Storm":MAILTO:amala@5rhythmen-stuttgart.de
GEO:48.8001622;9.2146158
X-APPLE-STRUCTURED-LOCATION;VALUE=URI;X-ADDRESS=online on Zoom Mercedesstr. 9 Stuttgart 70372 Deutschland;X-APPLE-RADIUS=500;X-TITLE=Mercedesstr. 9:geo:9.2146158,48.8001622
END:VEVENT
BEGIN:VEVENT
DTSTART;TZID=Europe/Helsinki:20201215T200000
DTEND;TZID=Europe/Helsinki:20201215T220000
DTSTAMP:20260424T104750
CREATED:20200811T111123Z
LAST-MODIFIED:20200811T111326Z
UID:10006372-1608062400-1608069600@amala-dance.com
SUMMARY:Lets come together
DESCRIPTION:mehr Info beizeiten
URL:https://amala-dance.com/event/open-floor-diving-deeper-thema-wird-noch-bekanntgegeben-4-3-2-2-2-2/
LOCATION:Tanztempel Ost\, Ulmer Str. 184\, Stuttgart\, Baden Württemberg\, 70188\, Deutschland
ORGANIZER;CN="Amala P. Storm":MAILTO:amala@5rhythmen-stuttgart.de
GEO:48.8001622;9.2146158
X-APPLE-STRUCTURED-LOCATION;VALUE=URI;X-ADDRESS=Tanztempel Ost Ulmer Str. 184 Stuttgart Baden Württemberg 70188 Deutschland;X-APPLE-RADIUS=500;X-TITLE=Ulmer Str. 184:geo:9.2146158,48.8001622
END:VEVENT
END:VCALENDAR