BEGIN:VCALENDAR
VERSION:2.0
PRODID:-//Amala - Body  Soul  Dance - ECPv6.7.0//NONSGML v1.0//EN
CALSCALE:GREGORIAN
METHOD:PUBLISH
X-ORIGINAL-URL:https://amala-dance.com
X-WR-CALDESC:Veranstaltungen für Amala - Body  Soul  Dance
REFRESH-INTERVAL;VALUE=DURATION:PT1H
X-Robots-Tag:noindex
X-PUBLISHED-TTL:PT1H
BEGIN:VTIMEZONE
TZID:Europe/Helsinki
BEGIN:DAYLIGHT
TZOFFSETFROM:+0200
TZOFFSETTO:+0300
TZNAME:EEST
DTSTART:20200329T010000
END:DAYLIGHT
BEGIN:STANDARD
TZOFFSETFROM:+0300
TZOFFSETTO:+0200
TZNAME:EET
DTSTART:20201025T010000
END:STANDARD
END:VTIMEZONE
BEGIN:VEVENT
DTSTART;TZID=Europe/Helsinki:20200630T200000
DTEND;TZID=Europe/Helsinki:20200630T220000
DTSTAMP:20260425T130151
CREATED:20200529T095330Z
LAST-MODIFIED:20200529T095330Z
UID:10006081-1593547200-1593554400@amala-dance.com
SUMMARY:Wave after Wave
DESCRIPTION:Hallo liebe Tänzer/innen\, \nIn Corona Zeiten  werden wir zu mehr Aufmerksamkeit und Geduld aufgefordert . Gesetzlich braucht es entsprechende Vorkehrungen.\nDa die Teilnehmerzahl begrenzt ist\, ist eine Anmeldung erforderlich und verbindlich. \nDas Anmeldeformular mit den entsprechenden Vorgaben findest du hier\, eine 2. Möglichkeit ist dieses Worddoc: KursanmeldungC\nBitte melde dich bis spätestens 2 Stunden vor Beginn amala@5rhythmen-stuttgart.de an.\n \nFalls es zeitlich knapp wird kannst du mich auch anrufen/ sms  unter 017661982060 und nachfragen ob es noch Platz gibt.\nIch freue mich wieder live mit dir zu tanzen  \n  \nDiese Kurse sind eine Einladung die 5 Rhythmen™ kennen zu lernen\nund das Verständnis für die Rhythmen zu vertiefen.\nWir beginnen da wo wir sind. In der Balance zwischen freier Bewegung\nund Anleitung erforschen wir jeden der fünf Rhythmen: die Form\, die\nBewegung im Körper und im Raum\, die spezifische Energie\,\ndie der jeweilige Rhythmus in uns erweckt und wie wir diese Energie\nfür uns und in Gemeinschaft nutzen können. Jeder Abend fokussiert\nein Thema und führt durch eine vollständige Wave.\nWir folgen dem freien Fluss unserer Energie\,\nder Freude an Bewegung und geben uns die Freiheit\nuns auszudrücken. \n  \n\n 
URL:https://amala-dance.com/event/basic-skills-2-2-2-3-2-2-3-3/
LOCATION:Tanztempel Ost\, Ulmer Str. 184\, Stuttgart\, Baden Württemberg\, 70188\, Deutschland
CATEGORIES:5Rhythmen®,Classes,Einsteiger-Kurse,Wave after Wave,Wave-Angebot
ATTACH;FMTTYPE=image/jpeg:https://amala-dance.com/wp-content/uploads/2013/12/home21.jpg
ORGANIZER;CN="Amala P. Storm":MAILTO:amala@5rhythmen-stuttgart.de
GEO:48.8001622;9.2146158
X-APPLE-STRUCTURED-LOCATION;VALUE=URI;X-ADDRESS=Tanztempel Ost Ulmer Str. 184 Stuttgart Baden Württemberg 70188 Deutschland;X-APPLE-RADIUS=500;X-TITLE=Ulmer Str. 184:geo:9.2146158,48.8001622
END:VEVENT
BEGIN:VEVENT
DTSTART;TZID=Europe/Helsinki:20200703T193000
DTEND;TZID=Europe/Helsinki:20200703T210000
DTSTAMP:20260425T130151
CREATED:20200610T100616Z
LAST-MODIFIED:20200610T100616Z
UID:10006089-1593804600-1593810000@amala-dance.com
SUMMARY:Friday Wave - Dance & Connect online
DESCRIPTION:The fastest way to still the mind is to move the body\nDie 5 Rhythmen™ flowing\, staccato\, chaos\, lyrical und stillness sind eine Bewegungspraxis\, die in ihrer Abfolge getanzt eine Wave bilden.\nDer Samstagabend ist ein offener Übungsraum\, bei dem es nur wenig Anleitung gibt. \nTanze durch alles was dich bewegt mit Bewusstheit. Tanze alleine oder mit anderen und lasse dich von der Magie der Welle tragen. \nAlle sind willkommen\, Anfänger und erfahrene Tänzer/innen \nOrt:  Zoom online\nAnmeldung: https://form.jotform.com/201495221137347 \n 
URL:https://amala-dance.com/event/saturday-wave-5rhythmen-in-cannstatt-7-3-2-3-2-2-2-2/
LOCATION:online on Zoom\, Mercedesstr. 9\, Stuttgart\, 70372\, Deutschland
CATEGORIES:5Rhythmen®,Abtanzen,Classes,Einsteiger-Kurse,Saturday Wave,Sweat your Prayers,Wave-Angebot
ATTACH;FMTTYPE=image/jpeg:https://amala-dance.com/wp-content/uploads/2013/12/saturday-wave.jpg
ORGANIZER;CN="Amala P. Storm":MAILTO:amala@5rhythmen-stuttgart.de
GEO:48.8001622;9.2146158
X-APPLE-STRUCTURED-LOCATION;VALUE=URI;X-ADDRESS=online on Zoom Mercedesstr. 9 Stuttgart 70372 Deutschland;X-APPLE-RADIUS=500;X-TITLE=Mercedesstr. 9:geo:9.2146158,48.8001622
END:VEVENT
BEGIN:VEVENT
DTSTART;TZID=Europe/Helsinki:20200704T193000
DTEND;TZID=Europe/Helsinki:20200704T224500
DTSTAMP:20260425T130151
CREATED:20200120T140634Z
LAST-MODIFIED:20200627T085750Z
UID:10006340-1593891000-1593902700@amala-dance.com
SUMMARY:Saturday Wave in Neuaubing
DESCRIPTION:Dance –  Connect – Celebrate \nerster Samstag im Monat in München Neuaubing \n\n\n\nDer Samstagabend ist eine Einladung im Tanzen ganz bei dir anzukommen\, in deiner Lebendigkeit\, Mühelosigkeit\, Freiheit\, Ekstase\, in deinem Herzen und deinem innersten Raum. Wir nutzen die 5Rhythmen® flowing\, staccato\, chaos\, lyrical und stillness als unsere Bewegungspraxis. \nTanze durch alles was dich bewegt mit Bewusstheit. \nTanze alleine oder mit anderen und lasse dich von der Magie der Welle tragen. \n19.30h – 20.00 h Welcome \n 20.00h – 22.00 h Wave Dance \n 22.00h – ca.22.45h meet & connect \n\n\n\nAlle sind willkommen\, Anfänger und erfahrene Tänzer/innen \nOrte:  Rote Fabrik \, Brunhamstr. 19a \, München Neuaubing \n\n\n\nMitzubringen? Bequeme Kleidung\, für den Ausklang Knabberzeug und alles was du brauchst \n\n\n\nAnmeldung: https://form.jotform.com/201752604974357\nAnmeldung Wave Amala – Rote Fabrik \n\n\n\nohne Voranmeldung\, für Fragen melde dich bei Amala 0176 / 61 98 20 60 amala@5rhythmen-stuttgart.de \n  \n\n\n\n\n\n\nWe dance to fall in love with the spirit in all things\, to break down walls and fall in the moment.\nG. Roth\n \n  \n\n\n\n 
URL:https://amala-dance.com/event/neuaubing-2-2-2-2-2/
LOCATION:Rote Fabrik Tanzraum Neuaubing\, Brunhamstr. 19a\, München\, Bayern\, 81249\, Deutschland
CATEGORIES:5Rhythmen®,Abtanzen,Classes,Einsteiger-Kurse,Saturday Wave,Sweat your Prayers,Wave-Angebot
ATTACH;FMTTYPE=image/jpeg:https://amala-dance.com/wp-content/uploads/2020/01/JWP0665.jpg
ORGANIZER;CN="Amala P. Storm":MAILTO:amala@5rhythmen-stuttgart.de
GEO:48.8001622;9.2146158
X-APPLE-STRUCTURED-LOCATION;VALUE=URI;X-ADDRESS=Rote Fabrik Tanzraum Neuaubing Brunhamstr. 19a München Bayern 81249 Deutschland;X-APPLE-RADIUS=500;X-TITLE=Brunhamstr. 19a:geo:9.2146158,48.8001622
END:VEVENT
END:VCALENDAR