BEGIN:VCALENDAR
VERSION:2.0
PRODID:-//Amala - Body  Soul  Dance - ECPv6.7.0//NONSGML v1.0//EN
CALSCALE:GREGORIAN
METHOD:PUBLISH
X-WR-CALNAME:Amala - Body  Soul  Dance
X-ORIGINAL-URL:https://amala-dance.com
X-WR-CALDESC:Veranstaltungen für Amala - Body  Soul  Dance
REFRESH-INTERVAL;VALUE=DURATION:PT1H
X-Robots-Tag:noindex
X-PUBLISHED-TTL:PT1H
BEGIN:VTIMEZONE
TZID:Europe/Helsinki
BEGIN:DAYLIGHT
TZOFFSETFROM:+0200
TZOFFSETTO:+0300
TZNAME:EEST
DTSTART:20250330T010000
END:DAYLIGHT
BEGIN:STANDARD
TZOFFSETFROM:+0300
TZOFFSETTO:+0200
TZNAME:EET
DTSTART:20251026T010000
END:STANDARD
BEGIN:DAYLIGHT
TZOFFSETFROM:+0200
TZOFFSETTO:+0300
TZNAME:EEST
DTSTART:20260329T010000
END:DAYLIGHT
BEGIN:STANDARD
TZOFFSETFROM:+0300
TZOFFSETTO:+0200
TZNAME:EET
DTSTART:20261025T010000
END:STANDARD
END:VTIMEZONE
BEGIN:VEVENT
DTSTART;TZID=Europe/Helsinki:20250816T183000
DTEND;TZID=Europe/Helsinki:20250823T140000
DTSTAMP:20260420T093812
CREATED:20241115T114750Z
LAST-MODIFIED:20250115T135558Z
UID:10006488-1755369000-1755957600@amala-dance.com
SUMMARY:5Rhythmen® Sommertanzwoche auf Korfu
DESCRIPTION:5Rhythmen® Summer Dance auf Korfu\n\n\n\n\n\n\n  \n\n\n\n\n\n\nDiese Woche ist eine Einladung Körper\, Herz und Seele auf einen ganz besonderen Urlaub zu schicken. In der wunderschönen Natur der Insel Korfu werden wir gemeinsam tanzen\, feiern und meditieren.\nWir bringen alles in Bewegung\, was gelebt und genährt werden will. \n\n\n\n\nDas Programm umfasst folgende Angebote:\n5Rhythmen®Tanz n. Gabrielle Roth\, vormittags und abends\nRituale\, Meditationen\,  gemeinsame Ausflüge\n\nAm Nachmittag hast du Zeit zum Baden\, Relaxen\, Lesen\, Leute treffen oder ken- nenlernen und für Spaziergänge im Olivenhain\, auf der Klippe oder zur Taverne über dem Meer. Für Begleitpersonen gibt es außerdem vielfältige Angebote. Unser Tanzplatz ist der Quranos Club im Nordwesten der Insel Korfu in Arillas. Das Seminarzentrum liegt in herrlicher Lage auf einem Hügel\, der klimatisierte Tanzraum befindet sich im Olivenhain und bietet alles\, was es für eine wohltuen- de und entspannte Atmosphäre braucht: \n\n\n\n\nMannigfaltige Natur\, Terrassen\, Ruhe- und Kraft und Kreativplätze und einen phantastischen Ausblick aufs Meer.\nDen kleinen Ort Arillas mit einer idyllischen Urlaubsatmosphäre und einem der schönsten Sandstrände Korfus.\nKleine Tavernen\, grüne Natur und griechische Gelassenheit. Die Insel lädt dich ein zum Loslassen und Genießen\, Auftanken und Feiern\n\n\nDiese Woche bietet alles\, was es für eine wohltuende und nährende Atmosphäre braucht\, um einfach toll Ferien zu machen oder diese auch hier zu verlängern. \n\n\n\nTermin: 16. – 23. August 2025 Samstag offener Abend / Sonntag Beginn 11h bei späterer Anreise\nZeiten: Samstagabend 16.08. bis Freitag 11pm\nKosten: 495\,– / 445\,– Euro bei Anzahlung bis zum 15. Mai 2025\nOrt: Ouranos Club\, Korfu\, Arillas\, siehe www.ouranosclub.de Ü/V und Flug müssen separat gebucht werden Eurowings\, Condor\, Easyjet\, TUI\, je nach Ausgangsort und Kosten bitte rechtzeitig buchen.\nÜbernachtung: Buchung ausschließlich über www.inside-travel.com\, Wohnbeispiele ausführliche Infos über Zimmer\, Apartments mit 2-4 Personen\, incl. Küche für Mittagssnack etc. ; es gibt vielseitige Möglichkeiten.\nKursbuchung: Amala P. Storm v. G. Roth autorisierte 5Rhythmen-Lehrerin\, Ammeldeformular anfordern \nRegistration Sommertanzwoche Corfu 25 \n\n\n\n\n\n \n\n\n\nThis week is an invitation to send your body\, heart and soul on a very special holiday. In the beautiful nature of the island of Corfu we will dance\, celebrate and med tate together.\nWe will set everything in motion that wants to be lived and nourished. \n\n\n\n\nI offer the following activities:\nGabrielle Roth’s 5Rhythms™dancing in the morning & evening\nRituals\, Meditation\, walks together & special day trip\n\n\n\n\nIn the afternoon there is time to swim\, relax\, meet people\, walk around to the tavernas or at the cliff. Partners have a variety of options to spend their time here with you. Our dance venue is the Quranos Club in the northwest of the island of Corfu in Arillas. The seminar center is in a wonderful location on a hill\, the air-conditioned dance room is in the olive grove. It offers everything you need for a pleasant and relaxed atmosphere to have a great holiday. \nWe are staying at the Ouranos Club in the Northwestern part of Corfu\, in Arillas. The island entices us to let go and enjoy its natural beauty\, olive groves\, a long sand beach and a little village with greek atmosphere.\nThe finca is at a magnificently space with view over the ocean; offers all that is needed for a relaxed atmosphere and for a simply great holiday: diverse nature\, open areas\, patios\, resting places and special places of power. \nThe surroundings and our offers for movement provide a new way of being with yourself and strengthening your joie de vivre. \n\n\n\nThis week offers everything to relax and nourish in a beautiful atmosphere to have great holidays or to extend the time here in this area.  Der workshop ist geignet für Anfänger und fortgeschrittene Tänzer/innen. The workshop is for beginners and experienced dancers.   \nRegistration/ Anmeldung: bitte Anmeldeformular anfordern. please register at 5rhythmen@amala-dance.com\nEarly booking until May 15 / 25 \n\n\n\nDate: August 16 – 23 2025 Saturday open evening\nDuration: Saturday  August 16th til Friday 11pm\nFees: 495.– / 445.– Euro Early booking rate until May 15\, 2025\nLocation: Ouranos Club\, Korfu\, Arillas\, see www.ouranosclub.de Flight\, board and lodging are separate Eurowings\, Condor\, Easyjet\, TUI\nLodging Registration only via www.inside-travel.com\nCourse Booking : Amala P. Storm\, v. G. Roth authorized 5Rhythm’s teacher\, \n\n\n\nPlease request more detailed information. The seminar is open to all levels of experience! The seminar language is German but translation into English is available upon request.
URL:https://amala-dance.com/event/summerdance-corfu/
LOCATION:Quranos Club\, Arillas Korfu\, GR-49081 Agios Stefanos\, Greece
CATEGORIES:5Rhythmen®,Einsteiger-Kurse,Einsteiger-Workshops,Fortgeschrittenen-Kurse,Fortgeschrittenen-Workshops,Specials,Workshops
ATTACH;FMTTYPE=image/jpeg:https://amala-dance.com/wp-content/uploads/2024/11/Afionas-Ausblick.jpeg
ORGANIZER;CN="Amala P. Storm":MAILTO:amala@5rhythmen-stuttgart.de
END:VEVENT
BEGIN:VEVENT
DTSTART;TZID=Europe/Helsinki:20260809T183000
DTEND;TZID=Europe/Helsinki:20260815T140000
DTSTAMP:20260420T093812
CREATED:20251222T135252Z
LAST-MODIFIED:20251222T135252Z
UID:10006633-1786300200-1786802400@amala-dance.com
SUMMARY:5Rhythmen® Sommertanzwoche am Chiemsee
DESCRIPTION:5Rhythmen® Sommertanzwoche am Chiemsee\nIn dieser Woche kommen wir zusammen um unser kreatives und freies Selbst zu entdecken und eine sinnvolle Auszeit aus unserem Alltag zu nehmen. Die Magie der 5 Rhythmen hat die Kraft uns frei zu waschen von altem und unnötigem Ballast\, den wir in unseren Muskeln und unserer Seele herumschleppen. Wir laden uns auf mit neuer Energie\, während Körper und Geist mehr und mehr entspannen und loslassen können. Um uns gegenseitig zu nähren\, schaffen wir einen Raum\, indem wir uns austauschen\, schreiben\, kreativ gestalten und unsere Seele freitanzen. \n\nDas Programm umfasst folgende Angebote:\n5Rhythmen®Tanz n. Gabrielle Roth\, vormittags und abends\nRituale\, Meditationen\, Lagerfeuer\, gemeinsame Ausflüge am Nachmittag hast du Zeit zum Baden\, Relaxen\, Lesen\, Leute treffen oder – kennenlernen und für Spaziergänge in der Umgebung.\n\nDas Jonathan-Seminarhotel liegt ländlich-idyllisch mit Blick auf Wiesen\, Wälder und Berge. Die bezaubernde Umgebung\, der nahe Chiemsee und die majestätischen Berge laden uns ein zu entspannen\, zu genießen und uns zu nähren. Zur Entspannung verführt auch der Wellnessbereich mit Sauna\, Hotpool und einem wohltuenden Massageangebot. Der Chiemsee ist mit dem Auto in 5 Minuten\, mit dem Fahrrad in 10 Minuten und zu Fuß in 30 Minuten erreichbar. Eine wunderschöne kilometerlange Promenade lädt ein zum Flanieren und in viele kleine natürlichen Buchten. In Chieming gibt es ein Strandbad und viele Strände mit feinem Kies zum Sonnen und Baden. \n\nDiese Woche bietet alles\, was es für eine wohltuende und nährende Atmosphäre braucht\, um einfach toll Ferien zu machen oder diese auch hier zu verlängern.\n\n  \n 5Rhythms Summer Dance Week at Lake Chiemsee\nIn that week\, we will come together to reveal our creative and liberating self and to retreat from our daily life in a practical way. The magic of the 5 Rhythms™ has the power to wash away our ancient and needless burden that we carry within our muscles and within our soul. We charge us with new energy whereas our body and our spirit gradually relaxes. In order to nourish one another\, we will establish a space for sharing\, writing down\, creating and for dancing free our soul. \n\nI offer the following activities:\nGabrielle Roth’s 5Rhythms™dancing in the morning & evening\nRituals\, Meditation\, Campfire\, walks together to beautiful places   \ntime to swim\, relax\, meet people walk around or swim.\n\nThe Jonathan Seminar Hotel is idylically situated in the middle of meadows\, forests and mountains. The charming surroundings\, the nearby “Chiemsee“  and the majestic mountain ranges attract us to all kind of activities. The Chiemsee can be reached in 5 minutes by car\, in 10 minutes by bicycle and in 30 minutes  foot. A beautiful\, many miles long boardwalk extends all the way to the natural shore area with natural coves. In Chieming you can find a public beach and many beaches with fine pepples for sunbathing and swimming. Our wellness area is meant to seduce you with our sauna\, hotpool and different massage treatments. \n\nThis week offers everything to relax and nourish in a beautiful atmosphere to have great holidays or to extend the time here in this area.\n Der workshop ist geignet für Anfänger und fortgeschrittene Tänzer/innen. The workshop is for beginners and experienced dancers.   \nRegistration/ Anmeldung: bitte Anmeldeformular anfordern oder hier herunterladen\, Registration Chiemsee 26\nKosten: 495\,- / 450 bei Anmeldung bis 9. Mai 26 \nplease register at 5rhythmen@amala-dance.com
URL:https://amala-dance.com/event/5rhythmen-sommertanzwoche-am-chiemsee-26/
LOCATION:Jonathan Seminarhotel\, Kellerstraße 5D\, Chieming Hart\, Bayern\, Bavaria\, 83339\, Deutschland
CATEGORIES:5Rhythmen®,Einsteiger-Workshops,Fortgeschrittenen-Workshops,Specials,Workshops
ATTACH;FMTTYPE=image/jpeg:https://amala-dance.com/wp-content/uploads/2014/12/Amala-Chiemsee.jpg
ORGANIZER;CN="Amala P. Storm":MAILTO:amala@5rhythmen-stuttgart.de
GEO:47.9260488;12.5485807
X-APPLE-STRUCTURED-LOCATION;VALUE=URI;X-ADDRESS=Jonathan Seminarhotel Kellerstraße 5D Chieming Hart Bayern Bavaria 83339 Deutschland;X-APPLE-RADIUS=500;X-TITLE=Kellerstraße 5D:geo:12.5485807,47.9260488
END:VEVENT
END:VCALENDAR