BEGIN:VCALENDAR
VERSION:2.0
PRODID:-//Amala - Body  Soul  Dance - ECPv6.7.0//NONSGML v1.0//EN
CALSCALE:GREGORIAN
METHOD:PUBLISH
X-WR-CALNAME:Amala - Body  Soul  Dance
X-ORIGINAL-URL:https://amala-dance.com
X-WR-CALDESC:Veranstaltungen für Amala - Body  Soul  Dance
REFRESH-INTERVAL;VALUE=DURATION:PT1H
X-Robots-Tag:noindex
X-PUBLISHED-TTL:PT1H
BEGIN:VTIMEZONE
TZID:Europe/Helsinki
BEGIN:DAYLIGHT
TZOFFSETFROM:+0200
TZOFFSETTO:+0300
TZNAME:EEST
DTSTART:20240331T010000
END:DAYLIGHT
BEGIN:STANDARD
TZOFFSETFROM:+0300
TZOFFSETTO:+0200
TZNAME:EET
DTSTART:20241027T010000
END:STANDARD
BEGIN:DAYLIGHT
TZOFFSETFROM:+0200
TZOFFSETTO:+0300
TZNAME:EEST
DTSTART:20250330T010000
END:DAYLIGHT
BEGIN:STANDARD
TZOFFSETFROM:+0300
TZOFFSETTO:+0200
TZNAME:EET
DTSTART:20251026T010000
END:STANDARD
END:VTIMEZONE
BEGIN:VEVENT
DTSTART;TZID=Europe/Helsinki:20241003T180000
DTEND;TZID=Europe/Helsinki:20241006T140000
DTSTAMP:20260424T014454
CREATED:20231207T124135Z
LAST-MODIFIED:20231207T144017Z
UID:10006170-1727978400-1728223200@amala-dance.com
SUMMARY:Homecoming to yourself / Resources & Empathy  / 5Rhythms Heartbeat
DESCRIPTION:Unser Körper und seine Empfindungen rufen uns auf ihre Art zu: Achte auf dich! Gefühle sind natürliche Botschafter\, Wegweiser und Helfer auf dem Weg zu uns selbst. \nIm Alltag fühlen wir uns jedoch eher gestresst von unliebsamen Gefühlen. Wir wehren ab\, sind irritiert oder hilflos\, ziehen uns zurück oder werden forsch\, wir klagen an  oder tun so\, als ob es nicht wichtig wäre.\nWir versuchen Schmerz und Verletzlichkeit zu vermeiden. \nEs ist menschlich so zu reagieren. \n\nWas bringt dich aus dem Gleichgewicht?\nWie findest du deine innere Balance wieder?\nWas hilft dir freundlich und liebevoll mit dir umzugehen??\nWas kommt aus einer vergangenen Erfahrung\, was ist jetzt?\nWas ist mein Anteil\, was ist deiner?\n\nIn diesem Workshop lernen wir mit unseren Empfindungen im Körper umzugehen\, wir stärken innere Ressourcen und lernen uns selbst zu regulieren. \nWir nutzen die Weisheit der 5Rhythmen und fördern die Fähigkeit angemessen und flexibel auf die Herausforderungen des Lebens zu antworten.Wir arbeiten mit dem Selbst als Zustand von Heilung und Regulation. \nMit neuen Ressourcen treffen wir klare Entscheidungen\, begegnen dem Leben als Abenteuer\, und öffnen uns für uns selbst und andere. Wenn Körper\, Seele und Verstand Hand in Hand leben\, entsteht ein Raum der Selbstheilung  und Empathie. \nHeilung –  Selbstregulation –  Ressourcen –  Empathie \n\n\n\n\n\n\n\n\n\n\n\n\nDieser Kurs ist einzeln oder als Teil der Workshopreihe Moving with Feelings buchbar. \n\n\n\n\nOrt: Seminarzentrum Sonnenstrahl Kißlegg\nVorraussetzung: 20 h Conscious Dance Praxis\, 5Rhythmen® Waves Erfahrung\nAnmeldeformular anfordern bei amala@5rhythmen-stuttgart.de / \n\n\n\n\nAnmeldeformular und Infos anfordern unter amala@5rhythmen-stuttgart.de \n\n\n\n\n\n\n\n\n\n\n\n 
URL:https://amala-dance.com/event/emotional-intelligence-3/
LOCATION:Yoga- und Seminarzentrum Sonnenstrahl im Allgäu\, Sebastian-Kneipp-Straße 1\, Kißlegg\, Baden Württemberg\, 88353\, Deutschland
CATEGORIES:5Rhythmen®,Einsteiger-Workshops,Fortgeschrittenen-Workshops,Heartbeat-Workshops
ATTACH;FMTTYPE=image/jpeg:https://amala-dance.com/wp-content/uploads/2023/12/oc-gonzalez-xg8z_KhSorQ-unsplash-2.jpg
ORGANIZER;CN="Amala P. Storm":MAILTO:amala@5rhythmen-stuttgart.de
GEO:47.789715;9.8857952
X-APPLE-STRUCTURED-LOCATION;VALUE=URI;X-ADDRESS=Yoga- und Seminarzentrum Sonnenstrahl im Allgäu Sebastian-Kneipp-Straße 1 Kißlegg Baden Württemberg 88353 Deutschland;X-APPLE-RADIUS=500;X-TITLE=Sebastian-Kneipp-Straße 1:geo:9.8857952,47.789715
END:VEVENT
BEGIN:VEVENT
DTSTART;TZID=Europe/Helsinki:20250418T180000
DTEND;TZID=Europe/Helsinki:20250421T140000
DTSTAMP:20260424T014454
CREATED:20241129T151003Z
LAST-MODIFIED:20241129T151215Z
UID:10006503-1744999200-1745244000@amala-dance.com
SUMMARY:5Rhythmen Osterkurs / Presence in Movement
DESCRIPTION:Viele von uns sehnen sich nach gefühlten und gelebten Erfahrungen\, ein nach Hause kommen in uns selbst. \nbreathe- sense – love – awake – be aware – be kind – being embodied \nIn unserem alltäglichen Leben ist der Focus meist im Tun und wir fühlen uns wie abgeschnitten oder nicht ganz da. Im Hntergrund bleibt ein Gefühl von Enttäuschung\, weil wir wissen\, dass es mehr gibt als das\, die Lebendigkeit\, die genau hier ist\, das ungelebte Leben. \nEmbodied Presence: Ich verstehe\, was in meinem Körper vor sich geht\, und nehme nicht nur mit dem Verstand Kontakt damit auf. Wir kehren zurück zur Lebendigkeit unserer Sinne. Das ist das Tor zu allem\, wonach wir uns sehnen. \nIm Kus nutzen wir die 5Rhythmen Praxis\, um wieder zu direkter Erfahrung zurückzufinden: \n\ndie Wildheit deines tanzenden Körpers in diesem Moment\neine zarte Berührung deiner Seele\neinen klaren unverstellten Blick\, auf das was ist\nein zurücklehnen in eine stille Präsenz\neine freundliche Aufmerksamkeit mit mir selbst und anderen\neine heilsame Distanz zu meinen eigenen Urteilen\n\nIn diesem mitfühlenden „Selbst-Raum“\, können innere Prozesse geschehen\, die dir die nächste Bewegung zeigen. Es entsteht eine neue Wahlfreiheit und ein tiefes einverstanden sein\, wenn du\nso mit dir in Kontakt bist. \nWir arbeiten mit:  5Rhythms Dance\, Breath\, Presence\, Felt Sense\, Sharing\, Ritual \n\n\n\n\nUnd nicht zu vergessen: die Freude am Tanz und der Gemeinschaft . \n\n\n\n\n\n\n\n\nOrt: Seminarhaus Sonnenstrahl Kisslegg  / Kurs-  und Seminarhaus Kosten findest du in der Anmeldung\nVorraussetzung: keine\nAnmeldeformular anfordern bei 5rhythmen@amala-dance.com \n\n\n\n\n  \n\n\n\n\n\n\n\n\n\n\n\n 
URL:https://amala-dance.com/event/presence-in-movment/
LOCATION:Yoga- und Seminarzentrum Sonnenstrahl im Allgäu\, Sebastian-Kneipp-Straße 1\, Kißlegg\, Baden Württemberg\, 88353\, Deutschland
CATEGORIES:5Rhythmen®,Fortgeschrittenen-Workshops,Heartbeat-Workshops
ATTACH;FMTTYPE=image/jpeg:https://amala-dance.com/wp-content/uploads/2024/11/wolfgang-hasselmann-Evvg6pb81x8-unsplash-1.jpeg
ORGANIZER;CN="Amala P. Storm":MAILTO:amala@5rhythmen-stuttgart.de
GEO:47.789715;9.8857952
X-APPLE-STRUCTURED-LOCATION;VALUE=URI;X-ADDRESS=Yoga- und Seminarzentrum Sonnenstrahl im Allgäu Sebastian-Kneipp-Straße 1 Kißlegg Baden Württemberg 88353 Deutschland;X-APPLE-RADIUS=500;X-TITLE=Sebastian-Kneipp-Straße 1:geo:9.8857952,47.789715
END:VEVENT
END:VCALENDAR