BEGIN:VCALENDAR
VERSION:2.0
PRODID:-//Amala - Body  Soul  Dance - ECPv6.7.0//NONSGML v1.0//EN
CALSCALE:GREGORIAN
METHOD:PUBLISH
X-ORIGINAL-URL:https://amala-dance.com
X-WR-CALDESC:Veranstaltungen für Amala - Body  Soul  Dance
REFRESH-INTERVAL;VALUE=DURATION:PT1H
X-Robots-Tag:noindex
X-PUBLISHED-TTL:PT1H
BEGIN:VTIMEZONE
TZID:Europe/Helsinki
BEGIN:DAYLIGHT
TZOFFSETFROM:+0200
TZOFFSETTO:+0300
TZNAME:EEST
DTSTART:20180325T010000
END:DAYLIGHT
BEGIN:STANDARD
TZOFFSETFROM:+0300
TZOFFSETTO:+0200
TZNAME:EET
DTSTART:20181028T010000
END:STANDARD
BEGIN:DAYLIGHT
TZOFFSETFROM:+0200
TZOFFSETTO:+0300
TZNAME:EEST
DTSTART:20190331T010000
END:DAYLIGHT
BEGIN:STANDARD
TZOFFSETFROM:+0300
TZOFFSETTO:+0200
TZNAME:EET
DTSTART:20191027T010000
END:STANDARD
BEGIN:DAYLIGHT
TZOFFSETFROM:+0200
TZOFFSETTO:+0300
TZNAME:EEST
DTSTART:20200329T010000
END:DAYLIGHT
BEGIN:STANDARD
TZOFFSETFROM:+0300
TZOFFSETTO:+0200
TZNAME:EET
DTSTART:20201025T010000
END:STANDARD
TZID:Atlantic/Azores
BEGIN:DAYLIGHT
TZOFFSETFROM:-0100
TZOFFSETTO:+0000
TZNAME:+00
DTSTART:20200329T010000
END:DAYLIGHT
BEGIN:STANDARD
TZOFFSETFROM:+0000
TZOFFSETTO:-0100
TZNAME:-01
DTSTART:20201025T010000
END:STANDARD
TZID:Europe/Berlin
BEGIN:DAYLIGHT
TZOFFSETFROM:+0100
TZOFFSETTO:+0200
TZNAME:CEST
DTSTART:20150329T010000
END:DAYLIGHT
BEGIN:STANDARD
TZOFFSETFROM:+0200
TZOFFSETTO:+0100
TZNAME:CET
DTSTART:20151025T010000
END:STANDARD
END:VTIMEZONE
BEGIN:VEVENT
DTSTART;TZID=Europe/Helsinki:20200717T180000
DTEND;TZID=Europe/Helsinki:20200719T160000
DTSTAMP:20260420T170459
CREATED:20191213T132458Z
LAST-MODIFIED:20200707T161105Z
UID:10006069-1595008800-1595174400@amala-dance.com
SUMMARY:Emotional Intelligence / Balancing Body & Emotions
DESCRIPTION:Open Floor Movement & Therapy in Motion\nIch freue mich sehr dieses so aktuelle und wichtige Thema anbieten zu können. Nach all den Emotionen und der Zurückhaltung in vielen Bereichen werde ich den Kursinhalt so anpassen\, dass wir Zeit haben auf alles zu schauen was jetzt durchtanzt werden möchte.Dabei ist Emotionale Balance und die Stärkung unsere inneren Ressourcen unser Leitfaden. \nIn jedem Augenblick unseres Lebens tanzt unser Nervensystem in unserem Körper mit allen Gegebenheiten. Manchmal mit Freude und Genuss und manchmal mit Frust und dem Gefühl von etwas bestimmt zu werden\, das wir nicht wirklich wollen. Manchmal sind wir gestresst\, überdreht\, mit zu vielen Dingen gleich- zeitig beschäftigt und haben dadurch zu wenig Ruhe und Balance in uns selbst. Haben wir dann endlich mal Zeit und Ruhe sind wir schlapp oder unmotiviert für all die Ideen und Leidenschaften in unserem Herzen. Oder wir haben das Gefühl für uns selbst verloren\, um was es uns eigentlich geht\, was unserer inneren Wahrheit entspricht. Das sind die Extreme die jeder mehr oder weniger kennt. Wir sind abgeschnitten von der Quelle in uns. \n\n\n\n\n\n\n\n\nIm Kurs geht es darum\, wie wir uns grundsätzlich wohl fühlen: geerdet\, präsent und mit positiven Gefühlen in der Welt und ihren Beziehungen. \n– Wie gehen wir mit unserer Energie um?\n– Was brauche ich für eine gesunde Balance?\n– Kann ich meine Gefühle akzeptieren und mit ihnen umgehen?\n– Wie kann ich Innen und Aussen in Harmonie bringen? \nWir nehmen diese Fragen mit in unseren Tanz und üben uns im Körper zu ver- ankern. Raus aus der Opferrolle und hinein in eine gesunde Balance von außen und innen\, tun und sein\, Gemeinschaft und Alleinsein\, arbeiten und entspannen\, Ziele erreichen und dem Fluss des Lebens folgen. \n\n\n\n\nMit neuem Schwung und gestärkt empfinden wir die Reise durch unser Leben wieder lebendig und von unserer Seele gesteuert. Wir sind fähig mit den Gegebenheiten des Alltags umzugehen und unsere Energie immer wieder zu regenerieren. \nIn Emotional Intelligence Kursen arbeiten wir mit:  \n\nOpen Floor Movement\n Individuell Work\nTherapy in Motion*\nFeedback\nTeachings \nRitualen\nkreative Medien \nMeditation\n\nDieser Kurs bietet einen Überblick über das Thema Resilienz und Selbstregulation und gibt dir wichtige Hinweise im Umgang mit dir selbst und anderen. \nDaher kann er auch von psychosozialen Berufen\, Lehrern und Helferberufe bzw. allen die mit anderen Menschen arbeiten\, als Lehrgang benutzt werden (ohne staatl. Anerkennung).\nDie Ausbildung zum Open Floor Teacher & Therapy in Motion ist bei OF international möglich. Weitere Infos erhälst du bei Amala. \n* Es folgt eine Kursreihe Emotional Intelligence mit 3 weiteren Workshops 2020 /2021. Die Stunden werden anerkannt für das Open Floor Teachertraining. \n\n\n\n\n\n\n\n\n\n\n\n\n\n\n\n\n\n\n\n\n\n\n\n\nOrt: Gut Helmeringen bei Ulm\nVorraussetzung: 20 h Conscious Dance Praxis\, 5Rhythmen® Waves Erfahrung\nAnmeldeformular anfordern bei openfloor@amala-dance.com \n\n\n\n\nDie Kursstunden sind anerkannt für das Teacher Training. \nAnmeldung Anmeldung EI BodyEmotion \n  \n\n\nEnglish \nI am very happy to be able to offer this current and important topic. After all the emotions and reluctance in many areas\, I will adjust the course content that we have time to look at everything that wants to be danced through now. Emotional balance and strengthening our internal resources are our guidelines. \n\n\n\n\n\nEvery moment of our lives\, our nervous system in our body dances with all cir- cumstances. Sometimes with pleasure and sometimes with frustration and the feeling of being determined by something we do not really want. Sometimes we are stressed\, upset\, too busy with too many things at the same time\, and thus have too little rest and balance in ourselves. Finally\, we have time and rest\, we are tired or unmotivated for all the ideas and passions in our hearts. Or we have lost the feeling for ourselves\, what we are actually need\, what our inner truth is. These are the extremes everyone knows more or less. \nWe are cut off from the source in us. \nThe course is about how we feel in general: grounded\, present and with positive feelings in the world and their relationships. \n– How do we deal with our energy?\n– What do I need for a healthy balance?\n– Can I accept and handle my feelings?\n– How can my inner space be in harmony with the outside? \nWe take these questions into our dance and practice anchoring ourselves in the body. Get out of the victim role and into a healthy balance of outside and inside\, do and be\,communion and aloneness\, work and relax\, achieve goals and follow the flow of life. \nWith renewed momentum and strength\, we feel the journey through our lives alive again and managable by our soul. We are able to deal with the everyday conditions and to regenerate our energy over and over again. \n\n\n\n\nIn Emotional Intelligence courses we work with:\n Open Floor Movement / Individual Work – Therapy in Motion * / Feedback / Teachings / Rituals / Creative Media / Meditation \n\n\n\n\n\n\n\n\n\n\n\n\n\n\n\n\n\n\n\n\n\n\n\n\nThis course provides an overview of resilience and selfregulation and gives you important clues in dealing with yourself and others.\nTherefore\, it can also be used by psychosocial occupations\, teachers and helper professions or anyone who works with other people\, as a course (without state recognition).\nThe Open Floor Teacher & Therapy in Motion training is available at OF international. You will receive further information from Amala \n* Following is a course series Emotional Intelligence with 3 further workshops 2020/2021.\n• The lessons are recognized for the Open Floor Teacher Training. \n\n\n\n\n\n\n\n\n\n\n\n\nInfos and Registration at openfloor@amala-dance.com
URL:https://amala-dance.com/event/emotional-intelligence-bodybalance/
LOCATION:Gut Helmeringen\, Helmeringer Weg 43\,  Lauingen/ Donau\, Bayern\, 89415\, Deutschland
CATEGORIES:5Rhythmen®,Einsteiger-Workshops,Fortgeschrittenen-Workshops,Heartbeat-Workshops
ATTACH;FMTTYPE=image/jpeg:https://amala-dance.com/wp-content/uploads/2019/12/david-clode-djswadct1ps-unsplash-Kopie.jpg
ORGANIZER;CN="Amala P. Storm":MAILTO:amala@5rhythmen-stuttgart.de
GEO:48.54217;10.41494
X-APPLE-STRUCTURED-LOCATION;VALUE=URI;X-ADDRESS=Gut Helmeringen Helmeringer Weg 43  Lauingen/ Donau Bayern 89415 Deutschland;X-APPLE-RADIUS=500;X-TITLE=Helmeringer Weg 43:geo:10.41494,48.54217
END:VEVENT
BEGIN:VEVENT
DTSTART;TZID=Atlantic/Azores:20200301T110000
DTEND;TZID=Atlantic/Azores:20200301T180000
DTSTAMP:20260420T170459
CREATED:20191212T170138Z
LAST-MODIFIED:20200220T140318Z
UID:10006067-1583060400-1583085600@amala-dance.com
SUMMARY:Re_Connecting with Myself / fällt aus !!!!
DESCRIPTION:ein Tag für dich – Open Floor & Individuelle Session\nDieser Kurs ist eine Einladung deine Tanzpraxis zu vertiefen und mit deinen ganz persönlichen Anliegen da zu sein.\nGemeinsam bewegen wir was fest steckt\, auf den Weg gebracht werden will  und lebendig sein möchte. \nDabei nutzen wir die Ressourcen der Open Floor Praxis und die Einzelarbeit von Therapie in Motion. \nIn der unterstützenden Gemeinschaft der Gruppe können innere Prozesse geschehen\, die dir die nächste Bewegung zeigen.\nEs entsteht eine neue Wahlfreiheit und ein tiefes einverstanden sein\, wenn du so mit dir in Kontakt bist. \nWährend dieser Zeit haben 2 Tänzer die Möglichkeit einzeln mit mir zu arbeiten.\nTherapie in Motion \n“My deep longing in life ist o be present with anything that meets me.” \nOffener Abend Samstag 19. Oktober 19.30h -22.00h Intro Therapy in Motion & Wave\nTanztag Sonntag 1.März  11-18h \nAnmeldeformular anfordernde bei openfloor@amala-dance.com\nVorraussetzung 20h Conscious Dance Praxis;
URL:https://amala-dance.com/event/reconnecting-4/
LOCATION:Tanztempel Ost\, Ulmer Str. 184\, Stuttgart\, Baden Württemberg\, 70188\, Deutschland
CATEGORIES:Open Floor,OpenFloor-Workshops
ATTACH;FMTTYPE=image/jpeg:https://amala-dance.com/wp-content/uploads/2017/12/B2K0655-Kopie.jpg
ORGANIZER;CN="Amala Storm":MAILTO:openfloor@amala-dance.com
GEO:48.8001622;9.2146158
X-APPLE-STRUCTURED-LOCATION;VALUE=URI;X-ADDRESS=Tanztempel Ost Ulmer Str. 184 Stuttgart Baden Württemberg 70188 Deutschland;X-APPLE-RADIUS=500;X-TITLE=Ulmer Str. 184:geo:9.2146158,48.8001622
END:VEVENT
BEGIN:VEVENT
DTSTART;TZID=Europe/Helsinki:20190620T180000
DTEND;TZID=Europe/Helsinki:20190623T140000
DTSTAMP:20260420T170459
CREATED:20181206T120711Z
LAST-MODIFIED:20190527T124423Z
UID:10006037-1561053600-1561298400@amala-dance.com
SUMMARY:Emotional Release / Surrender into your Heart
DESCRIPTION:Loslassen ist eine Herausforderung die sich jedem Menschen stellt.\n♥ von unerfüllten Sehnsüchten und Bedürfnissen\n♥ von Lebensplänen\, wie die große Australienreise oder die große Liebe\n♥ vom Bemühen um Anerkennung\, von jemanden oder für etwas\n♥ von meinem Selbstkonzept\, wer ich bin oder werden sollte\n♥ von Zielen\, die ich erreichen wollte oder Wege\, die ich verlasse \nIn diesem Kurs tanzen wir in die Gefühlslandschaft des Loslassens.\nJede Emotion will durchlebt werden und wieder entlassen. Allzu oft begleiten uns Empfindungen sehr lange\, in unseren Körpern und Köpfen führen sie ein Eigenleben. Das behindert unsere Weiterentwicklung und unsern Blick auf den realen Moment. Daher widmen wir uns der Fähigkeit uns hinzugeben\, ans Leben\, an uns selbst und dem was ist. \nDazu gehört auch die Fähigkeit zu trauern und Abschied zu nehmen und je eher wir sie annehmen und lernen damit umzugehen\, desto erlösender werden Tränen für uns sein. \n♥ Verletzlichkeit zulassen und ihre Stärke erkennen \n♥ Altes loslassen\, betrauern und erlösen \n♥ Bewegung ins Selbst hinein als Quelle der Heilung \nDer Prozess des Loslassens birgt etwas sehr entlastendes\, hilfreiches\, ja geradezu befreiendes. Wir üben diese Qualität im Chaos Tanz und nutzen die freigewordene Energie für die Chancen die sich auftun. Sie sind größer als wir glauben \nMantra: Ich akzeptiere\, was ist und lerne lieben. \n\n\n\n\n\n\n\n\n\n\n\n\nDie Reise umfasst:\n– 5Rhythmen Tanz / Waves & Heartbeat\n– Meditationen & Inquiry\n– Ritual or Therapy in Motion\n– ev. Film\nUnd nicht zu vergessen: die Freude am Tanz und der Gemeinschaft . \nDieser Kurs ist einzeln oder als Teil der Workshopreihe Moving with Feelings buchbar. \n\n\n\n\nOrt: Gut Helmeringen\, Helmeringer Weg 43\, 89415 Lauingen\nVorraussetzung: 20 h Conscious Dance Praxis\, 5Rhythmen® Waves Erfahrung\nAnmeldeformular anfordern bei amala@5rhythmen-stuttgart.de / Anmeldeschluss ist der 24.2. 19 \n\n\n\n\nDie Kursstunden sind anerkannt für das Teacher Training. Heartbeat Level 2 \n\n\n\n\n\n\n\n\n\n\n\n 
URL:https://amala-dance.com/event/surrender/
LOCATION:Gut Helmeringen\, Helmeringer Weg 43\,  Lauingen/ Donau\, Bayern\, 89415\, Deutschland
CATEGORIES:5Rhythmen®,Einsteiger-Workshops,Fortgeschrittenen-Workshops,Heartbeat-Workshops
ATTACH;FMTTYPE=image/jpeg:https://amala-dance.com/wp-content/uploads/2015/02/Klimawandel.jpg
ORGANIZER;CN="Amala P. Storm":MAILTO:amala@5rhythmen-stuttgart.de
GEO:48.54217;10.41494
X-APPLE-STRUCTURED-LOCATION;VALUE=URI;X-ADDRESS=Gut Helmeringen Helmeringer Weg 43  Lauingen/ Donau Bayern 89415 Deutschland;X-APPLE-RADIUS=500;X-TITLE=Helmeringer Weg 43:geo:10.41494,48.54217
END:VEVENT
BEGIN:VEVENT
DTSTART;TZID=Europe/Helsinki:20190301T180000
DTEND;TZID=Europe/Helsinki:20190303T160000
DTSTAMP:20260420T170459
CREATED:20181130T132943Z
LAST-MODIFIED:20190211T131003Z
UID:10006315-1551463200-1551628800@amala-dance.com
SUMMARY:The Power of the Body  / Trust & Courage
DESCRIPTION:  The Power of the Body – einige Anregungungen von Amala in der Audiodatei \n\n  \nIn diesem Workshop lernst du die emotionale Landkarte der 5Rhythmen kennen. \nVertrauen  in mich selbst\, in andere Menschen\, ins Leben.. \nMut  zu handeln\, zu lieben\, mich wahrhaftig auszudrücken…Wer hätte das nicht gerne ? \n\n\n\n\n\n\n\nWir brauchen eine gute Wahrnehmung von uns selbst\,  unserem Körper und unseren Gefühlen\,  damit wir diese Qualitäten in uns stärken können. \nIm Kurs lernen wir durch den Tanz ganz im Körper anzukommen und einen neuen und gesunden Umgang mit unseren Gefühlen zu pflegen. Heartbeat lädt dich ein die Energie einer Emotion zu erforschen\,  sie zu durchtanzen und in ihrer positiven Kraft zu nutzen. \nOft leben wir in einer reduzierten Weise\, besonders mit sehr kraftvollen Energien trauen wir uns nicht nach außen. Vertrauen in dich selbst und in deine Kraft kann jedoch trainiert werden wie ein Muskel. \nWir stärken die Fähigkeit für dich einzustehen\, für dich zu gehen\, für deine Herzenswünsche\, für Würde und Selbstrespekt. \nStatt das Opfer der Umstände oder von Menschen zu sein\, nehmen wir unser „Fühlen“ und üben\, mit demwas ist  präsent und geerdet zu bleiben. Statt unsere Wut auszuagieren\, sie zu unterdrücken oder uns von ihr beherrschen zu lassen\, nutzen wir ihre Energie als Kraftquelle für eine klare und direkte Kommunikation\, für unsere Grenzen und unseren Weg. \nWenn wir uns mit unseren Gefühlen anfreunden\, sie als Boschafter und Beschützer erkennen\, finden wir auch den Mut nach außen zu gehen und dem Leben zu begegnen \nDas gibt dir ein stärkeres Selbstgefühl und den Mut authentisch zu sein. \n\n\n\n\n\n\n\n\n\n\n\n\nDie Reise umfasst:\n– 5Rhythmen Tanz / Waves & Heartbeat\n– Meditationen & Inquiry\n– Ritual or Therapy in Motion\n– ev. Film\nUnd nicht zu vergessen: die Freude am Tanz und der Gemeinschaft . \nDieser Kurs ist einzeln oder als Teil der Workshopreihe Moving with Feelings buchbar. \n\n\n\n\nOrt: Gut Helmeringen\, Helmeringer Weg 43\, 89415 Lauingen\nVorraussetzung: 20 h Conscious Dance Praxis\, 5Rhythmen® Waves Erfahrung\nAnmeldeformular anfordern bei amala@5rhythmen-stuttgart.de / Anmeldeschluss ist der 24.2. 19 \n\n\n\n\nDie Kursstunden sind anerkannt für das Teacher Training. Heartbeat Level
URL:https://amala-dance.com/event/power-of-the-body/
LOCATION:Gut Helmeringen\, Helmeringer Weg 43\,  Lauingen/ Donau\, Bayern\, 89415\, Deutschland
CATEGORIES:5Rhythmen®,Einsteiger-Workshops,Fortgeschrittenen-Workshops,Heartbeat-Workshops
ATTACH;FMTTYPE=image/jpeg:https://amala-dance.com/wp-content/uploads/2018/11/Amala-Power-of-Body-.jpg
ORGANIZER;CN="Amala P. Storm":MAILTO:amala@5rhythmen-stuttgart.de
GEO:48.54217;10.41494
X-APPLE-STRUCTURED-LOCATION;VALUE=URI;X-ADDRESS=Gut Helmeringen Helmeringer Weg 43  Lauingen/ Donau Bayern 89415 Deutschland;X-APPLE-RADIUS=500;X-TITLE=Helmeringer Weg 43:geo:10.41494,48.54217
END:VEVENT
BEGIN:VEVENT
DTSTART;TZID=Europe/Helsinki:20181123T180000
DTEND;TZID=Europe/Helsinki:20181125T140000
DTSTAMP:20260420T170459
CREATED:20180813T125848Z
LAST-MODIFIED:20181018T080513Z
UID:10006302-1542996000-1543154400@amala-dance.com
SUMMARY:The Power of Love / Leaving Unworthiness
DESCRIPTION:In diesem Workshop lernst du die emotionale Landkarte der 5Rhythmen kennen. \n\n\n\n\nFast jeder kennt Zweifel und Unsicherheiten mit sich selbst und anderen. Diese Empfindungen haben ihre Wurzeln in der Angst und Scham nicht gut genug zu sein. Wir wissen im Kopf\, dass dies nicht notwendig ist\, das hilft uns jedoch in diesen Momenten nicht weiter. \n\n\n\n\nIn diesem Workshop nutzen wir den die Landkarte der 5Rhythmen\, um mit uns selbst in tieferen Kontakt zu kommen.\nWir üben uns anzunehmen\, mit allen Unvollkommenheiten. Anstatt unser Fühlen zu bekämpfen\, lernen wir unsere Gefühle als freundliche Botschafter kennen.\nWir erfahren wozu sie da sind\, wie sie sich bewegen\, und welche wichtige Funktion sie erfüllen. Jedes Gefühl ist eine Kraft die eingesetzt werden möchte für deine Einzigartigkeit\, dein Potential\, deine Kreativität und dein Mitgefühl. \nDas gibt dir ein stärkeres Selbstgefühl und den Mut authentisch zu sein. \n\n\n\n\n\n\n\n\n\n\n\n\nDie Reise umfasst:\n– 5Rhythmen Tanz / Waves & Heartbeat\n– Meditationen & Inquiry\n– Ritual or Therapy in Motion.\nUnd nicht zu vergessen: die Freude am Tanz und der Gemeinschaft . \nDieser Kurs ist einzeln oder als Teil der Workshopreihe Moving with Feelings buchbar. \n\n\n\n\nOrt: Gut Helmeringen\, Helmeringer Weg 43\, 89415 Lauingen\nVorraussetzung: 20 h Conscious Dance Praxis\, 5Rhythmen® Waves Erfahrung\nAnmeldeformular anfordern bei amala@5rhythmen-stuttgart.de / Anmeldeschluss 18.10.18 \n\n\n\n\nDie Kursstunden sind anerkannt für das Teacher Training. Heartbeat Level 2 \n\n\n\n\n\n\n\n\n\n\n\n 
URL:https://amala-dance.com/event/https-amala-dance-com-event-power-of-love-leaving-unworthiness-%e2%80%8e/
LOCATION:Gut Helmeringen\, Helmeringer Weg 43\,  Lauingen/ Donau\, Bayern\, 89415\, Deutschland
CATEGORIES:5Rhythmen®,Einsteiger-Workshops,Fortgeschrittenen-Workshops,Heartbeat-Workshops
ATTACH;FMTTYPE=image/jpeg:https://amala-dance.com/wp-content/uploads/2018/08/B2K1519.jpg
ORGANIZER;CN="Amala P. Storm":MAILTO:amala@5rhythmen-stuttgart.de
GEO:48.54217;10.41494
X-APPLE-STRUCTURED-LOCATION;VALUE=URI;X-ADDRESS=Gut Helmeringen Helmeringer Weg 43  Lauingen/ Donau Bayern 89415 Deutschland;X-APPLE-RADIUS=500;X-TITLE=Helmeringer Weg 43:geo:10.41494,48.54217
END:VEVENT
BEGIN:VEVENT
DTSTART;TZID=Europe/Helsinki:20181104T110000
DTEND;TZID=Europe/Helsinki:20181104T180000
DTSTAMP:20260420T170459
CREATED:20180524T092502Z
LAST-MODIFIED:20180813T092550Z
UID:10006300-1541329200-1541354400@amala-dance.com
SUMMARY:5Rhythmen Heartbeat _ Moving with Feelings
DESCRIPTION:eine Einführung in die emotionale Landkarte der 5Rhythmen. Work Level 2 \nIn diesem Workshop lernst du die emotionale Landkarte der 5Rhythmen kennen.\nGefühle sind nicht immer klar\, sondern beschäftigen uns unbewusst. \nAn diesem Tag tanzen wir durch die Landschaften unserer emotionalen Welt und lernen\, wie wir unser Fühlen zurück in den Körper und in Bewegung bringen. \n\nWie gehst du mit Deinen Gefühlen um?\nWas will dein Herz?\nWas will erlöst werden?\nWas will gesehen und akzeptiert werden?\n\nWir folgen der Heartbeat Landkarte in die Basisgefühle von Angst\, Wut\, Schmerz\, Freude und Mitgefühl.\nWir stärken die Beziehung zu uns selbst und unsere Fähigkeit mit dem zu sein was ist\, anstatt das was wir fühlen zu verdrängen\, zu vermeiden oder abzulehnen.\nDiese Reise gibt dir Wegweiser\, dein Herz zu öffnen und dir mit Liebe und Bewusstheit zu begegnen – als eine alltägliche Praxis. \n Dieser Kurs ist eine Einführung in die Jahresgruppe und gibt dir die nötige Vorraussetzung und weitere Infos um teilzunehmen.  \nAnmeldeformular anfordern bei amala@5rhythmen-stuttgart.de / Anmeldeschluss 27.10.18
URL:https://amala-dance.com/event/5rhythmen-heartbeat-_-moving-with-feelings/
LOCATION:online on Zoom\, Mercedesstr. 9\, Stuttgart\, 70372\, Deutschland
CATEGORIES:5Rhythmen®,Einsteiger-Workshops,Fortgeschrittenen-Workshops,Heartbeat-Workshops
ATTACH;FMTTYPE=image/jpeg:https://amala-dance.com/wp-content/uploads/2013/10/5rhythmen-fortgeschrittene-e1387362342185.jpg
ORGANIZER;CN="Amala P. Storm":MAILTO:amala@5rhythmen-stuttgart.de
GEO:48.8001622;9.2146158
X-APPLE-STRUCTURED-LOCATION;VALUE=URI;X-ADDRESS=online on Zoom Mercedesstr. 9 Stuttgart 70372 Deutschland;X-APPLE-RADIUS=500;X-TITLE=Mercedesstr. 9:geo:9.2146158,48.8001622
END:VEVENT
BEGIN:VEVENT
DTSTART;TZID=Europe/Berlin:20151002T183000
DTEND;TZID=Europe/Berlin:20151004T160000
DTSTAMP:20260420T170459
CREATED:20150709T120231Z
LAST-MODIFIED:20150709T120231Z
UID:10006046-1443810600-1443974400@amala-dance.com
SUMMARY:The Witness & The Dancer / 5Rhythmen Tanz
DESCRIPTION:The Witness & The Dancer  / 5Rhythmen® Tanz & MovingParts\n5Rhythmen® Tanz \nDie 5Rhythmen geben dir eine einzigartige Möglichkeit ganz in den Körper und seinen Tanz einzutauchen. Die meisten Menschen lieben das Gefühl\, dass sie eins werden mit ihren Bewegungen. Dennoch gibt es zeitgleich einen Teil\, der wahrnehmen kann was geschieht\, spürt und beobachtet. \nDiesen Teil nennen wir Witness oder Zeuge. \nIn diesem Kurs nutzen wir die Weisheit und Intelligenz dieses Zeugen\, um uns selbst wahrzunehmen und sowohl von innen\, als auch von außen Unterstützung zu erhalten. \nMovingParts  \nIn MovingParts verbinden wir die Vitalität des Tanzes\, mit diesem mitfühlenden und weisen Witness und begeben uns auf die Reise unsere verschiedenen Lebensrollen (Parts) zu entdecken.\nDiese Parts oder auch unterschiedliche Persönlichkeitsanteile agieren in ähnlichen Abläufen oder Mustern und oftmals können uns nicht genug davon distanzieren.\nWir erkennen nicht ihren tieferen Sinn. Im Kurs  lernen wir uns mit diesen Anteilen zu befreunden und nutzen ihre Wahrheit und  Wegweisung. \nIn jedem Menschen existiert ein mitfühlendes „SELBST“ und dieses Selbst kann und sollte das innere System einer Person führen. \n  \nIn diesem gemeinsamen mitfühlenden „Selbst-Raum“\, können innere Prozesse geschehen\, die dir die nächste Bewegung zeigen.\nEs entsteht eine neue Wahlfreiheit und ein tiefes einverstanden sein\, wenn du so mit dir in Kontakt bist. \n  \nUlrike Faiß \n“Ich freue mich die Orga und Assistenz bei Amalas Workshop machen zu können. Als Teilnehmerin habe ich schon die Jahresgruppe mitgemacht und viele viele workshops bei ihr getanzt. Amala schafft es auf ganz sensible Art und Weise einen achtsamen und würdevollen Raum zu kreieren\, der sehr viel Entfaltung für jeden Prozeß zulässt\, ich fühle mich bei ihr wohl aufgehoben und inspiriert Neues zu wagen und zu entdecken. \nIch schätze ihre Arbeit sehr\, da jede/r in der Gruppe mit dem was er/sie mitbringt willkommen ist\, wir treffen uns jenseits von Bewertung und so kann sich jede/r frei ohne „du musst da oder dort hin“ zum eigenen Sein hin entwickeln.” \n \nFrühbucher bis 1.September 2015 zahlen nur 180\,- Euro\nKosten: 220\,- Euro; excl. Ü/V \nWorkshop: Freitag 2.10. 18.30h – Sonntag 4.10. 16.00h ; incl Feiertag \nOrt: Seminarhaus Gut Helmeringen bei Ulm; www.gut–helmeringen.de\nAnmeldung: ulrike.faiss@t-online.de; 0175-7131097 oder 0756-79887353\nEnkenhofen8\, 88260 Argenbühl\nDie Anmeldung erfolgt schriftlich mit Anmeldeformular \nMovingParts ist eine  Synthese von IFS\, Systemische Therapie\, in Verbindung mit Tanz.\nSie ist nicht Teil der 5Rhythmen Arbeit\, sondern wird zusätzlich verwendet. siehe https://amala-dance.com/therapie/movingparts/ \nDer Kurs ist sowohl für Anfänger als auch für erfahrene Tänzer/innen geeignet. \n 
URL:https://amala-dance.com/event/5rhythmen-tanz-und-movingparts/
LOCATION:Gut Helmeringen\, Helmeringer Weg 43\,  Lauingen/ Donau\, Bayern\, 89415\, Deutschland
CATEGORIES:5Rhythmen®,Einsteiger-Workshops,Fortgeschrittenen-Workshops,MovingParts,Specials
ATTACH;FMTTYPE=image/jpeg:https://amala-dance.com/wp-content/uploads/2015/07/witnessdancer-www.jpg
ORGANIZER;CN="Ulrike Fai%C3%9F":MAILTO:ulrike.faiss@t-online.de
GEO:48.54217;10.41494
X-APPLE-STRUCTURED-LOCATION;VALUE=URI;X-ADDRESS=Gut Helmeringen Helmeringer Weg 43  Lauingen/ Donau Bayern 89415 Deutschland;X-APPLE-RADIUS=500;X-TITLE=Helmeringer Weg 43:geo:10.41494,48.54217
END:VEVENT
END:VCALENDAR