BEGIN:VCALENDAR
VERSION:2.0
PRODID:-//Amala - Body  Soul  Dance - ECPv6.7.0//NONSGML v1.0//EN
CALSCALE:GREGORIAN
METHOD:PUBLISH
X-WR-CALNAME:Amala - Body  Soul  Dance
X-ORIGINAL-URL:https://amala-dance.com
X-WR-CALDESC:Veranstaltungen für Amala - Body  Soul  Dance
REFRESH-INTERVAL;VALUE=DURATION:PT1H
X-Robots-Tag:noindex
X-PUBLISHED-TTL:PT1H
BEGIN:VTIMEZONE
TZID:Europe/Berlin
BEGIN:DAYLIGHT
TZOFFSETFROM:+0100
TZOFFSETTO:+0200
TZNAME:CEST
DTSTART:20250330T010000
END:DAYLIGHT
BEGIN:STANDARD
TZOFFSETFROM:+0200
TZOFFSETTO:+0100
TZNAME:CET
DTSTART:20251026T010000
END:STANDARD
TZID:Europe/Helsinki
BEGIN:DAYLIGHT
TZOFFSETFROM:+0200
TZOFFSETTO:+0300
TZNAME:EEST
DTSTART:20250330T010000
END:DAYLIGHT
BEGIN:STANDARD
TZOFFSETFROM:+0300
TZOFFSETTO:+0200
TZNAME:EET
DTSTART:20251026T010000
END:STANDARD
END:VTIMEZONE
BEGIN:VEVENT
DTSTART;TZID=Europe/Berlin:20250920T110000
DTEND;TZID=Europe/Berlin:20250920T180000
DTSTAMP:20260423T074504
CREATED:20250709T122130Z
LAST-MODIFIED:20250709T122130Z
UID:10006606-1758366000-1758391200@amala-dance.com
SUMMARY:Isarwellen in München / Rote Fabrik
DESCRIPTION:DTM-Isarwellen\, Rote Fabrik\n\n20. SEPTEMBER UM 11:00 – 18:00\n\n\n\nWir tanzen in der roten Fabrik in München-Neuaubing\, Brunhamstrasse 19A\, 1. Stock\,  \n81249 München \nIsarwellen SAVE THE DATE\nEs wird etwas ganz Besonderes geben! Lasst euch überraschen!
URL:https://amala-dance.com/event/isarwellen-in-muenchen-rote-fabrik/
LOCATION:Rote Fabrik Tanzraum Neuaubing\, Brunhamstr. 19a\, München\, Bayern\, 81249\, Deutschland
GEO:48.8001622;9.2146158
X-APPLE-STRUCTURED-LOCATION;VALUE=URI;X-ADDRESS=Rote Fabrik Tanzraum Neuaubing Brunhamstr. 19a München Bayern 81249 Deutschland;X-APPLE-RADIUS=500;X-TITLE=Brunhamstr. 19a:geo:9.2146158,48.8001622
END:VEVENT
BEGIN:VEVENT
DTSTART;TZID=Europe/Helsinki:20250923T200000
DTEND;TZID=Europe/Helsinki:20250923T220000
DTSTAMP:20260423T074504
CREATED:20250724T135842Z
LAST-MODIFIED:20250724T135930Z
UID:10006614-1758657600-1758664800@amala-dance.com
SUMMARY:Wave after Wave  / Herbstbeginn für neue und altbekannte Tänzer*innen
DESCRIPTION:Jeder Körper\, jeder Mensch und jede Bewegungspraxis hat seine ganz eigenen Sprache.\nIn diesem Kurs widmen wir und der Vielfalt und der Essenz der 5Rhythmen Tanzwelt von G. Roth\nDu musst keine Schritte lernen\, erfährst aber die unterschiedlichen Qualititäten und Gateways in den jeweiligen Rhythmen \nDiese Kurse sind eine Einladung die 5 Rhythmen™ kennen zu lernen\nund das Verständnis für die Rhythmen zu vertiefen.\nWir beginnen da wo wir sind. In der Balance zwischen freier Bewegung\nund Anleitung erforschen wir jeden der fünf Rhythmen: die Form\, die\nBewegung im Körper und im Raum\, die spezifische Energie\,\ndie der jeweilige Rhythmus in uns erweckt und wie wir diese Energie\nfür uns und in Gemeinschaft nutzen können. Jeder Abend fokussiert\nein Thema und führt durch eine vollständige Wave.\nWir folgen dem freien Fluss unserer Energie\,\nder Freude an Bewegung und geben uns die Freiheit\nuns auszudrücken. \n“Wave tanzen schafft eine heilsame\, kraftvolle\nund tiefe Verbindung zum eigenen Körper\,\nseiner Lebendigkeit\, und der Quelle des Lebens\,\ndem Spirit oder dem Sein.”  Amala \nAlle sind willkommen\, Anfänger\, erfahrene Tänzer/innen und Neugierige.\nDie fortlaufenden Kurse sind einzeln buchbar.\nAnmeldung: das erste Mal telefonisch auf AB\nMitzubringen: bequeme Kleidung\, Getränk\, rutschfeste Socken/ Tanzschuhe \nTermine siehe auch Kalender \n\n 
URL:https://amala-dance.com/event/wave-after-wave-offene-gruppe-herbst/
LOCATION:Sängerschaft Schwaben\, Am Kriegsbergturm 37\, Stuttgart\, Baden Württemberg\, 70192\, Deutschland
CATEGORIES:5Rhythmen®,Classes,Einsteiger-Kurse,Wave after Wave,Wave-Angebot
ATTACH;FMTTYPE=image/jpeg:https://amala-dance.com/wp-content/uploads/2013/12/home21.jpg
ORGANIZER;CN="Amala P. Storm":MAILTO:amala@5rhythmen-stuttgart.de
END:VEVENT
BEGIN:VEVENT
DTSTART;TZID=Europe/Helsinki:20250930T200000
DTEND;TZID=Europe/Helsinki:20250930T220000
DTSTAMP:20260423T074504
CREATED:20250724T140204Z
LAST-MODIFIED:20250724T140204Z
UID:10006616-1759262400-1759269600@amala-dance.com
SUMMARY:Wave after Wave  / offene Gruppe
DESCRIPTION:Jeder Körper\, jeder Mensch und jede Bewegungspraxis hat seine ganz eigenen Sprache.\nIn diesem Kurs widmen wir und der Vielfalt und der Essenz der 5Rhythmen Tanzwelt von G. Roth\nDu musst keine Schritte lernen\, erfährst aber die unterschiedlichen Qualititäten und Gateways in den jeweiligen Rhythmen \nDiese Kurse sind eine Einladung die 5 Rhythmen™ kennen zu lernen\nund das Verständnis für die Rhythmen zu vertiefen.\nWir beginnen da wo wir sind. In der Balance zwischen freier Bewegung\nund Anleitung erforschen wir jeden der fünf Rhythmen: die Form\, die\nBewegung im Körper und im Raum\, die spezifische Energie\,\ndie der jeweilige Rhythmus in uns erweckt und wie wir diese Energie\nfür uns und in Gemeinschaft nutzen können. Jeder Abend fokussiert\nein Thema und führt durch eine vollständige Wave.\nWir folgen dem freien Fluss unserer Energie\,\nder Freude an Bewegung und geben uns die Freiheit\nuns auszudrücken. \n“Wave tanzen schafft eine heilsame\, kraftvolle\nund tiefe Verbindung zum eigenen Körper\,\nseiner Lebendigkeit\, und der Quelle des Lebens\,\ndem Spirit oder dem Sein.”  Amala \nAlle sind willkommen\, Anfänger\, erfahrene Tänzer/innen und Neugierige.\nDie fortlaufenden Kurse sind einzeln buchbar.\nAnmeldung: das erste Mal telefonisch auf AB\nMitzubringen: bequeme Kleidung\, Getränk\, rutschfeste Socken/ Tanzschuhe \nTermine siehe auch Kalender \n\n 
URL:https://amala-dance.com/event/wave-after-wave-3/2025-09-30/
LOCATION:Sängerschaft Schwaben\, Am Kriegsbergturm 37\, Stuttgart\, Baden Württemberg\, 70192\, Deutschland
CATEGORIES:5Rhythmen®,Classes,Einsteiger-Kurse,Wave after Wave,Wave-Angebot
ATTACH;FMTTYPE=image/jpeg:https://amala-dance.com/wp-content/uploads/2013/12/home21.jpg
ORGANIZER;CN="Amala P. Storm":MAILTO:amala@5rhythmen-stuttgart.de
END:VEVENT
END:VCALENDAR