BEGIN:VCALENDAR
VERSION:2.0
PRODID:-//Amala - Body  Soul  Dance - ECPv6.7.0//NONSGML v1.0//EN
CALSCALE:GREGORIAN
METHOD:PUBLISH
X-ORIGINAL-URL:https://amala-dance.com
X-WR-CALDESC:Veranstaltungen für Amala - Body  Soul  Dance
REFRESH-INTERVAL;VALUE=DURATION:PT1H
X-Robots-Tag:noindex
X-PUBLISHED-TTL:PT1H
BEGIN:VTIMEZONE
TZID:Europe/Helsinki
BEGIN:DAYLIGHT
TZOFFSETFROM:+0200
TZOFFSETTO:+0300
TZNAME:EEST
DTSTART:20250330T010000
END:DAYLIGHT
BEGIN:STANDARD
TZOFFSETFROM:+0300
TZOFFSETTO:+0200
TZNAME:EET
DTSTART:20251026T010000
END:STANDARD
TZID:Europe/Berlin
BEGIN:DAYLIGHT
TZOFFSETFROM:+0100
TZOFFSETTO:+0200
TZNAME:CEST
DTSTART:20250330T010000
END:DAYLIGHT
BEGIN:STANDARD
TZOFFSETFROM:+0200
TZOFFSETTO:+0100
TZNAME:CET
DTSTART:20251026T010000
END:STANDARD
END:VTIMEZONE
BEGIN:VEVENT
DTSTART;TZID=Europe/Helsinki:20250705T193000
DTEND;TZID=Europe/Helsinki:20250705T213000
DTSTAMP:20260423T112711
CREATED:20250528T093353Z
LAST-MODIFIED:20250528T093353Z
UID:10006600-1751743800-1751751000@amala-dance.com
SUMMARY:Saturday Wave / 5Rhythmen
DESCRIPTION:The fastest way to still the mind is to move the body\nDie 5 Rhythmen™ flowing\, staccato\, chaos\, lyrical und stillness sind eine Bewegungspraxis\, die in ihrer Abfolge getanzt eine Wave bilden.\nDer Samstagabend ist ein offener Übungsraum\, bei dem es nur wenig Anleitung gibt. \nTanze durch alles was dich bewegt mit Bewusstheit. Tanze alleine oder mit anderen und lasse dich von der Magie der Welle tragen. \nAlle sind willkommen\, Anfänger und erfahrene Tänzer/innen. \nOrt: Sängerschaft Schwaben\, Am Kriegsbergturm 37\, Stuttgart \nMitzubringen: bequeme Kleidung\, Tanzschuhe oder Socken ( barfuss ) zum tanzen\, Getränk \nKosten : 20\,- \nFalls du zum ersten Mal vorbeikommst\, melde dich für die wichtigsten Infos an / 017661982060 oder 5rhythmen@amala-dance.com \n 
URL:https://amala-dance.com/event/saturday-wave-5rhythmen-40/
LOCATION:Sängerschaft Schwaben\, Am Kriegsbergturm 37\, Stuttgart\, Baden Württemberg\, 70192\, Deutschland
CATEGORIES:5Rhythmen®,Abtanzen,Classes,Einsteiger-Kurse,Saturday Wave,Sweat your Prayers,Wave-Angebot
ATTACH;FMTTYPE=image/jpeg:https://amala-dance.com/wp-content/uploads/2013/12/saturday-wave.jpg
ORGANIZER;CN="Amala P. Storm":MAILTO:amala@5rhythmen-stuttgart.de
END:VEVENT
BEGIN:VEVENT
DTSTART;TZID=Europe/Helsinki:20250708T200000
DTEND;TZID=Europe/Helsinki:20250708T220000
DTSTAMP:20260423T112711
CREATED:20250528T092911Z
LAST-MODIFIED:20250528T093654Z
UID:10006541-1752004800-1752012000@amala-dance.com
SUMMARY:Summer Waves / offene Gruppe
DESCRIPTION:Jeder Körper\, jeder Mensch und jede Bewegungspraxis hat seine ganz eigenen Sprache.\nIn diesem Kurs widmen wir und der Vielfalt und der Essenz der 5Rhythmen Tanzwelt von G. Roth\nDu musst keine Schritte lernen\, erfährst aber die unterschiedlichen Qualititäten und Gateways in den jeweiligen Rhythmen \nDiese Kurse sind eine Einladung die 5 Rhythmen™ kennen zu lernen\nund das Verständnis für die Rhythmen zu vertiefen.\nWir beginnen da wo wir sind. In der Balance zwischen freier Bewegung\nund Anleitung erforschen wir jeden der fünf Rhythmen: die Form\, die\nBewegung im Körper und im Raum\, die spezifische Energie\,\ndie der jeweilige Rhythmus in uns erweckt und wie wir diese Energie\nfür uns und in Gemeinschaft nutzen können. Jeder Abend fokussiert\nein Thema und führt durch eine vollständige Wave.\nWir folgen dem freien Fluss unserer Energie\,\nder Freude an Bewegung und geben uns die Freiheit\nuns auszudrücken. \n“Wave tanzen schafft eine heilsame\, kraftvolle\nund tiefe Verbindung zum eigenen Körper\,\nseiner Lebendigkeit\, und der Quelle des Lebens\,\ndem Spirit oder dem Sein.”  Amala \nAlle sind willkommen\, Anfänger\, erfahrene Tänzer/innen und Neugierige.\nDie fortlaufenden Kurse sind einzeln buchbar.\nAnmeldung: das erste Mal telefonisch auf AB\nMitzubringen: bequeme Kleidung\, Getränk\, rutschfeste Socken/ Tanzschuhe \nTermine siehe auch Kalender \n\n 
URL:https://amala-dance.com/event/summer-waves-offene-gruppe/2025-07-08/
LOCATION:Sängerschaft Schwaben\, Am Kriegsbergturm 37\, Stuttgart\, Baden Württemberg\, 70192\, Deutschland
CATEGORIES:5Rhythmen®,Classes,Einsteiger-Kurse,Wave after Wave,Wave-Angebot
ATTACH;FMTTYPE=image/jpeg:https://amala-dance.com/wp-content/uploads/2013/12/home21.jpg
ORGANIZER;CN="Amala P. Storm":MAILTO:amala@5rhythmen-stuttgart.de
END:VEVENT
BEGIN:VEVENT
DTSTART;TZID=Europe/Berlin:20250709T193000
DTEND;TZID=Europe/Berlin:20250709T220000
DTSTAMP:20260423T112711
CREATED:20250528T093101Z
LAST-MODIFIED:20250528T093101Z
UID:10006598-1752089400-1752098400@amala-dance.com
SUMMARY:5Rhythmen Wave in München
DESCRIPTION:Tanze durch die Welle der 5Rhythmen mit der Münchner Dance Tribe. \nAlle sind willkommen. \nKeine Anmeldung erforderlich.
URL:https://amala-dance.com/event/5rhythmen-wave-in-muenchen-3/
LOCATION:München Agilolfingerplatz 1\, Agilolfingerpl. 1\, München\, Bayern\, 81543\, Deutschland
CATEGORIES:5Rhythmen®,Classes,Einführung,Einsteiger-Kurse
ATTACH;FMTTYPE=image/jpeg:https://amala-dance.com/wp-content/uploads/2024/12/Taenzer-6-Kopie.jpeg
ORGANIZER;CN="Amala P. Storm":MAILTO:amala@5rhythmen-stuttgart.de
GEO:48.11511;11.56572
X-APPLE-STRUCTURED-LOCATION;VALUE=URI;X-ADDRESS=München Agilolfingerplatz 1 Agilolfingerpl. 1 München Bayern 81543 Deutschland;X-APPLE-RADIUS=500;X-TITLE=Agilolfingerpl. 1:geo:11.56572,48.11511
END:VEVENT
BEGIN:VEVENT
DTSTART;TZID=Europe/Helsinki:20250715T200000
DTEND;TZID=Europe/Helsinki:20250715T220000
DTSTAMP:20260423T112711
CREATED:20250528T092911Z
LAST-MODIFIED:20250528T093654Z
UID:10006542-1752609600-1752616800@amala-dance.com
SUMMARY:Summer Waves / offene Gruppe
DESCRIPTION:Jeder Körper\, jeder Mensch und jede Bewegungspraxis hat seine ganz eigenen Sprache.\nIn diesem Kurs widmen wir und der Vielfalt und der Essenz der 5Rhythmen Tanzwelt von G. Roth\nDu musst keine Schritte lernen\, erfährst aber die unterschiedlichen Qualititäten und Gateways in den jeweiligen Rhythmen \nDiese Kurse sind eine Einladung die 5 Rhythmen™ kennen zu lernen\nund das Verständnis für die Rhythmen zu vertiefen.\nWir beginnen da wo wir sind. In der Balance zwischen freier Bewegung\nund Anleitung erforschen wir jeden der fünf Rhythmen: die Form\, die\nBewegung im Körper und im Raum\, die spezifische Energie\,\ndie der jeweilige Rhythmus in uns erweckt und wie wir diese Energie\nfür uns und in Gemeinschaft nutzen können. Jeder Abend fokussiert\nein Thema und führt durch eine vollständige Wave.\nWir folgen dem freien Fluss unserer Energie\,\nder Freude an Bewegung und geben uns die Freiheit\nuns auszudrücken. \n“Wave tanzen schafft eine heilsame\, kraftvolle\nund tiefe Verbindung zum eigenen Körper\,\nseiner Lebendigkeit\, und der Quelle des Lebens\,\ndem Spirit oder dem Sein.”  Amala \nAlle sind willkommen\, Anfänger\, erfahrene Tänzer/innen und Neugierige.\nDie fortlaufenden Kurse sind einzeln buchbar.\nAnmeldung: das erste Mal telefonisch auf AB\nMitzubringen: bequeme Kleidung\, Getränk\, rutschfeste Socken/ Tanzschuhe \nTermine siehe auch Kalender \n\n 
URL:https://amala-dance.com/event/summer-waves-offene-gruppe/2025-07-15/
LOCATION:Sängerschaft Schwaben\, Am Kriegsbergturm 37\, Stuttgart\, Baden Württemberg\, 70192\, Deutschland
CATEGORIES:5Rhythmen®,Classes,Einsteiger-Kurse,Wave after Wave,Wave-Angebot
ATTACH;FMTTYPE=image/jpeg:https://amala-dance.com/wp-content/uploads/2013/12/home21.jpg
ORGANIZER;CN="Amala P. Storm":MAILTO:amala@5rhythmen-stuttgart.de
END:VEVENT
BEGIN:VEVENT
DTSTART;TZID=Europe/Berlin:20250718T193000
DTEND;TZID=Europe/Berlin:20250718T213000
DTSTAMP:20260423T112711
CREATED:20250528T093011Z
LAST-MODIFIED:20250528T093011Z
UID:10006597-1752867000-1752874200@amala-dance.com
SUMMARY:5Rhythmen Wave in Karlsruhe mit Amala
DESCRIPTION:Just Come & Dance
URL:https://amala-dance.com/event/5rhythmen-wave-in-karlsruhe-mit-amala-3/
LOCATION:Sporthalle SSC\, Kita Wirbelwind\, Am Sportpark 3\, Karlsruhe\, Baden-Württemberg\, Deutschland
ATTACH;FMTTYPE=image/jpeg:https://amala-dance.com/wp-content/uploads/2024/04/Bildschirmfoto-2024-04-20-um-10.46.32.jpeg
ORGANIZER;CN="Amala P. Storm":MAILTO:amala@5rhythmen-stuttgart.de
GEO:49.027;8.44369
X-APPLE-STRUCTURED-LOCATION;VALUE=URI;X-ADDRESS=Sporthalle SSC Kita Wirbelwind Am Sportpark 3 Karlsruhe Baden-Württemberg Deutschland;X-APPLE-RADIUS=500;X-TITLE=Am Sportpark 3:geo:8.44369,49.027
END:VEVENT
BEGIN:VEVENT
DTSTART;TZID=Europe/Berlin:20250718T193000
DTEND;TZID=Europe/Berlin:20250718T213000
DTSTAMP:20260423T112711
CREATED:20250805T143958Z
LAST-MODIFIED:20250805T143958Z
UID:10006630-1752867000-1752874200@amala-dance.com
SUMMARY:5Rhythmen Wave in Karlsruhe mit Amala
DESCRIPTION:Just Come & Dance
URL:https://amala-dance.com/event/5rhythmen-wave-in-karlsruhe-mit-amala-4/
LOCATION:Sporthalle SSC\, Kita Wirbelwind\, Am Sportpark 3\, Karlsruhe\, Baden-Württemberg\, Deutschland
ATTACH;FMTTYPE=image/jpeg:https://amala-dance.com/wp-content/uploads/2024/04/Bildschirmfoto-2024-04-20-um-10.46.32.jpeg
ORGANIZER;CN="Amala P. Storm":MAILTO:amala@5rhythmen-stuttgart.de
GEO:49.027;8.44369
X-APPLE-STRUCTURED-LOCATION;VALUE=URI;X-ADDRESS=Sporthalle SSC Kita Wirbelwind Am Sportpark 3 Karlsruhe Baden-Württemberg Deutschland;X-APPLE-RADIUS=500;X-TITLE=Am Sportpark 3:geo:8.44369,49.027
END:VEVENT
BEGIN:VEVENT
DTSTART;TZID=Europe/Helsinki:20250722T200000
DTEND;TZID=Europe/Helsinki:20250722T220000
DTSTAMP:20260423T112711
CREATED:20250528T092911Z
LAST-MODIFIED:20250528T093654Z
UID:10006543-1753214400-1753221600@amala-dance.com
SUMMARY:Summer Waves / offene Gruppe
DESCRIPTION:Jeder Körper\, jeder Mensch und jede Bewegungspraxis hat seine ganz eigenen Sprache.\nIn diesem Kurs widmen wir und der Vielfalt und der Essenz der 5Rhythmen Tanzwelt von G. Roth\nDu musst keine Schritte lernen\, erfährst aber die unterschiedlichen Qualititäten und Gateways in den jeweiligen Rhythmen \nDiese Kurse sind eine Einladung die 5 Rhythmen™ kennen zu lernen\nund das Verständnis für die Rhythmen zu vertiefen.\nWir beginnen da wo wir sind. In der Balance zwischen freier Bewegung\nund Anleitung erforschen wir jeden der fünf Rhythmen: die Form\, die\nBewegung im Körper und im Raum\, die spezifische Energie\,\ndie der jeweilige Rhythmus in uns erweckt und wie wir diese Energie\nfür uns und in Gemeinschaft nutzen können. Jeder Abend fokussiert\nein Thema und führt durch eine vollständige Wave.\nWir folgen dem freien Fluss unserer Energie\,\nder Freude an Bewegung und geben uns die Freiheit\nuns auszudrücken. \n“Wave tanzen schafft eine heilsame\, kraftvolle\nund tiefe Verbindung zum eigenen Körper\,\nseiner Lebendigkeit\, und der Quelle des Lebens\,\ndem Spirit oder dem Sein.”  Amala \nAlle sind willkommen\, Anfänger\, erfahrene Tänzer/innen und Neugierige.\nDie fortlaufenden Kurse sind einzeln buchbar.\nAnmeldung: das erste Mal telefonisch auf AB\nMitzubringen: bequeme Kleidung\, Getränk\, rutschfeste Socken/ Tanzschuhe \nTermine siehe auch Kalender \n\n 
URL:https://amala-dance.com/event/summer-waves-offene-gruppe/2025-07-22/
LOCATION:Sängerschaft Schwaben\, Am Kriegsbergturm 37\, Stuttgart\, Baden Württemberg\, 70192\, Deutschland
CATEGORIES:5Rhythmen®,Classes,Einsteiger-Kurse,Wave after Wave,Wave-Angebot
ATTACH;FMTTYPE=image/jpeg:https://amala-dance.com/wp-content/uploads/2013/12/home21.jpg
ORGANIZER;CN="Amala P. Storm":MAILTO:amala@5rhythmen-stuttgart.de
END:VEVENT
BEGIN:VEVENT
DTSTART;TZID=Europe/Helsinki:20250729T200000
DTEND;TZID=Europe/Helsinki:20250729T220000
DTSTAMP:20260423T112711
CREATED:20250528T092911Z
LAST-MODIFIED:20250528T093654Z
UID:10006544-1753819200-1753826400@amala-dance.com
SUMMARY:Summer Waves / offene Gruppe
DESCRIPTION:Jeder Körper\, jeder Mensch und jede Bewegungspraxis hat seine ganz eigenen Sprache.\nIn diesem Kurs widmen wir und der Vielfalt und der Essenz der 5Rhythmen Tanzwelt von G. Roth\nDu musst keine Schritte lernen\, erfährst aber die unterschiedlichen Qualititäten und Gateways in den jeweiligen Rhythmen \nDiese Kurse sind eine Einladung die 5 Rhythmen™ kennen zu lernen\nund das Verständnis für die Rhythmen zu vertiefen.\nWir beginnen da wo wir sind. In der Balance zwischen freier Bewegung\nund Anleitung erforschen wir jeden der fünf Rhythmen: die Form\, die\nBewegung im Körper und im Raum\, die spezifische Energie\,\ndie der jeweilige Rhythmus in uns erweckt und wie wir diese Energie\nfür uns und in Gemeinschaft nutzen können. Jeder Abend fokussiert\nein Thema und führt durch eine vollständige Wave.\nWir folgen dem freien Fluss unserer Energie\,\nder Freude an Bewegung und geben uns die Freiheit\nuns auszudrücken. \n“Wave tanzen schafft eine heilsame\, kraftvolle\nund tiefe Verbindung zum eigenen Körper\,\nseiner Lebendigkeit\, und der Quelle des Lebens\,\ndem Spirit oder dem Sein.”  Amala \nAlle sind willkommen\, Anfänger\, erfahrene Tänzer/innen und Neugierige.\nDie fortlaufenden Kurse sind einzeln buchbar.\nAnmeldung: das erste Mal telefonisch auf AB\nMitzubringen: bequeme Kleidung\, Getränk\, rutschfeste Socken/ Tanzschuhe \nTermine siehe auch Kalender \n\n 
URL:https://amala-dance.com/event/summer-waves-offene-gruppe/2025-07-29/
LOCATION:Sängerschaft Schwaben\, Am Kriegsbergturm 37\, Stuttgart\, Baden Württemberg\, 70192\, Deutschland
CATEGORIES:5Rhythmen®,Classes,Einsteiger-Kurse,Wave after Wave,Wave-Angebot
ATTACH;FMTTYPE=image/jpeg:https://amala-dance.com/wp-content/uploads/2013/12/home21.jpg
ORGANIZER;CN="Amala P. Storm":MAILTO:amala@5rhythmen-stuttgart.de
END:VEVENT
BEGIN:VEVENT
DTSTART;TZID=Europe/Berlin:20250730T193000
DTEND;TZID=Europe/Berlin:20250730T220000
DTSTAMP:20260423T112711
CREATED:20250528T093124Z
LAST-MODIFIED:20250528T093124Z
UID:10006599-1753903800-1753912800@amala-dance.com
SUMMARY:5Rhythmen Wave in München
DESCRIPTION:Tanze durch die Welle der 5Rhythmen mit der Münchner Dance Tribe. \nAlle sind willkommen. \nKeine Anmeldung erforderlich.
URL:https://amala-dance.com/event/5rhythmen-wave-in-muenchen-4/
LOCATION:München Agilolfingerplatz 1\, Agilolfingerpl. 1\, München\, Bayern\, 81543\, Deutschland
CATEGORIES:5Rhythmen®,Classes,Einführung,Einsteiger-Kurse
ATTACH;FMTTYPE=image/jpeg:https://amala-dance.com/wp-content/uploads/2024/12/Taenzer-6-Kopie.jpeg
ORGANIZER;CN="Amala P. Storm":MAILTO:amala@5rhythmen-stuttgart.de
GEO:48.11511;11.56572
X-APPLE-STRUCTURED-LOCATION;VALUE=URI;X-ADDRESS=München Agilolfingerplatz 1 Agilolfingerpl. 1 München Bayern 81543 Deutschland;X-APPLE-RADIUS=500;X-TITLE=Agilolfingerpl. 1:geo:11.56572,48.11511
END:VEVENT
END:VCALENDAR