BEGIN:VCALENDAR
VERSION:2.0
PRODID:-//Amala - Body  Soul  Dance - ECPv6.7.0//NONSGML v1.0//EN
CALSCALE:GREGORIAN
METHOD:PUBLISH
X-WR-CALNAME:Amala - Body  Soul  Dance
X-ORIGINAL-URL:https://amala-dance.com
X-WR-CALDESC:Veranstaltungen für Amala - Body  Soul  Dance
REFRESH-INTERVAL;VALUE=DURATION:PT1H
X-Robots-Tag:noindex
X-PUBLISHED-TTL:PT1H
BEGIN:VTIMEZONE
TZID:Europe/Helsinki
BEGIN:DAYLIGHT
TZOFFSETFROM:+0200
TZOFFSETTO:+0300
TZNAME:EEST
DTSTART:20250330T010000
END:DAYLIGHT
BEGIN:STANDARD
TZOFFSETFROM:+0300
TZOFFSETTO:+0200
TZNAME:EET
DTSTART:20251026T010000
END:STANDARD
TZID:Europe/Berlin
BEGIN:DAYLIGHT
TZOFFSETFROM:+0100
TZOFFSETTO:+0200
TZNAME:CEST
DTSTART:20250330T010000
END:DAYLIGHT
BEGIN:STANDARD
TZOFFSETFROM:+0200
TZOFFSETTO:+0100
TZNAME:CET
DTSTART:20251026T010000
END:STANDARD
END:VTIMEZONE
BEGIN:VEVENT
DTSTART;TZID=Europe/Helsinki:20250401T200000
DTEND;TZID=Europe/Helsinki:20250401T220000
DTSTAMP:20260421T013548
CREATED:20250128T104149Z
LAST-MODIFIED:20250128T104149Z
UID:10006512-1743537600-1743544800@amala-dance.com
SUMMARY:Wave after Wave  / offene Gruppe
DESCRIPTION:Jeder Körper\, jeder Mensch und jede Bewegungspraxis hat seine ganz eigenen Sprache.\nIn diesem Kurs widmen wir und der Vielfalt und der Essenz der 5Rhythmen Tanzwelt von G. Roth\nDu musst keine Schritte lernen\, erfährst aber die unterschiedlichen Qualititäten und Gateways in den jeweiligen Rhythmen \nDiese Kurse sind eine Einladung die 5 Rhythmen™ kennen zu lernen\nund das Verständnis für die Rhythmen zu vertiefen.\nWir beginnen da wo wir sind. In der Balance zwischen freier Bewegung\nund Anleitung erforschen wir jeden der fünf Rhythmen: die Form\, die\nBewegung im Körper und im Raum\, die spezifische Energie\,\ndie der jeweilige Rhythmus in uns erweckt und wie wir diese Energie\nfür uns und in Gemeinschaft nutzen können. Jeder Abend fokussiert\nein Thema und führt durch eine vollständige Wave.\nWir folgen dem freien Fluss unserer Energie\,\nder Freude an Bewegung und geben uns die Freiheit\nuns auszudrücken. \n“Wave tanzen schafft eine heilsame\, kraftvolle\nund tiefe Verbindung zum eigenen Körper\,\nseiner Lebendigkeit\, und der Quelle des Lebens\,\ndem Spirit oder dem Sein.”  Amala \nAlle sind willkommen\, Anfänger\, erfahrene Tänzer/innen und Neugierige.\nDie fortlaufenden Kurse sind einzeln buchbar.\nAnmeldung: das erste Mal telefonisch auf AB\nMitzubringen: bequeme Kleidung\, Getränk\, rutschfeste Socken/ Tanzschuhe \nTermine siehe auch Kalender \n\n 
URL:https://amala-dance.com/event/waw/2025-04-01/
LOCATION:Sängerschaft Schwaben\, Am Kriegsbergturm 37\, Stuttgart\, Baden Württemberg\, 70192\, Deutschland
CATEGORIES:5Rhythmen®,Classes,Einsteiger-Kurse,Wave after Wave,Wave-Angebot
ATTACH;FMTTYPE=image/jpeg:https://amala-dance.com/wp-content/uploads/2013/12/home21.jpg
ORGANIZER;CN="Amala P. Storm":MAILTO:amala@5rhythmen-stuttgart.de
END:VEVENT
BEGIN:VEVENT
DTSTART;TZID=Europe/Berlin:20250402T193000
DTEND;TZID=Europe/Berlin:20250402T220000
DTSTAMP:20260421T013548
CREATED:20250128T105558Z
LAST-MODIFIED:20250128T105558Z
UID:10006519-1743622200-1743631200@amala-dance.com
SUMMARY:5Rhythmen Wave in München
DESCRIPTION:Tanze durch die Welle der 5Rhythmen mit der Münchner Dance Tribe. \nAlle sind willkommen. \nKeine Anmeldung erforderlich.
URL:https://amala-dance.com/event/5rhythmen-wave-in-muenchen-1-25-2-2/
LOCATION:München Agilolfingerplatz 1\, Agilolfingerpl. 1\, München\, Bayern\, 81543\, Deutschland
CATEGORIES:5Rhythmen®,Classes,Einführung,Einsteiger-Kurse
ATTACH;FMTTYPE=image/jpeg:https://amala-dance.com/wp-content/uploads/2024/12/Taenzer-6-Kopie.jpeg
ORGANIZER;CN="Amala P. Storm":MAILTO:amala@5rhythmen-stuttgart.de
GEO:48.11511;11.56572
X-APPLE-STRUCTURED-LOCATION;VALUE=URI;X-ADDRESS=München Agilolfingerplatz 1 Agilolfingerpl. 1 München Bayern 81543 Deutschland;X-APPLE-RADIUS=500;X-TITLE=Agilolfingerpl. 1:geo:11.56572,48.11511
END:VEVENT
BEGIN:VEVENT
DTSTART;TZID=Europe/Helsinki:20250408T200000
DTEND;TZID=Europe/Helsinki:20250408T220000
DTSTAMP:20260421T013548
CREATED:20250128T104149Z
LAST-MODIFIED:20250128T104149Z
UID:10006513-1744142400-1744149600@amala-dance.com
SUMMARY:Wave after Wave  / offene Gruppe
DESCRIPTION:Jeder Körper\, jeder Mensch und jede Bewegungspraxis hat seine ganz eigenen Sprache.\nIn diesem Kurs widmen wir und der Vielfalt und der Essenz der 5Rhythmen Tanzwelt von G. Roth\nDu musst keine Schritte lernen\, erfährst aber die unterschiedlichen Qualititäten und Gateways in den jeweiligen Rhythmen \nDiese Kurse sind eine Einladung die 5 Rhythmen™ kennen zu lernen\nund das Verständnis für die Rhythmen zu vertiefen.\nWir beginnen da wo wir sind. In der Balance zwischen freier Bewegung\nund Anleitung erforschen wir jeden der fünf Rhythmen: die Form\, die\nBewegung im Körper und im Raum\, die spezifische Energie\,\ndie der jeweilige Rhythmus in uns erweckt und wie wir diese Energie\nfür uns und in Gemeinschaft nutzen können. Jeder Abend fokussiert\nein Thema und führt durch eine vollständige Wave.\nWir folgen dem freien Fluss unserer Energie\,\nder Freude an Bewegung und geben uns die Freiheit\nuns auszudrücken. \n“Wave tanzen schafft eine heilsame\, kraftvolle\nund tiefe Verbindung zum eigenen Körper\,\nseiner Lebendigkeit\, und der Quelle des Lebens\,\ndem Spirit oder dem Sein.”  Amala \nAlle sind willkommen\, Anfänger\, erfahrene Tänzer/innen und Neugierige.\nDie fortlaufenden Kurse sind einzeln buchbar.\nAnmeldung: das erste Mal telefonisch auf AB\nMitzubringen: bequeme Kleidung\, Getränk\, rutschfeste Socken/ Tanzschuhe \nTermine siehe auch Kalender \n\n 
URL:https://amala-dance.com/event/waw/2025-04-08/
LOCATION:Sängerschaft Schwaben\, Am Kriegsbergturm 37\, Stuttgart\, Baden Württemberg\, 70192\, Deutschland
CATEGORIES:5Rhythmen®,Classes,Einsteiger-Kurse,Wave after Wave,Wave-Angebot
ATTACH;FMTTYPE=image/jpeg:https://amala-dance.com/wp-content/uploads/2013/12/home21.jpg
ORGANIZER;CN="Amala P. Storm":MAILTO:amala@5rhythmen-stuttgart.de
END:VEVENT
BEGIN:VEVENT
DTSTART;TZID=Europe/Helsinki:20250412T193000
DTEND;TZID=Europe/Helsinki:20250412T213000
DTSTAMP:20260421T013548
CREATED:20250320T092233Z
LAST-MODIFIED:20250329T134237Z
UID:10006521-1744486200-1744493400@amala-dance.com
SUMMARY:Saturday Wave / 5Rhythmen
DESCRIPTION:The fastest way to still the mind is to move the body\nDie 5 Rhythmen™ flowing\, staccato\, chaos\, lyrical und stillness sind eine Bewegungspraxis\, die in ihrer Abfolge getanzt eine Wave bilden.\nDer Samstagabend ist ein offener Übungsraum\, bei dem es nur wenig Anleitung gibt. \nTanze durch alles was dich bewegt mit Bewusstheit. Tanze alleine oder mit anderen und lasse dich von der Magie der Welle tragen. \nAlle sind willkommen\, Anfänger und erfahrene Tänzer/innen. \nOrt: Sängerschaft Schwaben\, Am Kriegsbergturm 37\, Stuttgart \nMitzubringen: bequeme Kleidung\, Tanzschuhe oder Socken ( barfuss ) zum tanzen\, Getränk \nKosten : 20\,- \nFalls du zum ersten Mal vorbeikommst\, melde dich für die wichtigsten Infos an / 017661982060 oder 5rhythmen@amala-dance.com \n 
URL:https://amala-dance.com/event/1-2/
LOCATION:Sängerschaft Schwaben\, Am Kriegsbergturm 37\, Stuttgart\, Baden Württemberg\, 70192\, Deutschland
CATEGORIES:5Rhythmen®,Abtanzen,Classes,Einsteiger-Kurse,Saturday Wave,Sweat your Prayers,Wave-Angebot
ATTACH;FMTTYPE=image/jpeg:https://amala-dance.com/wp-content/uploads/2013/12/saturday-wave.jpg
ORGANIZER;CN="Amala P. Storm":MAILTO:amala@5rhythmen-stuttgart.de
END:VEVENT
BEGIN:VEVENT
DTSTART;TZID=Europe/Helsinki:20250415T200000
DTEND;TZID=Europe/Helsinki:20250415T220000
DTSTAMP:20260421T013548
CREATED:20250128T104149Z
LAST-MODIFIED:20250128T104149Z
UID:10006514-1744747200-1744754400@amala-dance.com
SUMMARY:Wave after Wave  / offene Gruppe
DESCRIPTION:Jeder Körper\, jeder Mensch und jede Bewegungspraxis hat seine ganz eigenen Sprache.\nIn diesem Kurs widmen wir und der Vielfalt und der Essenz der 5Rhythmen Tanzwelt von G. Roth\nDu musst keine Schritte lernen\, erfährst aber die unterschiedlichen Qualititäten und Gateways in den jeweiligen Rhythmen \nDiese Kurse sind eine Einladung die 5 Rhythmen™ kennen zu lernen\nund das Verständnis für die Rhythmen zu vertiefen.\nWir beginnen da wo wir sind. In der Balance zwischen freier Bewegung\nund Anleitung erforschen wir jeden der fünf Rhythmen: die Form\, die\nBewegung im Körper und im Raum\, die spezifische Energie\,\ndie der jeweilige Rhythmus in uns erweckt und wie wir diese Energie\nfür uns und in Gemeinschaft nutzen können. Jeder Abend fokussiert\nein Thema und führt durch eine vollständige Wave.\nWir folgen dem freien Fluss unserer Energie\,\nder Freude an Bewegung und geben uns die Freiheit\nuns auszudrücken. \n“Wave tanzen schafft eine heilsame\, kraftvolle\nund tiefe Verbindung zum eigenen Körper\,\nseiner Lebendigkeit\, und der Quelle des Lebens\,\ndem Spirit oder dem Sein.”  Amala \nAlle sind willkommen\, Anfänger\, erfahrene Tänzer/innen und Neugierige.\nDie fortlaufenden Kurse sind einzeln buchbar.\nAnmeldung: das erste Mal telefonisch auf AB\nMitzubringen: bequeme Kleidung\, Getränk\, rutschfeste Socken/ Tanzschuhe \nTermine siehe auch Kalender \n\n 
URL:https://amala-dance.com/event/waw/2025-04-15/
LOCATION:Sängerschaft Schwaben\, Am Kriegsbergturm 37\, Stuttgart\, Baden Württemberg\, 70192\, Deutschland
CATEGORIES:5Rhythmen®,Classes,Einsteiger-Kurse,Wave after Wave,Wave-Angebot
ATTACH;FMTTYPE=image/jpeg:https://amala-dance.com/wp-content/uploads/2013/12/home21.jpg
ORGANIZER;CN="Amala P. Storm":MAILTO:amala@5rhythmen-stuttgart.de
END:VEVENT
BEGIN:VEVENT
DTSTART;TZID=Europe/Helsinki:20250418T180000
DTEND;TZID=Europe/Helsinki:20250421T140000
DTSTAMP:20260421T013548
CREATED:20241129T151003Z
LAST-MODIFIED:20241129T151215Z
UID:10006503-1744999200-1745244000@amala-dance.com
SUMMARY:5Rhythmen Osterkurs / Presence in Movement
DESCRIPTION:Viele von uns sehnen sich nach gefühlten und gelebten Erfahrungen\, ein nach Hause kommen in uns selbst. \nbreathe- sense – love – awake – be aware – be kind – being embodied \nIn unserem alltäglichen Leben ist der Focus meist im Tun und wir fühlen uns wie abgeschnitten oder nicht ganz da. Im Hntergrund bleibt ein Gefühl von Enttäuschung\, weil wir wissen\, dass es mehr gibt als das\, die Lebendigkeit\, die genau hier ist\, das ungelebte Leben. \nEmbodied Presence: Ich verstehe\, was in meinem Körper vor sich geht\, und nehme nicht nur mit dem Verstand Kontakt damit auf. Wir kehren zurück zur Lebendigkeit unserer Sinne. Das ist das Tor zu allem\, wonach wir uns sehnen. \nIm Kus nutzen wir die 5Rhythmen Praxis\, um wieder zu direkter Erfahrung zurückzufinden: \n\ndie Wildheit deines tanzenden Körpers in diesem Moment\neine zarte Berührung deiner Seele\neinen klaren unverstellten Blick\, auf das was ist\nein zurücklehnen in eine stille Präsenz\neine freundliche Aufmerksamkeit mit mir selbst und anderen\neine heilsame Distanz zu meinen eigenen Urteilen\n\nIn diesem mitfühlenden „Selbst-Raum“\, können innere Prozesse geschehen\, die dir die nächste Bewegung zeigen. Es entsteht eine neue Wahlfreiheit und ein tiefes einverstanden sein\, wenn du\nso mit dir in Kontakt bist. \nWir arbeiten mit:  5Rhythms Dance\, Breath\, Presence\, Felt Sense\, Sharing\, Ritual \n\n\n\n\nUnd nicht zu vergessen: die Freude am Tanz und der Gemeinschaft . \n\n\n\n\n\n\n\n\nOrt: Seminarhaus Sonnenstrahl Kisslegg  / Kurs-  und Seminarhaus Kosten findest du in der Anmeldung\nVorraussetzung: keine\nAnmeldeformular anfordern bei 5rhythmen@amala-dance.com \n\n\n\n\n  \n\n\n\n\n\n\n\n\n\n\n\n 
URL:https://amala-dance.com/event/presence-in-movment/
LOCATION:Yoga- und Seminarzentrum Sonnenstrahl im Allgäu\, Sebastian-Kneipp-Straße 1\, Kißlegg\, Baden Württemberg\, 88353\, Deutschland
CATEGORIES:5Rhythmen®,Fortgeschrittenen-Workshops,Heartbeat-Workshops
ATTACH;FMTTYPE=image/jpeg:https://amala-dance.com/wp-content/uploads/2024/11/wolfgang-hasselmann-Evvg6pb81x8-unsplash-1.jpeg
ORGANIZER;CN="Amala P. Storm":MAILTO:amala@5rhythmen-stuttgart.de
GEO:47.789715;9.8857952
X-APPLE-STRUCTURED-LOCATION;VALUE=URI;X-ADDRESS=Yoga- und Seminarzentrum Sonnenstrahl im Allgäu Sebastian-Kneipp-Straße 1 Kißlegg Baden Württemberg 88353 Deutschland;X-APPLE-RADIUS=500;X-TITLE=Sebastian-Kneipp-Straße 1:geo:9.8857952,47.789715
END:VEVENT
BEGIN:VEVENT
DTSTART;TZID=Europe/Helsinki:20250429T200000
DTEND;TZID=Europe/Helsinki:20250429T220000
DTSTAMP:20260421T013548
CREATED:20250321T102138Z
LAST-MODIFIED:20250321T102554Z
UID:10006524-1745956800-1745964000@amala-dance.com
SUMMARY:Wave after Wave  / offene Gruppe
DESCRIPTION:Jeder Körper\, jeder Mensch und jede Bewegungspraxis hat seine ganz eigenen Sprache.\nIn diesem Kurs widmen wir und der Vielfalt und der Essenz der 5Rhythmen Tanzwelt von G. Roth\nDu musst keine Schritte lernen\, erfährst aber die unterschiedlichen Qualititäten und Gateways in den jeweiligen Rhythmen \nDiese Kurse sind eine Einladung die 5 Rhythmen™ kennen zu lernen\nund das Verständnis für die Rhythmen zu vertiefen.\nWir beginnen da wo wir sind. In der Balance zwischen freier Bewegung\nund Anleitung erforschen wir jeden der fünf Rhythmen: die Form\, die\nBewegung im Körper und im Raum\, die spezifische Energie\,\ndie der jeweilige Rhythmus in uns erweckt und wie wir diese Energie\nfür uns und in Gemeinschaft nutzen können. Jeder Abend fokussiert\nein Thema und führt durch eine vollständige Wave.\nWir folgen dem freien Fluss unserer Energie\,\nder Freude an Bewegung und geben uns die Freiheit\nuns auszudrücken. \n“Wave tanzen schafft eine heilsame\, kraftvolle\nund tiefe Verbindung zum eigenen Körper\,\nseiner Lebendigkeit\, und der Quelle des Lebens\,\ndem Spirit oder dem Sein.”  Amala \nAlle sind willkommen\, Anfänger\, erfahrene Tänzer/innen und Neugierige.\nDie fortlaufenden Kurse sind einzeln buchbar.\nAnmeldung: das erste Mal telefonisch auf AB\nMitzubringen: bequeme Kleidung\, Getränk\, rutschfeste Socken/ Tanzschuhe \nTermine siehe auch Kalender \n\n 
URL:https://amala-dance.com/event/waw-2/2025-04-29/
LOCATION:Sängerschaft Schwaben\, Am Kriegsbergturm 37\, Stuttgart\, Baden Württemberg\, 70192\, Deutschland
CATEGORIES:5Rhythmen®,Classes,Einsteiger-Kurse,Wave after Wave,Wave-Angebot
ATTACH;FMTTYPE=image/jpeg:https://amala-dance.com/wp-content/uploads/2013/12/home21.jpg
ORGANIZER;CN="Amala P. Storm":MAILTO:amala@5rhythmen-stuttgart.de
END:VEVENT
END:VCALENDAR