BEGIN:VCALENDAR
VERSION:2.0
PRODID:-//Amala - Body  Soul  Dance - ECPv6.7.0//NONSGML v1.0//EN
CALSCALE:GREGORIAN
METHOD:PUBLISH
X-ORIGINAL-URL:https://amala-dance.com
X-WR-CALDESC:Veranstaltungen für Amala - Body  Soul  Dance
REFRESH-INTERVAL;VALUE=DURATION:PT1H
X-Robots-Tag:noindex
X-PUBLISHED-TTL:PT1H
BEGIN:VTIMEZONE
TZID:Europe/Helsinki
BEGIN:DAYLIGHT
TZOFFSETFROM:+0200
TZOFFSETTO:+0300
TZNAME:EEST
DTSTART:20240331T010000
END:DAYLIGHT
BEGIN:STANDARD
TZOFFSETFROM:+0300
TZOFFSETTO:+0200
TZNAME:EET
DTSTART:20241027T010000
END:STANDARD
BEGIN:DAYLIGHT
TZOFFSETFROM:+0200
TZOFFSETTO:+0300
TZNAME:EEST
DTSTART:20250330T010000
END:DAYLIGHT
BEGIN:STANDARD
TZOFFSETFROM:+0300
TZOFFSETTO:+0200
TZNAME:EET
DTSTART:20251026T010000
END:STANDARD
TZID:Europe/Berlin
BEGIN:DAYLIGHT
TZOFFSETFROM:+0100
TZOFFSETTO:+0200
TZNAME:CEST
DTSTART:20250330T010000
END:DAYLIGHT
BEGIN:STANDARD
TZOFFSETFROM:+0200
TZOFFSETTO:+0100
TZNAME:CET
DTSTART:20251026T010000
END:STANDARD
END:VTIMEZONE
BEGIN:VEVENT
DTSTART;TZID=Europe/Helsinki:20241228T183000
DTEND;TZID=Europe/Helsinki:20250101T140000
DTSTAMP:20260425T045521
CREATED:20230721T092650Z
LAST-MODIFIED:20241211T132155Z
UID:10006449-1735410600-1735740000@amala-dance.com
SUMMARY:5Rhythmen Silvester Tanz Retreat
DESCRIPTION:5Rhythmen® Silvester Retreat im Seminarhaus Sonnenstrahl in Kisslegg\nDer Jahresübergang ist eine gute Zeit innezuhalten und auf das zu schauen\, was war\, was ist und was wir uns erträumen. Wir schenken uns diese besondere Auszeit\, teilen unsere Geschichten und Erfahrungen\, schwitzen unsere Gebete im Tanz\, um spielerisch und kraftvoll neue Weichen zu stellen für das kommende Jahr. \n\nlet go  – wir verabschieden uns bewusst von dem\, was uns unfrei macht und lassen Altes gehen.\nlet be –  wir schenken dem\, was kostbar ist in unserem Leben unsere Wertschätzung und Aufmerksamkeit\nlet see  – wir pflanzen die Samen für unsere Träume\, finden eine tiefe Ausrichtung\, eine kraftvolle Vision für unsere Lebensreise.\n\nWir tanzen für uns selbst\, für unsere Liebsten und für das große Ganze in dem wir leben. Wir laden Menschen\, die wir mögen tiefer in unser Leben ein. Die 5Rhythmen® bieten uns eine fließende\, kraftvolle\, ekstatische\, stille und nährende Landkarte\, all dies auszudrücken. In den gemeinsamen Tagen werden wir tanzen\, feiern\, meditieren\, und kreativ gestalten. Ein besonderes Ritual trägt uns ins neue Jahr\, anschließend feiern wir den Neuanfang mit Tanz\, Gesang und allem was das Herz begehrt. In diesem Kurs öffnet sich der Raum\, das Wesentliche in dir wieder zu entdecken und mit neuem Schwung und Lebensfreude in das Jahr zu starten. \n 5Rhythmen®-New Year’s Retreat\nThe transition between the years is a good time to pause and and look back at what was\, see what is and envisage our dreams. We give ourselves this special time off\, share our stories and experiences\, sweat our prayers in dance\, so that we can playfully and powerfully set a new course for the coming year. \n\nlet go –  we mindfully bid farewell to all that keeps us from being free and let go of the old.\nlet be –  we show our appreciation and pay attention to that which isvaluable in our lives\nlet see  – we plant seeds for our dreams\, find deep alignment\, a powerful vision for our life’s journey.\n\nWe dance for ourselves\, for our loved ones and for the Entirety of Being that we live in. We invite people that we like to enter our lives more deeply.5Rhythms® offer us a flowing\, powerful\, ecstatic\, quiet and nourishing map with which to express all of this. A special ritual carries us into the New Year and afterwards we will celebrate the new beginning with dance\, song and all that our hearts desire. In this seminar the space to rediscover the essential within yourself opens up and you begin the year with new verve and joie de vivre.  Der Workshop ist geeignet für alle Tänzer/innen\, Freunde\, Neugierige\, Partner und alle\,die den Übergang gemeinsam feiern wollen. \n\nAnmeldung: Bitte fordere ein Anmeldeformular und die wichtigsten Infos bei 5Rhythmen@amala-dance.com an.
URL:https://amala-dance.com/event/silvester-retreat-24/
LOCATION:Yoga- und Seminarzentrum Sonnenstrahl im Allgäu\, Sebastian-Kneipp-Straße 1\, Kißlegg\, Baden Württemberg\, 88353\, Deutschland
CATEGORIES:5Rhythmen®,Einsteiger-Workshops,Fortgeschrittenen-Workshops,Workshops
ATTACH;FMTTYPE=image/jpeg:https://amala-dance.com/wp-content/uploads/2024/08/Silvester25www.jpeg
ORGANIZER;CN="Amala P. Storm":MAILTO:amala@5rhythmen-stuttgart.de
GEO:47.789715;9.8857952
X-APPLE-STRUCTURED-LOCATION;VALUE=URI;X-ADDRESS=Yoga- und Seminarzentrum Sonnenstrahl im Allgäu Sebastian-Kneipp-Straße 1 Kißlegg Baden Württemberg 88353 Deutschland;X-APPLE-RADIUS=500;X-TITLE=Sebastian-Kneipp-Straße 1:geo:9.8857952,47.789715
END:VEVENT
BEGIN:VEVENT
DTSTART;TZID=Europe/Helsinki:20250107T201500
DTEND;TZID=Europe/Helsinki:20250107T221500
DTSTAMP:20260425T045521
CREATED:20241129T123800Z
LAST-MODIFIED:20241129T124042Z
UID:10006489-1736280900-1736288100@amala-dance.com
SUMMARY:Special : Welcome & Opening im neuen Raum
DESCRIPTION:Wir starten ins Neue Jahr in neuen Räumlichkeiten für unser fortlaufenden Kurse in Stuttgart. \nWir erkunden den Raum tanzend und feiern gemeinsam bei einem Drink & Snack das Neue Jahr und den neuen Raum ( bitte eine Kleinigkeit mitbringen\, Snack\, Trinkbecher etc. ) \nZeiten: 20.15h – ca. 21.30 Wave\, 21\,30h – ca. 22.15h Connect & Celebrate\nKosten: einmalig 12\,- ( bar vor Ort ) \n“Wave tanzen schafft eine heilsame\, kraftvolle\nund tiefe Verbindung zum eigenen Körper\,\nseiner Lebendigkeit\, und der Quelle des Lebens\,\ndem Spirit oder dem Sein.”  Amala \nAlle sind willkommen\, Anfänger\, erfahrene Tänzer/innen und Neugierige.\nDie fortlaufenden Kurse sind einzeln buchbar.\nAnmeldung: das erste Mal telefonisch auf AB\nMitzubringen: bequeme Kleidung\, Getränk\, rutschfeste Socken/ Tanzschuhe \nTermine siehe auch Kalender \n\n 
URL:https://amala-dance.com/event/welcome-opening/
LOCATION:Sängerschaft Schwaben\, Am Kriegsbergturm 37\, Stuttgart\, Baden Württemberg\, 70192\, Deutschland
CATEGORIES:5Rhythmen®,Classes,Einsteiger-Kurse,Wave after Wave,Wave-Angebot
ATTACH;FMTTYPE=image/png:https://amala-dance.com/wp-content/uploads/2024/10/amala-dance-logo.png
ORGANIZER;CN="Amala P. Storm":MAILTO:amala@5rhythmen-stuttgart.de
END:VEVENT
BEGIN:VEVENT
DTSTART;TZID=Europe/Berlin:20250110T140000
DTEND;TZID=Europe/Berlin:20250110T183000
DTSTAMP:20260425T045521
CREATED:20251209T150545Z
LAST-MODIFIED:20251209T151030Z
UID:10006652-1736517600-1736533800@amala-dance.com
SUMMARY:Dive in  Dive deeper: The Call of the Season  / 5Rhythmen Mini Workshop
DESCRIPTION:Mini Workshop am Samstagnachmittag 3 Retreats \nFresh Beginning  – 10. Januar \n Dances of Peace  –  14. Februar \nRoots & Wings –  14. April  \n  \nWir tanzen durch die physischen Qualitäten der Rhythmen mit all unseren Sinnen \n♥ Was nährt deine Seele und wie kann deine Bewegung dies unterstützen?\n♥ Was bist du bereit zu geben\, um dich zu fühlen?\n♥ Kannst du dir selbst die Erlaubnis geben\, dich gut zu fühlen und entsprechend zu handeln ? \nIn den Dive in –  Dive Deeper Kursen geht es darum\, durch Bewegung innere Ressourcen aufzubauen. Wir erleben diese Erfahrung auf allen Ebenen: körperlich\, seelisch\, emotional und durch den Austausch mit anderen. \nUm uns wohl in unserer Haut und in unserem Leben zu fühlen braucht es einen guten Zugang zu den verschiedenen Qualtitäten\, die wir hervortanzen. Wir stärken sie durch unseren Tanz und nähren damit unsere Seele. \nWorkshop: Samstagnachmittag 14.00h – 18.30h \n14.00h – 16.00h Kurs \n16.00h – 16.30h Pause\, Snack* & Connect \n16.30h – 18.30h Wave & Integration \nKosten 59\,- Euro\, \n*Snack bitte mitbringen\, gerne auch zum Austausch mit anderen \nAnmeldung schriftlich anfordern unter 5rhythmen@amala-dance.com oder Anmeldung MiniWorkshop 26\nAnmeldeschluss spätestens Sonntag vor Beginn\,  Mindestteilnehmerzahl 12 \nDieser Kurs richtet sich an alle Tänzer*innen die neugierig und experimentierfreudig sind.\nAn alle\, die dienstags keine Zeit finden oder den Abend versäumt haben\,\nan alle die Neu sind\, an alle alten Hasen\, an alle die gerne tanzen und in Kontakt mit sich und anderen sind. \n 
URL:https://amala-dance.com/event/dive-in-dive-deeper-the-call-of-the-season-5rhythmen-mini-workshop/
LOCATION:Sängerschaft Schwaben\, Am Kriegsbergturm 37\, Stuttgart\, Baden Württemberg\, 70192\, Deutschland
CATEGORIES:5Rhythmen®,Classes,Einsteiger-Workshops,Fortgeschrittenen-Workshops,Saturday Wave,Wave: Basic Skills
ATTACH;FMTTYPE=image/jpeg:https://amala-dance.com/wp-content/uploads/2025/07/IMG_9349-1.jpeg
ORGANIZER;CN="Amala P. Storm":MAILTO:amala@5rhythmen-stuttgart.de
END:VEVENT
BEGIN:VEVENT
DTSTART;TZID=Europe/Helsinki:20250114T200000
DTEND;TZID=Europe/Helsinki:20250114T220000
DTSTAMP:20260425T045521
CREATED:20241129T125217Z
LAST-MODIFIED:20241129T125240Z
UID:10006491-1736884800-1736892000@amala-dance.com
SUMMARY:Wave after Wave  / Fresh Beginnings
DESCRIPTION:Wir beginnen unsere Tanzreise im neuen Jahr mit einer Einladung an alle Tänzer*innen\, die neugierig und bewegungshungrig sind. \nWir reisen durch den Körper um in einen guten Kontakt mit uns selbst und dem was ist zu finden. \nNutze diesen Kurs als Schnupperangebot oder um in deiner Praxis weiterzutanzen \nRelax – Breathe – keep going  \nDiese Kurse sind eine Einladung die 5 Rhythmen™ kennen zu lernen\nund das Verständnis für die Rhythmen zu vertiefen.\nWir beginnen da wo wir sind. In der Balance zwischen freier Bewegung\nund Anleitung erforschen wir jeden der fünf Rhythmen: die Form\, die\nBewegung im Körper und im Raum\, die spezifische Energie\,\ndie der jeweilige Rhythmus in uns erweckt und wie wir diese Energie\nfür uns und in Gemeinschaft nutzen können. Jeder Abend fokussiert\nein Thema und führt durch eine vollständige Wave.\nWir folgen dem freien Fluss unserer Energie\,\nder Freude an Bewegung und geben uns die Freiheit\nuns auszudrücken. \n“Wave tanzen schafft eine heilsame\, kraftvolle\nund tiefe Verbindung zum eigenen Körper\,\nseiner Lebendigkeit\, und der Quelle des Lebens\,\ndem Spirit oder dem Sein.”  Amala \nAlle sind willkommen\, Anfänger\, erfahrene Tänzer/innen und Neugierige.\nDie fortlaufenden Kurse sind einzeln buchbar.\nAnmeldung: das erste Mal telefonisch auf AB\nMitzubringen: bequeme Kleidung\, Getränk\, rutschfeste Socken/ Tanzschuhe \nTermine siehe auch Kalender \n\n 
URL:https://amala-dance.com/event/fresh-beginnings/
LOCATION:Sängerschaft Schwaben\, Am Kriegsbergturm 37\, Stuttgart\, Baden Württemberg\, 70192\, Deutschland
CATEGORIES:5Rhythmen®,Classes,Einsteiger-Kurse,Wave after Wave,Wave-Angebot
ATTACH;FMTTYPE=image/jpeg:https://amala-dance.com/wp-content/uploads/2013/12/home21.jpg
ORGANIZER;CN="Amala P. Storm":MAILTO:amala@5rhythmen-stuttgart.de
END:VEVENT
BEGIN:VEVENT
DTSTART;TZID=Europe/Helsinki:20250121T200000
DTEND;TZID=Europe/Helsinki:20250121T220000
DTSTAMP:20260425T045521
CREATED:20241129T130751Z
LAST-MODIFIED:20241129T130751Z
UID:10006498-1737489600-1737496800@amala-dance.com
SUMMARY:Wave after Wave  / Bodylanguage
DESCRIPTION:Jeder Körper\, jeder Mensch und jede Bewegungspraxis hat seine ganz eigenen Sprache.\nIn diesem Kurs widmen wir und der Vielfalt und der Essenz der 5Rhythmen Tanzwelt von G. Roth\nDu musst keine Schritte lernen\, erfährst aber die unterschiedlichen Qualititäten und Gateways in den jeweiligen Rhythmen \nDiese Kurse sind eine Einladung die 5 Rhythmen™ kennen zu lernen\nund das Verständnis für die Rhythmen zu vertiefen.\nWir beginnen da wo wir sind. In der Balance zwischen freier Bewegung\nund Anleitung erforschen wir jeden der fünf Rhythmen: die Form\, die\nBewegung im Körper und im Raum\, die spezifische Energie\,\ndie der jeweilige Rhythmus in uns erweckt und wie wir diese Energie\nfür uns und in Gemeinschaft nutzen können. Jeder Abend fokussiert\nein Thema und führt durch eine vollständige Wave.\nWir folgen dem freien Fluss unserer Energie\,\nder Freude an Bewegung und geben uns die Freiheit\nuns auszudrücken. \n“Wave tanzen schafft eine heilsame\, kraftvolle\nund tiefe Verbindung zum eigenen Körper\,\nseiner Lebendigkeit\, und der Quelle des Lebens\,\ndem Spirit oder dem Sein.”  Amala \nAlle sind willkommen\, Anfänger\, erfahrene Tänzer/innen und Neugierige.\nDie fortlaufenden Kurse sind einzeln buchbar.\nAnmeldung: das erste Mal telefonisch auf AB\nMitzubringen: bequeme Kleidung\, Getränk\, rutschfeste Socken/ Tanzschuhe \n  \n  \n  \nTermine siehe auch Kalender \n\n 
URL:https://amala-dance.com/event/bodylanguage-1/2025-01-21/
LOCATION:Sängerschaft Schwaben\, Am Kriegsbergturm 37\, Stuttgart\, Baden Württemberg\, 70192\, Deutschland
CATEGORIES:5Rhythmen®,Classes,Einsteiger-Kurse,Wave after Wave,Wave-Angebot
ATTACH;FMTTYPE=image/jpeg:https://amala-dance.com/wp-content/uploads/2013/12/home21.jpg
ORGANIZER;CN="Amala P. Storm":MAILTO:amala@5rhythmen-stuttgart.de
END:VEVENT
BEGIN:VEVENT
DTSTART;TZID=Europe/Berlin:20250125T140000
DTEND;TZID=Europe/Berlin:20250125T180000
DTSTAMP:20260425T045521
CREATED:20241209T113852Z
LAST-MODIFIED:20250115T140658Z
UID:10006504-1737813600-1737828000@amala-dance.com
SUMMARY:Dive in / Dive deeper: Ready to Flow / 5Rhythmen Mini Workshop
DESCRIPTION:Videolink zur Reihe \nNEW – NEW – NEW –  Mini Workshop am Samstagnachmittag – 3 Retreats \nReady to Flow  –  25. Januar \nReady to Grow  – 15. März\nReady to Blossom – 10. Mai  \n  \nReady to Flow \nWie können wir mehr fließen\, uns weiterbewegen aus eingefahrenen Mustern in mehr Freiheit für uns selbst ?  \nIn den Kursen geht es darum\, durch Bewegung innere Ressourcen aufzubauen. Wir erleben diese Erfahrung auf allen Ebenen: körperlich\, seelisch\, emotional und durch den Austausch mit anderen. Um uns wohl in unserer Haut und in unserem Leben zu fühlen braucht es einen guten Zugang zu den verschiedenen Qualtitäten\, die wir hervortanzen.\nWir stärken sie durch unseren Tanz und nähren damit unsere Seele. \nWorkshop: Samstagnachmittag 14.00h – 18.00h / alle 2 Monate \n14.00h – ca.16.00h Kurs \n16.00h – 16.30h Pause\, Snack* & Connect \n16.30h – ca. 18.00h Wave & Integration \nKosten: 59\,- / Rabatt möglich bei Buchung dieser Serie vorab. \n*Snack bitte mitbringen \nAnmeldung MiniWorkshop 25a\,  mit beigefügtem Formular unter 5rhythmen@amala-dance.com\,  Anmeldeschluss spätestens Sonntag vor Beginn\,  Mindestteilnehmerzahl 12 \nDieser Kurs richtet sich an alle Tänzer*innen die neugierig und experimentierfreudig sind. An alle\,die dienstags keine Zeit finden oder den Abend versäumt haben\, \n an alle die Neu sind\, an alle alten Hasen\, an alle die gerne tanzen und in Kontakt mit sich und anderen sind. \n 
URL:https://amala-dance.com/event/ready-to-flow/
LOCATION:Sängerschaft Schwaben\, Am Kriegsbergturm 37\, Stuttgart\, Baden Württemberg\, 70192\, Deutschland
CATEGORIES:5Rhythmen®,Classes,Einsteiger-Workshops,Fortgeschrittenen-Workshops,Saturday Wave,Wave: Basic Skills
ATTACH;FMTTYPE=image/jpeg:https://amala-dance.com/wp-content/uploads/2024/01/Taenzer-1.jpeg
ORGANIZER;CN="Amala P. Storm":MAILTO:amala@5rhythmen-stuttgart.de
END:VEVENT
BEGIN:VEVENT
DTSTART;TZID=Europe/Helsinki:20250128T200000
DTEND;TZID=Europe/Helsinki:20250128T220000
DTSTAMP:20260425T045521
CREATED:20241129T130751Z
LAST-MODIFIED:20241129T130751Z
UID:10006499-1738094400-1738101600@amala-dance.com
SUMMARY:Wave after Wave  / Bodylanguage
DESCRIPTION:Jeder Körper\, jeder Mensch und jede Bewegungspraxis hat seine ganz eigenen Sprache.\nIn diesem Kurs widmen wir und der Vielfalt und der Essenz der 5Rhythmen Tanzwelt von G. Roth\nDu musst keine Schritte lernen\, erfährst aber die unterschiedlichen Qualititäten und Gateways in den jeweiligen Rhythmen \nDiese Kurse sind eine Einladung die 5 Rhythmen™ kennen zu lernen\nund das Verständnis für die Rhythmen zu vertiefen.\nWir beginnen da wo wir sind. In der Balance zwischen freier Bewegung\nund Anleitung erforschen wir jeden der fünf Rhythmen: die Form\, die\nBewegung im Körper und im Raum\, die spezifische Energie\,\ndie der jeweilige Rhythmus in uns erweckt und wie wir diese Energie\nfür uns und in Gemeinschaft nutzen können. Jeder Abend fokussiert\nein Thema und führt durch eine vollständige Wave.\nWir folgen dem freien Fluss unserer Energie\,\nder Freude an Bewegung und geben uns die Freiheit\nuns auszudrücken. \n“Wave tanzen schafft eine heilsame\, kraftvolle\nund tiefe Verbindung zum eigenen Körper\,\nseiner Lebendigkeit\, und der Quelle des Lebens\,\ndem Spirit oder dem Sein.”  Amala \nAlle sind willkommen\, Anfänger\, erfahrene Tänzer/innen und Neugierige.\nDie fortlaufenden Kurse sind einzeln buchbar.\nAnmeldung: das erste Mal telefonisch auf AB\nMitzubringen: bequeme Kleidung\, Getränk\, rutschfeste Socken/ Tanzschuhe \n  \n  \n  \nTermine siehe auch Kalender \n\n 
URL:https://amala-dance.com/event/bodylanguage-1/2025-01-28/
LOCATION:Sängerschaft Schwaben\, Am Kriegsbergturm 37\, Stuttgart\, Baden Württemberg\, 70192\, Deutschland
CATEGORIES:5Rhythmen®,Classes,Einsteiger-Kurse,Wave after Wave,Wave-Angebot
ATTACH;FMTTYPE=image/jpeg:https://amala-dance.com/wp-content/uploads/2013/12/home21.jpg
ORGANIZER;CN="Amala P. Storm":MAILTO:amala@5rhythmen-stuttgart.de
END:VEVENT
END:VCALENDAR