BEGIN:VCALENDAR
VERSION:2.0
PRODID:-//Amala - Body  Soul  Dance - ECPv6.7.0//NONSGML v1.0//EN
CALSCALE:GREGORIAN
METHOD:PUBLISH
X-WR-CALNAME:Amala - Body  Soul  Dance
X-ORIGINAL-URL:https://amala-dance.com
X-WR-CALDESC:Veranstaltungen für Amala - Body  Soul  Dance
REFRESH-INTERVAL;VALUE=DURATION:PT1H
X-Robots-Tag:noindex
X-PUBLISHED-TTL:PT1H
BEGIN:VTIMEZONE
TZID:Europe/Helsinki
BEGIN:DAYLIGHT
TZOFFSETFROM:+0200
TZOFFSETTO:+0300
TZNAME:EEST
DTSTART:20240331T010000
END:DAYLIGHT
BEGIN:STANDARD
TZOFFSETFROM:+0300
TZOFFSETTO:+0200
TZNAME:EET
DTSTART:20241027T010000
END:STANDARD
END:VTIMEZONE
BEGIN:VEVENT
DTSTART;TZID=Europe/Helsinki:20240309T193000
DTEND;TZID=Europe/Helsinki:20240309T213000
DTSTAMP:20260425T125604
CREATED:20231211T105022Z
LAST-MODIFIED:20231211T105109Z
UID:10006173-1710012600-1710019800@amala-dance.com
SUMMARY:Saturday Wave / 5Rhythmen
DESCRIPTION:The fastest way to still the mind is to move the body\nDie 5 Rhythmen™ flowing\, staccato\, chaos\, lyrical und stillness sind eine Bewegungspraxis\, die in ihrer Abfolge getanzt eine Wave bilden.\nDer Samstagabend ist ein offener Übungsraum\, bei dem es nur wenig Anleitung gibt. \nTanze durch alles was dich bewegt mit Bewusstheit. Tanze alleine oder mit anderen und lasse dich von der Magie der Welle tragen. \nAlle sind willkommen\, Anfänger und erfahrene Tänzer/innen\, für Neue Tänzer*innen gebe ich eine Kurzeinführung von 19.00h – 19.15h  \nOrt: JaiJaiMa Yogastudio \n 
URL:https://amala-dance.com/event/24-1-2-2/
LOCATION:Sängerschaft Schwaben\, Am Kriegsbergturm 37\, Stuttgart\, Baden Württemberg\, 70192\, Deutschland
CATEGORIES:5Rhythmen®,Abtanzen,Classes,Einsteiger-Kurse,Saturday Wave,Sweat your Prayers,Wave-Angebot
ATTACH;FMTTYPE=image/jpeg:https://amala-dance.com/wp-content/uploads/2013/12/saturday-wave.jpg
ORGANIZER;CN="Amala P. Storm":MAILTO:amala@5rhythmen-stuttgart.de
END:VEVENT
BEGIN:VEVENT
DTSTART;TZID=Europe/Helsinki:20240312T200000
DTEND;TZID=Europe/Helsinki:20240312T220000
DTSTAMP:20260425T125604
CREATED:20231211T105510Z
LAST-MODIFIED:20231211T105522Z
UID:10006176-1710273600-1710280800@amala-dance.com
SUMMARY:Wave after Wave / offene Gruppe
DESCRIPTION:Diese Kurse sind eine Einladung die 5 Rhythmen™ kennen zu lernen\nund das Verständnis für die Rhythmen zu vertiefen.\nWir beginnen da wo wir sind. In der Balance zwischen freier Bewegung\nund Anleitung erforschen wir jeden der fünf Rhythmen: die Form\, die\nBewegung im Körper und im Raum\, die spezifische Energie\,\ndie der jeweilige Rhythmus in uns erweckt und wie wir diese Energie\nfür uns und in Gemeinschaft nutzen können. Jeder Abend fokussiert\nein Thema und führt durch eine vollständige Wave.\nWir folgen dem freien Fluss unserer Energie\,\nder Freude an Bewegung und geben uns die Freiheit\nuns auszudrücken. \n“Wave tanzen schafft eine heilsame\, kraftvolle\nund tiefe Verbindung zum eigenen Körper\,\nseiner Lebendigkeit\, und der Quelle des Lebens\,\ndem Spirit oder dem Sein.”  Amala \nAlle sind willkommen\, Anfänger\, erfahrene Tänzer/innen und Neugierige.\nDie fortlaufenden Kurse sind einzeln buchbar.\nAnmeldung: das erste Mal telefonisch auf AB\nMitzubringen: bequeme Kleidung\, Getränk\, rutschfeste Socken/ Tanzschuhe\nEinführung in die 5Rhythmen™ siehe unter Einführungskurse!\nTermine siehe Kalender \n\n 
URL:https://amala-dance.com/event/24-1-3/2024-03-12/
LOCATION:Sängerschaft Schwaben\, Am Kriegsbergturm 37\, Stuttgart\, Baden Württemberg\, 70192\, Deutschland
CATEGORIES:5Rhythmen®,Classes,Einsteiger-Kurse,Wave after Wave,Wave-Angebot
ATTACH;FMTTYPE=image/jpeg:https://amala-dance.com/wp-content/uploads/2013/12/home21.jpg
ORGANIZER;CN="Amala P. Storm":MAILTO:amala@5rhythmen-stuttgart.de
END:VEVENT
BEGIN:VEVENT
DTSTART;TZID=Europe/Helsinki:20240319T200000
DTEND;TZID=Europe/Helsinki:20240319T220000
DTSTAMP:20260425T125604
CREATED:20231211T105510Z
LAST-MODIFIED:20231211T105522Z
UID:10006177-1710878400-1710885600@amala-dance.com
SUMMARY:Wave after Wave / offene Gruppe
DESCRIPTION:Diese Kurse sind eine Einladung die 5 Rhythmen™ kennen zu lernen\nund das Verständnis für die Rhythmen zu vertiefen.\nWir beginnen da wo wir sind. In der Balance zwischen freier Bewegung\nund Anleitung erforschen wir jeden der fünf Rhythmen: die Form\, die\nBewegung im Körper und im Raum\, die spezifische Energie\,\ndie der jeweilige Rhythmus in uns erweckt und wie wir diese Energie\nfür uns und in Gemeinschaft nutzen können. Jeder Abend fokussiert\nein Thema und führt durch eine vollständige Wave.\nWir folgen dem freien Fluss unserer Energie\,\nder Freude an Bewegung und geben uns die Freiheit\nuns auszudrücken. \n“Wave tanzen schafft eine heilsame\, kraftvolle\nund tiefe Verbindung zum eigenen Körper\,\nseiner Lebendigkeit\, und der Quelle des Lebens\,\ndem Spirit oder dem Sein.”  Amala \nAlle sind willkommen\, Anfänger\, erfahrene Tänzer/innen und Neugierige.\nDie fortlaufenden Kurse sind einzeln buchbar.\nAnmeldung: das erste Mal telefonisch auf AB\nMitzubringen: bequeme Kleidung\, Getränk\, rutschfeste Socken/ Tanzschuhe\nEinführung in die 5Rhythmen™ siehe unter Einführungskurse!\nTermine siehe Kalender \n\n 
URL:https://amala-dance.com/event/24-1-3/2024-03-19/
LOCATION:Sängerschaft Schwaben\, Am Kriegsbergturm 37\, Stuttgart\, Baden Württemberg\, 70192\, Deutschland
CATEGORIES:5Rhythmen®,Classes,Einsteiger-Kurse,Wave after Wave,Wave-Angebot
ATTACH;FMTTYPE=image/jpeg:https://amala-dance.com/wp-content/uploads/2013/12/home21.jpg
ORGANIZER;CN="Amala P. Storm":MAILTO:amala@5rhythmen-stuttgart.de
END:VEVENT
BEGIN:VEVENT
DTSTART;TZID=Europe/Helsinki:20240329T183000
DTEND;TZID=Europe/Helsinki:20240401T140000
DTSTAMP:20260425T125604
CREATED:20191212T181708Z
LAST-MODIFIED:20240216T094749Z
UID:10006068-1711737000-1711980000@amala-dance.com
SUMMARY:Wild Tenderness / 5Rhythmen Workshop an Ostern
DESCRIPTION:Wild Tenderness ist ein intensiver\, bewegter und freudvoller Kurs\, der dich einlädt mit verschiedenen Facetten in dir zu tanzen. In unserer Lebensenergie ist unser ganzes Potential vorhanden und doch leben wir verschiedene Anteile nicht in der Fülle\, die sie uns geben könnten. Der Tanz lädt dich ein Leidenschaft und Verletzlichkeit zu verbinden\, Kraft und Zärtlichkeit\, das Sinnliche und das Spirituelle und deine Angst mit deinem Mut zu verknüpfen. Dabei berühren wir die risikobereiten Anteile ebenso wie unsere unsere Sehnsüchte und Wünsche. \n\n\n\n\n\n♥ Wie können wir Stärke und Sanftheit leben\, Wildheit und Ängste zulassen? \n\n\n♥ Wie können wir präsent bleiben und mutig mit unseren Anteilen in Kontakt gehen? \n\n\n\n\n\n\n\nDie 5Rhythmen bieten uns eine vielfältige Landkarte für diese innere Reise. In unseren Tänzen erlauben wir diesen Energien zum Vorschein zu kom- men\, erforschen und erden sie\, lassen sie ausbrechen und spielen\, frei sein und wieder eins werden im stillen Raum deiner Mitte. Wir überneh- men die Verantwortung für unsere Kraft und Feinfühligkeit und unter- stützen uns gegenseitig vorhandenes wertzuschätzen und Neues zu er- lauben. Ist die Türe zu unserem Potential geöffnet\, reagieren wir freier auf das Leben und lassen diese Vielfalt in unsere Beziehungen\, unseren Beruf und unseren Alltag einfließen. \n\n\n\nJeder kann teilnehmen unabhängig von Alter oder Beweglichkeit. \n Anmeldung Wild Tenderness 24 und  wichtigste Infos anfordern bei 5Rhythmen@amala-dance.com \n \n\nWorkshop in English  \n\n\n\nWild Tenderness is an intense\, moving and joyful course that invites you to dance with different facets in you. In our life energy we have all our potential and yet we do not live different parts in the abundance that they could give us. The dance invites you to connect passion and vulnerability\, to combine strength and tenderness\, the sensual and the spiritual and your fear with your courage. In doing so\, we touch on the riskready parts as well as our longings and desires. \n\n\n\n♥ How can we live strength and gentleness\, allow fierceness and fears?\n♥ How can we stay present and courageously get in touch with our shares? \n\n\n\nThe 5 rhythms offer us a diverse map for this inner journey. In our danc- es we allow these energies to come to light\, explore and ground them\, let them break out and play\, be free and become one again in the silent space of our midst. We take responsibility for our strength and sensitiv- ity and support each other in valuing whats there and allowing new sides to grow. When the door to our potential is open\, we react more freely to life and let this diversity flow into our relationships\, our profession and our everyday lives. \n\n\n\nRegistration: Please ask for the details at amala@5rhythmen-stuttgart.de \n  \n 
URL:https://amala-dance.com/event/5rhythmen-workshop-an-ostern-2/
LOCATION:Yoga- und Seminarzentrum Sonnenstrahl im Allgäu\, Sebastian-Kneipp-Straße 1\, Kißlegg\, Baden Württemberg\, 88353\, Deutschland
CATEGORIES:5Rhythmen®,Einsteiger-Workshops,Fortgeschrittenen-Workshops,Specials,Workshops
ATTACH;FMTTYPE=image/jpeg:https://amala-dance.com/wp-content/uploads/2019/12/stephanie-krist-xTbSUh4N_aM-unsplash.jpg
ORGANIZER;CN="Amala P. Storm":MAILTO:amala@5rhythmen-stuttgart.de
GEO:47.789715;9.8857952
X-APPLE-STRUCTURED-LOCATION;VALUE=URI;X-ADDRESS=Yoga- und Seminarzentrum Sonnenstrahl im Allgäu Sebastian-Kneipp-Straße 1 Kißlegg Baden Württemberg 88353 Deutschland;X-APPLE-RADIUS=500;X-TITLE=Sebastian-Kneipp-Straße 1:geo:9.8857952,47.789715
END:VEVENT
END:VCALENDAR