BEGIN:VCALENDAR
VERSION:2.0
PRODID:-//Amala - Body  Soul  Dance - ECPv6.7.0//NONSGML v1.0//EN
CALSCALE:GREGORIAN
METHOD:PUBLISH
X-ORIGINAL-URL:https://amala-dance.com
X-WR-CALDESC:Veranstaltungen für Amala - Body  Soul  Dance
REFRESH-INTERVAL;VALUE=DURATION:PT1H
X-Robots-Tag:noindex
X-PUBLISHED-TTL:PT1H
BEGIN:VTIMEZONE
TZID:Europe/Helsinki
BEGIN:DAYLIGHT
TZOFFSETFROM:+0200
TZOFFSETTO:+0300
TZNAME:EEST
DTSTART:20220327T010000
END:DAYLIGHT
BEGIN:STANDARD
TZOFFSETFROM:+0300
TZOFFSETTO:+0200
TZNAME:EET
DTSTART:20221030T010000
END:STANDARD
END:VTIMEZONE
BEGIN:VEVENT
DTSTART;TZID=Europe/Helsinki:20220406T193000
DTEND;TZID=Europe/Helsinki:20220406T213000
DTSTAMP:20260420T123722
CREATED:20210811T115607Z
LAST-MODIFIED:20220324T122506Z
UID:10006392-1649273400-1649280600@amala-dance.com
SUMMARY:5Rhythmen / Dance Tribe München
DESCRIPTION:Die 5 Rhythmen® sind eine Bewegungsmeditation. Durch das bewusste Tanzen der aufeinanderfolgenden Rhythmen (Flowing Staccato Chaos Lyrical Stillness®) werden Energien freigesetzt und Blockaden in Fluss gebracht. \nWir tanzen barfuß. Bring Dir ausreichend Wasser zum Trinken und bequeme Tanzkleidung mit. \nDie Veranstaltungen sind offen für alle\, die Interesse an Tanz und Bewegung haben – unabhängig davon\, ob sie DTM-Vereinsmitglieder sind oder nicht. Ermäßigungsmöglichkeiten an der Kasse erfragen. \n\n” Seit mehr als 14 Jahren gebe ich die Sweat your Prayers Abende in München und freue mich diese Abende in der gewachsenen Gemeinschaft der Tänzer/innen zu gestalten. ” Amala
URL:https://amala-dance.com/event/5rhythmen-dance-tribe-muenchen-20-2-2-2-2-2/
LOCATION:München Agilolfingerplatz 1\, Agilolfingerpl. 1\, München\, Bayern\, 81543\, Deutschland
CATEGORIES:5Rhythmen®,Wave-Angebot
ATTACH;FMTTYPE=image/jpeg:https://amala-dance.com/wp-content/uploads/2016/07/IMG_2592-Kopie1.jpg
GEO:48.11511;11.56572
X-APPLE-STRUCTURED-LOCATION;VALUE=URI;X-ADDRESS=München Agilolfingerplatz 1 Agilolfingerpl. 1 München Bayern 81543 Deutschland;X-APPLE-RADIUS=500;X-TITLE=Agilolfingerpl. 1:geo:11.56572,48.11511
END:VEVENT
BEGIN:VEVENT
DTSTART;TZID=Europe/Helsinki:20220409T193000
DTEND;TZID=Europe/Helsinki:20220409T213000
DTSTAMP:20260420T123722
CREATED:20220404T161609Z
LAST-MODIFIED:20220404T161609Z
UID:10006411-1649532600-1649539800@amala-dance.com
SUMMARY:Saturday Wave / 5Rhythmen
DESCRIPTION:The fastest way to still the mind is to move the body\nDie 5 Rhythmen™ flowing\, staccato\, chaos\, lyrical und stillness sind eine Bewegungspraxis\, die in ihrer Abfolge getanzt eine Wave bilden.\nDer Samstagabend ist ein offener Übungsraum\, bei dem es nur wenig Anleitung gibt. \nTanze durch alles was dich bewegt mit Bewusstheit. Tanze alleine oder mit anderen und lasse dich von der Magie der Welle tragen. \nAlle sind willkommen\, Anfänger und erfahrene Tänzer/innen \nOrt: Ulmerstr. 184\, Tanztempel Ost\nVorraussetzung : aktuelle Coronaregeln  \n 
URL:https://amala-dance.com/event/saturday-wave-192-2-2-2/
LOCATION:Tanztempel Ost\, Ulmer Str. 184\, Stuttgart\, Baden Württemberg\, 70188\, Deutschland
CATEGORIES:5Rhythmen®,Abtanzen,Classes,Einsteiger-Kurse,Saturday Wave,Sweat your Prayers,Wave-Angebot
ATTACH;FMTTYPE=image/jpeg:https://amala-dance.com/wp-content/uploads/2013/12/saturday-wave.jpg
ORGANIZER;CN="Amala P. Storm":MAILTO:amala@5rhythmen-stuttgart.de
GEO:48.8001622;9.2146158
X-APPLE-STRUCTURED-LOCATION;VALUE=URI;X-ADDRESS=Tanztempel Ost Ulmer Str. 184 Stuttgart Baden Württemberg 70188 Deutschland;X-APPLE-RADIUS=500;X-TITLE=Ulmer Str. 184:geo:9.2146158,48.8001622
END:VEVENT
BEGIN:VEVENT
DTSTART;TZID=Europe/Helsinki:20220415T180000
DTEND;TZID=Europe/Helsinki:20220418T140000
DTSTAMP:20260420T123722
CREATED:20211202T104344Z
LAST-MODIFIED:20220127T121214Z
UID:10006405-1650045600-1650290400@amala-dance.com
SUMMARY:5Rhythmen Osterkurs / Emotional Intelligence  /  The Space between us /
DESCRIPTION:  \nIn jedem Menschen lebt die Sehnsucht sich verbunden zu fühlen – mit sich selbst\, mit anderen und einem größeren Sinn.  Unsere Körper und unsere Seele sind designed aufeinander zu reagieren.\nWir erleben dies in unseren Tänzen\, den Begegnungen ohne Worte\,  die zutiefst befriedigende Verbindung zweier Seelen im gegenwärtigen Moment. Das Feld das zwischen uns entsteht ist neu und frisch. \nIn unseren alltäglichen Begegnungen erfahren wir jedoch häufiger ein Ringen und Suchen nach Verbundenheit. Es fällt uns nicht immer leicht\, in Kontakt zu sein\, sich zu verstehen\, zu respektieren\, zu lieben oder einfach zusammen zu kommen. Dabei sind wir gerade in Beziehungen  sehr verwundbar.\nUnsere erlebten Geschichten aus der Vergangenheit überschatten das Jetzt. \nIn den Höhen und Tiefen dieser Entwicklung entstehen die Strategien\, die wir vermeintlich brauchen\, um uns verbunden und geliebt zu fühlen. Oftmals sind sie jedoch falsche Fährten\, da wir es nicht anders gelernt haben \nIn der Reihe Emotionale Intelligenz geht es darum\, dass wir lernen uns selbst zu befreien aus alter Konditionierung. Wir überschreiben die alte Geschichte mit  einem neuen\, gesunden Mindset\, lernen uns selbst anzunehmen in unserer Unvollkommenheit\, Unsicherheit und dem Wunsch nach Verbundenheit. Gemeinsam erforschen wir\, welche Strategien der Annäherung und Vermeidung wir entwickelt haben\, welchen Bindungstil wir unbewusst verankert haben. \nWir stärken die Fähigkeit mit uns selbst in Kontakt zu kommen und unsere Antennen für das Feld zwischen uns zu sensibilisieren. Wir tanzen uns frei und erforschen ein neues WIR\, im Raum zwischen uns. \nMit mehr Vertrauen können wir unser Herz öffnen für die Begegnung mit anderen und erkenne die Geschenke von Begegnungen. \n\n\n\n\nDie Reise umfasst:\n– 5Rhythmen Tanz / Waves & Heartbeat \n– Teachings : Elemente Emotionaler Intelligenz \n– Feedback\n– Meditationen & Inquiry\n– Ritual or Therapy in Motion. \nUnd nicht zu vergessen: die Freude am Tanz und der Gemeinschaft . \n\n\n\n\nDieser Kurs ist einzeln oder als Teil der Workshopreihe Emotional Intelligence  buchbar. \n\n\n\n\nOrt: Seminarhaus Sonnenstrahl Kisslegg  / Kurs-  und Seminarhaus Kosten findest du in der Anmeldung\nVorraussetzung: Es gelten die aktuellen Coronaregeln.\nAnmeldeformular anfordern bei amala@5rhythmen-stuttgart.de / Anmeldeschluss 13.Februar 2022 \n\n\n\n\n  \n\n\n\n\n\n\n\n\n\n\n\n 
URL:https://amala-dance.com/event/space-between-us/
LOCATION:Yoga- und Seminarzentrum Sonnenstrahl im Allgäu\, Sebastian-Kneipp-Straße 1\, Kißlegg\, Baden Württemberg\, 88353\, Deutschland
CATEGORIES:5Rhythmen®,Fortgeschrittenen-Workshops,Heartbeat-Workshops
ATTACH;FMTTYPE=image/jpeg:https://amala-dance.com/wp-content/uploads/2021/12/B2K1435.jpg
ORGANIZER;CN="Amala P. Storm":MAILTO:amala@5rhythmen-stuttgart.de
GEO:47.789715;9.8857952
X-APPLE-STRUCTURED-LOCATION;VALUE=URI;X-ADDRESS=Yoga- und Seminarzentrum Sonnenstrahl im Allgäu Sebastian-Kneipp-Straße 1 Kißlegg Baden Württemberg 88353 Deutschland;X-APPLE-RADIUS=500;X-TITLE=Sebastian-Kneipp-Straße 1:geo:9.8857952,47.789715
END:VEVENT
END:VCALENDAR