BEGIN:VCALENDAR
VERSION:2.0
PRODID:-//Amala - Body  Soul  Dance - ECPv6.7.0//NONSGML v1.0//EN
CALSCALE:GREGORIAN
METHOD:PUBLISH
X-ORIGINAL-URL:https://amala-dance.com
X-WR-CALDESC:Veranstaltungen für Amala - Body  Soul  Dance
REFRESH-INTERVAL;VALUE=DURATION:PT1H
X-Robots-Tag:noindex
X-PUBLISHED-TTL:PT1H
BEGIN:VTIMEZONE
TZID:Europe/Helsinki
BEGIN:DAYLIGHT
TZOFFSETFROM:+0200
TZOFFSETTO:+0300
TZNAME:EEST
DTSTART:20210328T010000
END:DAYLIGHT
BEGIN:STANDARD
TZOFFSETFROM:+0300
TZOFFSETTO:+0200
TZNAME:EET
DTSTART:20211031T010000
END:STANDARD
END:VTIMEZONE
BEGIN:VEVENT
DTSTART;TZID=Europe/Helsinki:20211001T180000
DTEND;TZID=Europe/Helsinki:20211003T140000
DTSTAMP:20260421T041340
CREATED:20210729T095503Z
LAST-MODIFIED:20210810T133019Z
UID:10006115-1633111200-1633269600@amala-dance.com
SUMMARY:5 Rhythms  /  The Power of a spiritual Practice
DESCRIPTION:Reminders for spiritual practice with Body & Heart \n\nIn den letzten eineinhalb Jahren mussten wir durch Corona lernen\, uns in Zeiten der Ungewissheit zu bewegen. Wir waren auf der Suche nach neuen Wegen uns selbst zu unterstützen in diesen extremen Zeiten und oftmals unliebsamen Emotionen.\nDoch nicht nur Corona kann uns dazu auffordern\, sondern jede Form von Veränderung\, sei es im Job\, durch Krankheit oder Verlust\, Trennung oder die alltäglichen Unberechenbarkeiten im Miteinander. \n\nDaher lade ich dich den Focus bewusst auf das GUTE und nützliche zu lenken und deine Ressourcen zu stärken. \n\n\nWas hilft dir doch wohl\, zentriert und in einem guten Kontakt mit dir zu fühlen?\nEin Zustand wo denken\, fühlen und handeln in einem natürlichen Zusammenspiel sind. \nWelche spirituelle oder bewusste Praxis hilft dir dich verbunden zu fühlen? \nReminders – 3 Säulen einer spirituellen Praxis \nEmbody – wache auf  aus dem Denken in eine gefühlte Realität\nBeing with  – Verlasse nie dich selbst! Lerne präsent zu bleiben mit den Gefühlen\, die da sind.\nRemember Love – Ruhe im Moment und gebe dir liebevolle Zuwendung \nWenn wir unsere Präsenz mit dem Körper verbinden\, intensiviert sich unsere Erfahrung im Jetzt zu leben und die Gewissheit\, dass alles verbunden ist wird gestärkt . Es entsteht mehr Raum\, mehr Frieden\, Zärtlichkeit und Zuversicht in uns. \nWir nutzen die Praxis der 5Rhythmen und fokussieren uns auf die Rhythmen Chaos Lyrical & Stillness . \n\n\n\n\nMit neuem Schwung und gestärkt empfinden wir die Reise durch unser Leben wieder lebendig und von unserer Seele gesteuert. Wir sind fähig mit den Gegebenheiten des Alltags umzugehen und unsere Energie immer wieder zu regenerieren. \n\n\n\n\n\n\n\n\n\n\n\n\n\n\n\n\nWir arbeiten mit  \n\n5Rhythmen Dance\ntäglichen Meditationen \nthe Self als spirituelles Konzept \nFeedback\nTeachings \nRitualen\n\n\n“Our Bodys know they belong to life & spirit. It`s our mind that makes life feel so loneless.” \n  \n\nDie Ausbildung zum 5Rhythmen Lehrer/in ist  international möglich. Die Kursstunden werden als Heartbeat Level II anerkannt für das Teachertraining. \n* Es folgt eine Kursreihe Emotional Intelligence mit 3 weiteren Workshops 2022. Dieser Kurs kann als Einstieg für die weitere Reihe genutzt werden. \n\n\n\n\n\n\n\n\n\n\n\n\n\n\n\n\n\n\n\n\n\n\n\n\nOrt: Gut Helmeringen bei Ulm\nVorraussetzung: 20 h Conscious Dance Praxis\, Selbsterfahrung\nAnmeldeformular anfordern bei amala@5rhythmen-stuttgart.de\, oder Anmeldung Power of a spiritual practice\nInfos Power of a spiritual practice \n\n\n\n\n\n\n\n\n\n\n\n\n\n\n\n\n\n\n\n\n\n\n\n\n\n\n\n 
URL:https://amala-dance.com/event/power-of-a-spiritual-practice/
LOCATION:Gut Helmeringen\, Helmeringer Weg 43\,  Lauingen/ Donau\, Bayern\, 89415\, Deutschland
CATEGORIES:5Rhythmen®,Einsteiger-Workshops,Fortgeschrittenen-Workshops,Heartbeat-Workshops
ATTACH;FMTTYPE=image/jpeg:https://amala-dance.com/wp-content/uploads/2021/07/joanna-nix-391776.jpg
ORGANIZER;CN="Amala P. Storm":MAILTO:amala@5rhythmen-stuttgart.de
GEO:48.54217;10.41494
X-APPLE-STRUCTURED-LOCATION;VALUE=URI;X-ADDRESS=Gut Helmeringen Helmeringer Weg 43  Lauingen/ Donau Bayern 89415 Deutschland;X-APPLE-RADIUS=500;X-TITLE=Helmeringer Weg 43:geo:10.41494,48.54217
END:VEVENT
BEGIN:VEVENT
DTSTART;TZID=Europe/Helsinki:20211005T200000
DTEND;TZID=Europe/Helsinki:20211005T220000
DTSTAMP:20260421T041340
CREATED:20191202T110702Z
LAST-MODIFIED:20211007T124113Z
UID:10006054-1633464000-1633471200@amala-dance.com
SUMMARY:Wave after Wave / Basic Skills
DESCRIPTION:Diese Kurse sind eine Einladung die 5 Rhythmen™ kennen zu lernen\nund das Verständnis für die Rhythmen zu vertiefen.\nWir beginnen da wo wir sind. In der Balance zwischen freier Bewegung\nund Anleitung erforschen wir jeden der fünf Rhythmen: die Form\, die\nBewegung im Körper und im Raum\, die spezifische Energie\,\ndie der jeweilige Rhythmus in uns erweckt und wie wir diese Energie\nfür uns und in Gemeinschaft nutzen können. Jeder Abend fokussiert\nein Thema und führt durch eine vollständige Wave.\nWir folgen dem freien Fluss unserer Energie\,\nder Freude an Bewegung und geben uns die Freiheit\nuns auszudrücken. \n“Wave tanzen schafft eine heilsame\, kraftvolle\nund tiefe Verbindung zum eigenen Körper\,\nseiner Lebendigkeit\, und der Quelle des Lebens\,\ndem Spirit oder dem Sein.”  Amala \nAlle sind willkommen\, Anfänger\, erfahrene Tänzer/innen und Neugierige.\nDie fortlaufenden Kurse sind einzeln buchbar.\nAnmeldung: je nach covid19 Lage\, bitte via email anmelden amala@5rhythmen-stuttgart.de oder hier 21 Kursanmeldung\nMitzubringen: bequeme Kleidung\, Getränk\, rutschfeste Socken/ Tanzschuhe\nEinführung in die 5Rhythmen™ siehe unter Einführungskurse!\nTermine siehe Kalender \n\n 
URL:https://amala-dance.com/event/basic-skills-21/2021-10-05/
LOCATION:Tanztempel Ost\, Ulmer Str. 184\, Stuttgart\, Baden Württemberg\, 70188\, Deutschland
CATEGORIES:5Rhythmen®,Classes,Einsteiger-Kurse,Wave after Wave,Wave-Angebot
ATTACH;FMTTYPE=image/jpeg:https://amala-dance.com/wp-content/uploads/2013/12/home21.jpg
ORGANIZER;CN="Amala P. Storm":MAILTO:amala@5rhythmen-stuttgart.de
GEO:48.8001622;9.2146158
X-APPLE-STRUCTURED-LOCATION;VALUE=URI;X-ADDRESS=Tanztempel Ost Ulmer Str. 184 Stuttgart Baden Württemberg 70188 Deutschland;X-APPLE-RADIUS=500;X-TITLE=Ulmer Str. 184:geo:9.2146158,48.8001622
END:VEVENT
BEGIN:VEVENT
DTSTART;TZID=Europe/Helsinki:20211009T193000
DTEND;TZID=Europe/Helsinki:20211009T224500
DTSTAMP:20260421T041340
CREATED:20210608T113812Z
LAST-MODIFIED:20210609T094210Z
UID:10006113-1633807800-1633819500@amala-dance.com
SUMMARY:Saturday Wave in Neuaubing
DESCRIPTION:Dance & Connect with Awareness \n\n\n\nDer Samstagabend ist eine Einladung im Tanzen ganz bei dir anzukommen\, in deiner Lebendigkeit\, Mühelosigkeit\, Freiheit\, Ekstase\, in deinem Herzen und deinem innersten Raum. Wir nutzen die 5Rhythmen® flowing\, staccato\, chaos\, lyrical und stillness als unsere Bewegungspraxis. \nTanze durch alles was dich bewegt mit Bewusstheit. \nTanze alleine oder mit anderen und lasse dich von der Magie der Welle tragen. \n19.30h – 20.00 h Welcome \n 20.00h – 22.00 h Wave Dance \n 22.00h – ca.22.45h meet & connect ( Einhaltung der Coronabedingungen !!)  \n\n\n\nAlle sind willkommen\, Anfänger und erfahrene Tänzer/innen \nOrte:  Rote Fabrik \, Brunhamstr. 19a \, München Neuaubing \n\n\n\nMitzubringen? Bequeme Kleidung\, für den Ausklang Knabberzeug und alles was du brauchst \nMit  Voranmeldung\, nutze das Formular um bereits vorab deine Daten einzutragen und bringe sie mit . \n\n\n\nAnmeldung-Wave-Amala-Rote-Fabrik-2 \n\n\n\nfür Fragen melde dich bei Amala 0176 / 61 98 20 60 amala@5rhythmen-stuttgart.de \n  \n\n\n\n\n\n\nWe dance to fall in love with the spirit in all things\, to break down walls and fall in the moment.\nG. Roth\n \n  \n\n\n\n 
URL:https://amala-dance.com/event/neuaubing-4-2-2-2/
LOCATION:Rote Fabrik Tanzraum Neuaubing\, Brunhamstr. 19a\, München\, Bayern\, 81249\, Deutschland
CATEGORIES:5Rhythmen®,Abtanzen,Classes,Einsteiger-Kurse,Saturday Wave,Sweat your Prayers,Wave-Angebot
ATTACH;FMTTYPE=image/jpeg:https://amala-dance.com/wp-content/uploads/2020/01/JWP0665.jpg
ORGANIZER;CN="Amala P. Storm":MAILTO:amala@5rhythmen-stuttgart.de
GEO:48.8001622;9.2146158
X-APPLE-STRUCTURED-LOCATION;VALUE=URI;X-ADDRESS=Rote Fabrik Tanzraum Neuaubing Brunhamstr. 19a München Bayern 81249 Deutschland;X-APPLE-RADIUS=500;X-TITLE=Brunhamstr. 19a:geo:9.2146158,48.8001622
END:VEVENT
BEGIN:VEVENT
DTSTART;TZID=Europe/Helsinki:20211012T200000
DTEND;TZID=Europe/Helsinki:20211012T220000
DTSTAMP:20260421T041340
CREATED:20191202T110702Z
LAST-MODIFIED:20211007T124113Z
UID:10006055-1634068800-1634076000@amala-dance.com
SUMMARY:Wave after Wave / Basic Skills
DESCRIPTION:Diese Kurse sind eine Einladung die 5 Rhythmen™ kennen zu lernen\nund das Verständnis für die Rhythmen zu vertiefen.\nWir beginnen da wo wir sind. In der Balance zwischen freier Bewegung\nund Anleitung erforschen wir jeden der fünf Rhythmen: die Form\, die\nBewegung im Körper und im Raum\, die spezifische Energie\,\ndie der jeweilige Rhythmus in uns erweckt und wie wir diese Energie\nfür uns und in Gemeinschaft nutzen können. Jeder Abend fokussiert\nein Thema und führt durch eine vollständige Wave.\nWir folgen dem freien Fluss unserer Energie\,\nder Freude an Bewegung und geben uns die Freiheit\nuns auszudrücken. \n“Wave tanzen schafft eine heilsame\, kraftvolle\nund tiefe Verbindung zum eigenen Körper\,\nseiner Lebendigkeit\, und der Quelle des Lebens\,\ndem Spirit oder dem Sein.”  Amala \nAlle sind willkommen\, Anfänger\, erfahrene Tänzer/innen und Neugierige.\nDie fortlaufenden Kurse sind einzeln buchbar.\nAnmeldung: je nach covid19 Lage\, bitte via email anmelden amala@5rhythmen-stuttgart.de oder hier 21 Kursanmeldung\nMitzubringen: bequeme Kleidung\, Getränk\, rutschfeste Socken/ Tanzschuhe\nEinführung in die 5Rhythmen™ siehe unter Einführungskurse!\nTermine siehe Kalender \n\n 
URL:https://amala-dance.com/event/basic-skills-21/2021-10-12/
LOCATION:Tanztempel Ost\, Ulmer Str. 184\, Stuttgart\, Baden Württemberg\, 70188\, Deutschland
CATEGORIES:5Rhythmen®,Classes,Einsteiger-Kurse,Wave after Wave,Wave-Angebot
ATTACH;FMTTYPE=image/jpeg:https://amala-dance.com/wp-content/uploads/2013/12/home21.jpg
ORGANIZER;CN="Amala P. Storm":MAILTO:amala@5rhythmen-stuttgart.de
GEO:48.8001622;9.2146158
X-APPLE-STRUCTURED-LOCATION;VALUE=URI;X-ADDRESS=Tanztempel Ost Ulmer Str. 184 Stuttgart Baden Württemberg 70188 Deutschland;X-APPLE-RADIUS=500;X-TITLE=Ulmer Str. 184:geo:9.2146158,48.8001622
END:VEVENT
BEGIN:VEVENT
DTSTART;TZID=Europe/Helsinki:20211019T200000
DTEND;TZID=Europe/Helsinki:20211019T220000
DTSTAMP:20260421T041340
CREATED:20191202T110702Z
LAST-MODIFIED:20211007T124113Z
UID:10006056-1634673600-1634680800@amala-dance.com
SUMMARY:Wave after Wave / Basic Skills
DESCRIPTION:Diese Kurse sind eine Einladung die 5 Rhythmen™ kennen zu lernen\nund das Verständnis für die Rhythmen zu vertiefen.\nWir beginnen da wo wir sind. In der Balance zwischen freier Bewegung\nund Anleitung erforschen wir jeden der fünf Rhythmen: die Form\, die\nBewegung im Körper und im Raum\, die spezifische Energie\,\ndie der jeweilige Rhythmus in uns erweckt und wie wir diese Energie\nfür uns und in Gemeinschaft nutzen können. Jeder Abend fokussiert\nein Thema und führt durch eine vollständige Wave.\nWir folgen dem freien Fluss unserer Energie\,\nder Freude an Bewegung und geben uns die Freiheit\nuns auszudrücken. \n“Wave tanzen schafft eine heilsame\, kraftvolle\nund tiefe Verbindung zum eigenen Körper\,\nseiner Lebendigkeit\, und der Quelle des Lebens\,\ndem Spirit oder dem Sein.”  Amala \nAlle sind willkommen\, Anfänger\, erfahrene Tänzer/innen und Neugierige.\nDie fortlaufenden Kurse sind einzeln buchbar.\nAnmeldung: je nach covid19 Lage\, bitte via email anmelden amala@5rhythmen-stuttgart.de oder hier 21 Kursanmeldung\nMitzubringen: bequeme Kleidung\, Getränk\, rutschfeste Socken/ Tanzschuhe\nEinführung in die 5Rhythmen™ siehe unter Einführungskurse!\nTermine siehe Kalender \n\n 
URL:https://amala-dance.com/event/basic-skills-21/2021-10-19/
LOCATION:Tanztempel Ost\, Ulmer Str. 184\, Stuttgart\, Baden Württemberg\, 70188\, Deutschland
CATEGORIES:5Rhythmen®,Classes,Einsteiger-Kurse,Wave after Wave,Wave-Angebot
ATTACH;FMTTYPE=image/jpeg:https://amala-dance.com/wp-content/uploads/2013/12/home21.jpg
ORGANIZER;CN="Amala P. Storm":MAILTO:amala@5rhythmen-stuttgart.de
GEO:48.8001622;9.2146158
X-APPLE-STRUCTURED-LOCATION;VALUE=URI;X-ADDRESS=Tanztempel Ost Ulmer Str. 184 Stuttgart Baden Württemberg 70188 Deutschland;X-APPLE-RADIUS=500;X-TITLE=Ulmer Str. 184:geo:9.2146158,48.8001622
END:VEVENT
BEGIN:VEVENT
DTSTART;TZID=Europe/Helsinki:20211023T193000
DTEND;TZID=Europe/Helsinki:20211023T213000
DTSTAMP:20260421T041340
CREATED:20210922T162633Z
LAST-MODIFIED:20210922T162633Z
UID:10006394-1635017400-1635024600@amala-dance.com
SUMMARY:Saturday Wave
DESCRIPTION:The fastest way to still the mind is to move the body\nDie 5 Rhythmen™ flowing\, staccato\, chaos\, lyrical und stillness sind eine Bewegungspraxis\, die in ihrer Abfolge getanzt eine Wave bilden.\nDer Samstagabend ist ein offener Übungsraum\, bei dem es nur wenig Anleitung gibt. \nTanze durch alles was dich bewegt mit Bewusstheit. Tanze alleine oder mit anderen und lasse dich von der Magie der Welle tragen. \nAlle sind willkommen\, Anfänger und erfahrene Tänzer/innen \nOrt:  Ulmerstr. 184\, 70188 Stuttgart\nAnmeldung: Je nach Corona Lage ; email amala@5rhythmen-stuttgart.de / phone 07116076724
URL:https://amala-dance.com/event/herbst-2/
LOCATION:Tanztempel Ost\, Ulmer Str. 184\, Stuttgart\, Baden Württemberg\, 70188\, Deutschland
CATEGORIES:5Rhythmen®,Abtanzen,Classes,Einsteiger-Kurse,Saturday Wave,Sweat your Prayers,Wave-Angebot
ATTACH;FMTTYPE=image/jpeg:https://amala-dance.com/wp-content/uploads/2013/12/saturday-wave.jpg
ORGANIZER;CN="Amala P. Storm":MAILTO:amala@5rhythmen-stuttgart.de
GEO:48.8001622;9.2146158
X-APPLE-STRUCTURED-LOCATION;VALUE=URI;X-ADDRESS=Tanztempel Ost Ulmer Str. 184 Stuttgart Baden Württemberg 70188 Deutschland;X-APPLE-RADIUS=500;X-TITLE=Ulmer Str. 184:geo:9.2146158,48.8001622
END:VEVENT
BEGIN:VEVENT
DTSTART;TZID=Europe/Helsinki:20211026T200000
DTEND;TZID=Europe/Helsinki:20211026T220000
DTSTAMP:20260421T041340
CREATED:20191202T110702Z
LAST-MODIFIED:20211007T124113Z
UID:10006057-1635278400-1635285600@amala-dance.com
SUMMARY:Wave after Wave / Basic Skills
DESCRIPTION:Diese Kurse sind eine Einladung die 5 Rhythmen™ kennen zu lernen\nund das Verständnis für die Rhythmen zu vertiefen.\nWir beginnen da wo wir sind. In der Balance zwischen freier Bewegung\nund Anleitung erforschen wir jeden der fünf Rhythmen: die Form\, die\nBewegung im Körper und im Raum\, die spezifische Energie\,\ndie der jeweilige Rhythmus in uns erweckt und wie wir diese Energie\nfür uns und in Gemeinschaft nutzen können. Jeder Abend fokussiert\nein Thema und führt durch eine vollständige Wave.\nWir folgen dem freien Fluss unserer Energie\,\nder Freude an Bewegung und geben uns die Freiheit\nuns auszudrücken. \n“Wave tanzen schafft eine heilsame\, kraftvolle\nund tiefe Verbindung zum eigenen Körper\,\nseiner Lebendigkeit\, und der Quelle des Lebens\,\ndem Spirit oder dem Sein.”  Amala \nAlle sind willkommen\, Anfänger\, erfahrene Tänzer/innen und Neugierige.\nDie fortlaufenden Kurse sind einzeln buchbar.\nAnmeldung: je nach covid19 Lage\, bitte via email anmelden amala@5rhythmen-stuttgart.de oder hier 21 Kursanmeldung\nMitzubringen: bequeme Kleidung\, Getränk\, rutschfeste Socken/ Tanzschuhe\nEinführung in die 5Rhythmen™ siehe unter Einführungskurse!\nTermine siehe Kalender \n\n 
URL:https://amala-dance.com/event/basic-skills-21/2021-10-26/
LOCATION:Tanztempel Ost\, Ulmer Str. 184\, Stuttgart\, Baden Württemberg\, 70188\, Deutschland
CATEGORIES:5Rhythmen®,Classes,Einsteiger-Kurse,Wave after Wave,Wave-Angebot
ATTACH;FMTTYPE=image/jpeg:https://amala-dance.com/wp-content/uploads/2013/12/home21.jpg
ORGANIZER;CN="Amala P. Storm":MAILTO:amala@5rhythmen-stuttgart.de
GEO:48.8001622;9.2146158
X-APPLE-STRUCTURED-LOCATION;VALUE=URI;X-ADDRESS=Tanztempel Ost Ulmer Str. 184 Stuttgart Baden Württemberg 70188 Deutschland;X-APPLE-RADIUS=500;X-TITLE=Ulmer Str. 184:geo:9.2146158,48.8001622
END:VEVENT
END:VCALENDAR