BEGIN:VCALENDAR
VERSION:2.0
PRODID:-//Amala - Body  Soul  Dance - ECPv6.7.0//NONSGML v1.0//EN
CALSCALE:GREGORIAN
METHOD:PUBLISH
X-WR-CALNAME:Amala - Body  Soul  Dance
X-ORIGINAL-URL:https://amala-dance.com
X-WR-CALDESC:Veranstaltungen für Amala - Body  Soul  Dance
REFRESH-INTERVAL;VALUE=DURATION:PT1H
X-Robots-Tag:noindex
X-PUBLISHED-TTL:PT1H
BEGIN:VTIMEZONE
TZID:Europe/Helsinki
BEGIN:DAYLIGHT
TZOFFSETFROM:+0200
TZOFFSETTO:+0300
TZNAME:EEST
DTSTART:20200329T010000
END:DAYLIGHT
BEGIN:STANDARD
TZOFFSETFROM:+0300
TZOFFSETTO:+0200
TZNAME:EET
DTSTART:20201025T010000
END:STANDARD
END:VTIMEZONE
BEGIN:VEVENT
DTSTART;TZID=Europe/Helsinki:20201101T110000
DTEND;TZID=Europe/Helsinki:20201101T180000
DTSTAMP:20260424T225241
CREATED:20200811T112022Z
LAST-MODIFIED:20201029T152918Z
UID:10006373-1604228400-1604253600@amala-dance.com
SUMMARY:Dances of Peace / FÄLLT AUS
DESCRIPTION:  \nWohin gehen deine Gedanken\, wenn du das Wort „Frieden“ hörst? \n Erinnerst du dich an den warmen Sommerabend\, \nden du mit den Menschen verbracht hast\, die du schätzt? \nStellst du dir die die Welt  vor mit ihren enormen Herausforderungen\, die sie im Moment hat? \nSpürst du\, dass du am Leben bist und dass was auch immer dieser „Frieden“ ist\, \ner ist hier und jetzt und in diesem Moment? \nTanzend erforschen wir\, was es für uns heißt in Frieden zu sein. Was bedeutet es in meinem Innern\, wenn Gefühle Unfrieden bringen\, im Außen\, in meinen Beziehungen\, meiner Arbeit\, etc. und in der Welt\, in meinem Umfeld und im großen Ganzen? Welche Möglichkeiten und Erfahrungen kann dieses Wort enthalten\, damit es  in meiner einzigartigen Existenz Sinn machen? \nIch sehe Frieden als eine reiche Bewegung vieler\, vieler kleinerer und größerer Friedens- und Beziehungskonflikte\, Höhen und Tiefen\, Spannungen und Freisetzungen\, Bewegungen und Stillstände\, die sich ständig ändern\, manifestieren\, auflösen und wieder neu entfalten. Persönlich schaffe ich Frieden\, wenn ich Wege finde\, mit diesem verrückten und unbeschreiblichen Lebensstrom in Beziehung zu treten\, das Leben zuzulassen und so wenig Schaden wie möglich zu verursachen. Es ist\, wenn ich Wege finde\, den Tanz sowohl in seiner Schönheit als auch in seinem Entsetzen\, sowohl in seiner Freude als auch in seinem Schmerz vollständig zu tanzen\, ohne aufzugeben\, zynisch zu werden oder vollständig zurückzutreten. \nFrieden ist für mich also eine Praxis. \n  \nIn diesem Tageskurs nutzen wir die Elemente von Open Floor\, Meditation\, Therapy in Motion um klarer zu werden und Frieden als eine unserer wichtigsten Ressourcen zu nähren. \nVoraussetzung: Coronabedingungen ; Details werden dir mit der Anfrage und zeitlich aktuell zugesendet.\nDie Teilnehmerzahl ist auf 20 Personen begrenzt. \nTagesworkshop am 1. November /11-18h/einzeln buchbar\n \nAnmeldung schriftlich bei Amala unter openfloor@amala-dance\,com / Anmeldung bis 1 Woche vorab\nMitzubringen: Essen zum Teilen\, bequeme Kleidung zum Schichten  und Schreibzeug. \nTanzstudio Iris al Wardani\, Mercedessstr.9 \, Stuttgart Bad Cannstatt \n  \n 
URL:https://amala-dance.com/event/dances-of-peace/
LOCATION:Tanztempel Ost\, Ulmer Str. 184\, Stuttgart\, Baden Württemberg\, 70188\, Deutschland
CATEGORIES:Open Floor,OpenFloor-Classes
ATTACH;FMTTYPE=image/jpeg:https://amala-dance.com/wp-content/uploads/2020/08/aleksandr-ledogorov-G-JJy-Yv_dA-unsplash.jpg
ORGANIZER;CN="Amala Storm":MAILTO:openfloor@amala-dance.com
GEO:48.8001622;9.2146158
X-APPLE-STRUCTURED-LOCATION;VALUE=URI;X-ADDRESS=Tanztempel Ost Ulmer Str. 184 Stuttgart Baden Württemberg 70188 Deutschland;X-APPLE-RADIUS=500;X-TITLE=Ulmer Str. 184:geo:9.2146158,48.8001622
END:VEVENT
BEGIN:VEVENT
DTSTART;TZID=Europe/Helsinki:20201103T193000
DTEND;TZID=Europe/Helsinki:20201103T210000
DTSTAMP:20260424T225241
CREATED:20200610T100640Z
LAST-MODIFIED:20201029T153536Z
UID:10006090-1604431800-1604437200@amala-dance.com
SUMMARY:Tuesday  Wave / Dance & Connect online
DESCRIPTION:The fastest way to still the mind is to move the body\nDie 5 Rhythmen™ flowing\, staccato\, chaos\, lyrical und stillness sind eine Bewegungspraxis\, die in ihrer Abfolge getanzt eine Wave bilden.\nDer Samstagabend ist ein offener Übungsraum\, bei dem es nur wenig Anleitung gibt. \nTanze durch alles was dich bewegt mit Bewusstheit. Tanze alleine oder mit anderen und lasse dich von der Magie der Welle tragen. \nAlle sind willkommen\, Anfänger und erfahrene Tänzer/innen \nOrt:  Zoom online\nAnmeldung https://form.jotform.com/201495221137347 \n 
URL:https://amala-dance.com/event/saturday-wave-5rhythmen-in-cannstatt-7-3-2-3-2-2-2-2-2/2020-11-03/
LOCATION:online on Zoom\, Mercedesstr. 9\, Stuttgart\, 70372\, Deutschland
CATEGORIES:5Rhythmen®,Abtanzen,Classes,Einsteiger-Kurse,Saturday Wave,Sweat your Prayers,Wave-Angebot
ATTACH;FMTTYPE=image/jpeg:https://amala-dance.com/wp-content/uploads/2013/12/saturday-wave.jpg
ORGANIZER;CN="Amala P. Storm":MAILTO:amala@5rhythmen-stuttgart.de
GEO:48.8001622;9.2146158
X-APPLE-STRUCTURED-LOCATION;VALUE=URI;X-ADDRESS=online on Zoom Mercedesstr. 9 Stuttgart 70372 Deutschland;X-APPLE-RADIUS=500;X-TITLE=Mercedesstr. 9:geo:9.2146158,48.8001622
END:VEVENT
BEGIN:VEVENT
DTSTART;TZID=Europe/Helsinki:20201110T193000
DTEND;TZID=Europe/Helsinki:20201110T210000
DTSTAMP:20260424T225241
CREATED:20200610T100640Z
LAST-MODIFIED:20201029T153536Z
UID:10006091-1605036600-1605042000@amala-dance.com
SUMMARY:Tuesday  Wave / Dance & Connect online
DESCRIPTION:The fastest way to still the mind is to move the body\nDie 5 Rhythmen™ flowing\, staccato\, chaos\, lyrical und stillness sind eine Bewegungspraxis\, die in ihrer Abfolge getanzt eine Wave bilden.\nDer Samstagabend ist ein offener Übungsraum\, bei dem es nur wenig Anleitung gibt. \nTanze durch alles was dich bewegt mit Bewusstheit. Tanze alleine oder mit anderen und lasse dich von der Magie der Welle tragen. \nAlle sind willkommen\, Anfänger und erfahrene Tänzer/innen \nOrt:  Zoom online\nAnmeldung https://form.jotform.com/201495221137347 \n 
URL:https://amala-dance.com/event/saturday-wave-5rhythmen-in-cannstatt-7-3-2-3-2-2-2-2-2/2020-11-10/
LOCATION:online on Zoom\, Mercedesstr. 9\, Stuttgart\, 70372\, Deutschland
CATEGORIES:5Rhythmen®,Abtanzen,Classes,Einsteiger-Kurse,Saturday Wave,Sweat your Prayers,Wave-Angebot
ATTACH;FMTTYPE=image/jpeg:https://amala-dance.com/wp-content/uploads/2013/12/saturday-wave.jpg
ORGANIZER;CN="Amala P. Storm":MAILTO:amala@5rhythmen-stuttgart.de
GEO:48.8001622;9.2146158
X-APPLE-STRUCTURED-LOCATION;VALUE=URI;X-ADDRESS=online on Zoom Mercedesstr. 9 Stuttgart 70372 Deutschland;X-APPLE-RADIUS=500;X-TITLE=Mercedesstr. 9:geo:9.2146158,48.8001622
END:VEVENT
BEGIN:VEVENT
DTSTART;TZID=Europe/Helsinki:20201117T193000
DTEND;TZID=Europe/Helsinki:20201117T210000
DTSTAMP:20260424T225241
CREATED:20200610T100640Z
LAST-MODIFIED:20210526T094416Z
UID:10006092-1605641400-1605646800@amala-dance.com
SUMMARY:Tuesday  Wave / Dance & Connect online
DESCRIPTION:The fastest way to still the mind is to move the body\nDie 5 Rhythmen™ flowing\, staccato\, chaos\, lyrical und stillness sind eine Bewegungspraxis\, die in ihrer Abfolge getanzt eine Wave bilden.\nDer Samstagabend ist ein offener Übungsraum\, bei dem es nur wenig Anleitung gibt. \nTanze durch alles was dich bewegt mit Bewusstheit. Tanze alleine oder mit anderen und lasse dich von der Magie der Welle tragen. \nAlle sind willkommen\, Anfänger und erfahrene Tänzer/innen \nOrt:  Zoom online\nAnmeldung https://form.jotform.com/201495221137347 \n 
URL:https://amala-dance.com/event/saturday-wave-5rhythmen-in-cannstatt-7-3-2-3-2-2-2-2-2-2020-11-17/
LOCATION:online on Zoom\, Mercedesstr. 9\, Stuttgart\, 70372\, Deutschland
CATEGORIES:5Rhythmen®,Abtanzen,Classes,Einsteiger-Kurse,Saturday Wave,Sweat your Prayers,Wave-Angebot
ATTACH;FMTTYPE=image/jpeg:https://amala-dance.com/wp-content/uploads/2013/12/saturday-wave.jpg
ORGANIZER;CN="Amala P. Storm":MAILTO:amala@5rhythmen-stuttgart.de
GEO:48.8001622;9.2146158
X-APPLE-STRUCTURED-LOCATION;VALUE=URI;X-ADDRESS=online on Zoom Mercedesstr. 9 Stuttgart 70372 Deutschland;X-APPLE-RADIUS=500;X-TITLE=Mercedesstr. 9:geo:9.2146158,48.8001622
END:VEVENT
END:VCALENDAR