BEGIN:VCALENDAR
VERSION:2.0
PRODID:-//Amala - Body  Soul  Dance - ECPv6.7.0//NONSGML v1.0//EN
CALSCALE:GREGORIAN
METHOD:PUBLISH
X-WR-CALNAME:Amala - Body  Soul  Dance
X-ORIGINAL-URL:https://amala-dance.com
X-WR-CALDESC:Veranstaltungen für Amala - Body  Soul  Dance
REFRESH-INTERVAL;VALUE=DURATION:PT1H
X-Robots-Tag:noindex
X-PUBLISHED-TTL:PT1H
BEGIN:VTIMEZONE
TZID:Europe/Berlin
BEGIN:DAYLIGHT
TZOFFSETFROM:+0100
TZOFFSETTO:+0200
TZNAME:CEST
DTSTART:20250330T010000
END:DAYLIGHT
BEGIN:STANDARD
TZOFFSETFROM:+0200
TZOFFSETTO:+0100
TZNAME:CET
DTSTART:20251026T010000
END:STANDARD
END:VTIMEZONE
BEGIN:VEVENT
DTSTART;TZID=Europe/Berlin:20251030T180000
DTEND;TZID=Europe/Berlin:20251102T140000
DTSTAMP:20260423T115401
CREATED:20250709T121032Z
LAST-MODIFIED:20250709T121032Z
UID:10006605-1761847200-1762092000@amala-dance.com
SUMMARY:Beyond Boundaries / Grenzen und Verbindung
DESCRIPTION:Viele von uns tun sich schwer ein deutliches Gefühl für die eigenen Grenzen zu entwickeln. Wir wollen andere nicht verletzten oder scheuen uns deutlich zu sagen\, was wir brauchen. \nIm Kurs üben wir Grenzen zu setzen\, uns selbst gegenüber und anderen Menschen. \nJe deutlicher ich mich spüre\, desto mehr Freiheit habe ich ja oder nein zu sagen. Wir lernen auf den Körper zu hören und sensibler zu werden für seine Botschaften an uns. Das schafft die Voraussetzung\, um dich zu öffnen und dir selbst treu zu bleiben. \nWir forschen tanzend\, nutzen die 5Rhythmen als Wegweiser und kraftvolles Werkzeug für ein stärkeres Selbstverständnis. Es gibt Raum für den Einzelnen und die Gemeinschaft\, das einzubringen\, was dich im Augenblick gerade beschäftigt. \nElements of Trust  \nGrenzen – Verlässlichkeit  –  Mut  – Integrität – Verbundenheit mit mir selbst  –  Wertfreiheit – Großzügigkeit  \nWir arbeiten mit:  5Rhythms – Open Floor Wisdom –  Therapy in Motion –  Connection – Kreative Gestaltung –  Teachings und Austausch \nThose times when we’re grow\nthose times when we’re grounded in our body\npure in our heart\, clear in our mind\,\nrooted in our soul and suffused with the\nSpirit of Life are our birthright\nG.Roth\n \nInfos und Anmeldung bei 5rhythmen@amala-dance.com\n \nKurskosten: 385\,- / 350\,- bei Anmeldung bis 20. September \nOrt: Seminarzentrum Sonnenstrahl Kißlegg\, www.seminarzentrum-sonnenstrahl.de \nOhne Übernachtung und Verpflegung. Diese bitte selbst buchen. \nVorraussetzung: Der Kurs ist sowohl für Anfänger\, als auch fortgeschrittene Tänzer:innen geeignet. \n  \n 
URL:https://amala-dance.com/event/beyond-boundaries/
LOCATION:Yoga- und Seminarzentrum Sonnenstrahl im Allgäu\, Sebastian-Kneipp-Straße 1\, Kißlegg\, Baden Württemberg\, 88353\, Deutschland
ATTACH;FMTTYPE=image/jpeg:https://amala-dance.com/wp-content/uploads/2025/07/mingwei-dong-irA2xa68xNA-unsplash.jpg
ORGANIZER;CN="Amala P. Storm":MAILTO:amala@5rhythmen-stuttgart.de
GEO:47.789715;9.8857952
X-APPLE-STRUCTURED-LOCATION;VALUE=URI;X-ADDRESS=Yoga- und Seminarzentrum Sonnenstrahl im Allgäu Sebastian-Kneipp-Straße 1 Kißlegg Baden Württemberg 88353 Deutschland;X-APPLE-RADIUS=500;X-TITLE=Sebastian-Kneipp-Straße 1:geo:9.8857952,47.789715
END:VEVENT
END:VCALENDAR