BEGIN:VCALENDAR
VERSION:2.0
PRODID:-//Amala - Body  Soul  Dance - ECPv6.7.0//NONSGML v1.0//EN
CALSCALE:GREGORIAN
METHOD:PUBLISH
X-WR-CALNAME:Amala - Body  Soul  Dance
X-ORIGINAL-URL:https://amala-dance.com
X-WR-CALDESC:Veranstaltungen für Amala - Body  Soul  Dance
REFRESH-INTERVAL;VALUE=DURATION:PT1H
X-Robots-Tag:noindex
X-PUBLISHED-TTL:PT1H
BEGIN:VTIMEZONE
TZID:Europe/Berlin
BEGIN:DAYLIGHT
TZOFFSETFROM:+0100
TZOFFSETTO:+0200
TZNAME:CEST
DTSTART:20250330T010000
END:DAYLIGHT
BEGIN:STANDARD
TZOFFSETFROM:+0200
TZOFFSETTO:+0100
TZNAME:CET
DTSTART:20251026T010000
END:STANDARD
END:VTIMEZONE
BEGIN:VEVENT
DTSTART;TZID=Europe/Berlin:20250718T193000
DTEND;TZID=Europe/Berlin:20250718T213000
DTSTAMP:20260423T124715
CREATED:20250528T093011Z
LAST-MODIFIED:20250528T093011Z
UID:10006597-1752867000-1752874200@amala-dance.com
SUMMARY:5Rhythmen Wave in Karlsruhe mit Amala
DESCRIPTION:Just Come & Dance
URL:https://amala-dance.com/event/5rhythmen-wave-in-karlsruhe-mit-amala-3/
LOCATION:Sporthalle SSC\, Kita Wirbelwind\, Am Sportpark 3\, Karlsruhe\, Baden-Württemberg\, Deutschland
ATTACH;FMTTYPE=image/jpeg:https://amala-dance.com/wp-content/uploads/2024/04/Bildschirmfoto-2024-04-20-um-10.46.32.jpeg
ORGANIZER;CN="Amala P. Storm":MAILTO:amala@5rhythmen-stuttgart.de
GEO:49.027;8.44369
X-APPLE-STRUCTURED-LOCATION;VALUE=URI;X-ADDRESS=Sporthalle SSC Kita Wirbelwind Am Sportpark 3 Karlsruhe Baden-Württemberg Deutschland;X-APPLE-RADIUS=500;X-TITLE=Am Sportpark 3:geo:8.44369,49.027
END:VEVENT
BEGIN:VEVENT
DTSTART;TZID=Europe/Berlin:20250718T193000
DTEND;TZID=Europe/Berlin:20250718T213000
DTSTAMP:20260423T124715
CREATED:20250805T143958Z
LAST-MODIFIED:20250805T143958Z
UID:10006630-1752867000-1752874200@amala-dance.com
SUMMARY:5Rhythmen Wave in Karlsruhe mit Amala
DESCRIPTION:Just Come & Dance
URL:https://amala-dance.com/event/5rhythmen-wave-in-karlsruhe-mit-amala-4/
LOCATION:Sporthalle SSC\, Kita Wirbelwind\, Am Sportpark 3\, Karlsruhe\, Baden-Württemberg\, Deutschland
ATTACH;FMTTYPE=image/jpeg:https://amala-dance.com/wp-content/uploads/2024/04/Bildschirmfoto-2024-04-20-um-10.46.32.jpeg
ORGANIZER;CN="Amala P. Storm":MAILTO:amala@5rhythmen-stuttgart.de
GEO:49.027;8.44369
X-APPLE-STRUCTURED-LOCATION;VALUE=URI;X-ADDRESS=Sporthalle SSC Kita Wirbelwind Am Sportpark 3 Karlsruhe Baden-Württemberg Deutschland;X-APPLE-RADIUS=500;X-TITLE=Am Sportpark 3:geo:8.44369,49.027
END:VEVENT
END:VCALENDAR