BEGIN:VCALENDAR
VERSION:2.0
PRODID:-//Amala - Body  Soul  Dance - ECPv6.7.0//NONSGML v1.0//EN
CALSCALE:GREGORIAN
METHOD:PUBLISH
X-ORIGINAL-URL:https://amala-dance.com
X-WR-CALDESC:Veranstaltungen für Amala - Body  Soul  Dance
REFRESH-INTERVAL;VALUE=DURATION:PT1H
X-Robots-Tag:noindex
X-PUBLISHED-TTL:PT1H
BEGIN:VTIMEZONE
TZID:Europe/Berlin
BEGIN:DAYLIGHT
TZOFFSETFROM:+0100
TZOFFSETTO:+0200
TZNAME:CEST
DTSTART:20250330T010000
END:DAYLIGHT
BEGIN:STANDARD
TZOFFSETFROM:+0200
TZOFFSETTO:+0100
TZNAME:CET
DTSTART:20251026T010000
END:STANDARD
END:VTIMEZONE
BEGIN:VEVENT
DTSTART;TZID=Europe/Berlin:20250510T140000
DTEND;TZID=Europe/Berlin:20250510T180000
DTSTAMP:20260422T202850
CREATED:20241209T124749Z
LAST-MODIFIED:20241209T124749Z
UID:10006506-1746885600-1746900000@amala-dance.com
SUMMARY:Dive in / Dive deeper: Ready to Blossom / 5Rhythmen Mini Workshop
DESCRIPTION:NEW – NEW – NEW –  Mini Workshop am Samstagnachmittag – 3 Retreats \nReady to Flow  –  25. Januar \nReady to Grow  – 15. März\nReady to Blossom – 10. Mai  \n  \nReady to Grow\nWie können uns ermutigen zu blühen\, uns weiterbewegen aus eingefahrenen Mustern in mehr Freiheit für uns selbst ?  \nIn den Kursen geht es darum\, durch Bewegung innere Ressourcen aufzubauen. Wir erleben diese Erfahrung auf allen Ebenen: körperlich\, seelisch\, emotional und durch den Austausch mit anderen. Um uns wohl in unserer Haut und in unserem Leben zu fühlen braucht es einen guten Zugang zu den verschiedenen Qualtitäten\, die wir hervortanzen.\nWir stärken sie durch unseren Tanz und nähren damit unsere Seele. \nWorkshop: Samstagnachmittag 14.00h – 18.00h / alle 2 Monate \n14.00h – ca.16.00h Kurs \n16.00h – 16.30h Pause\, Snack* & Connect \n16.30h – ca. 18.00h Wave & Integration \nKosten: 59\,- / Rabatt möglich bei Buchung dieser Serie vorab. \n*Snack bitte mitbringen \nAnmeldung MiniWorkshop 25a\,  mit beigefügtem Formular unter 5rhythmen@amala-dance.com\,  Anmeldeschluss spätestens Sonntag vor Beginn\,  Mindestteilnehmerzahl 12 \nDieser Kurs richtet sich an alle Tänzer*innen die neugierig und experimentierfreudig sind. An alle\,die dienstags keine Zeit finden oder den Abend versäumt haben\, \n an alle die Neu sind\, an alle alten Hasen\, an alle die gerne tanzen und in Kontakt mit sich und anderen sind. \n 
URL:https://amala-dance.com/event/ready-to-blossom/
LOCATION:Sängerschaft Schwaben\, Am Kriegsbergturm 37\, Stuttgart\, Baden Württemberg\, 70192\, Deutschland
CATEGORIES:5Rhythmen®,Classes,Einsteiger-Workshops,Fortgeschrittenen-Workshops,Saturday Wave,Wave: Basic Skills
ATTACH;FMTTYPE=image/jpeg:https://amala-dance.com/wp-content/uploads/2024/01/Taenzer-1.jpeg
ORGANIZER;CN="Amala P. Storm":MAILTO:amala@5rhythmen-stuttgart.de
END:VEVENT
END:VCALENDAR