BEGIN:VCALENDAR
VERSION:2.0
PRODID:-//Amala - Body  Soul  Dance - ECPv6.7.0//NONSGML v1.0//EN
CALSCALE:GREGORIAN
METHOD:PUBLISH
X-ORIGINAL-URL:https://amala-dance.com
X-WR-CALDESC:Veranstaltungen für Amala - Body  Soul  Dance
REFRESH-INTERVAL;VALUE=DURATION:PT1H
X-Robots-Tag:noindex
X-PUBLISHED-TTL:PT1H
BEGIN:VTIMEZONE
TZID:Europe/Helsinki
BEGIN:DAYLIGHT
TZOFFSETFROM:+0200
TZOFFSETTO:+0300
TZNAME:EEST
DTSTART:20220327T010000
END:DAYLIGHT
BEGIN:STANDARD
TZOFFSETFROM:+0300
TZOFFSETTO:+0200
TZNAME:EET
DTSTART:20221030T010000
END:STANDARD
END:VTIMEZONE
BEGIN:VEVENT
DTSTART;TZID=Europe/Helsinki:20220106T100000
DTEND;TZID=Europe/Helsinki:20220106T143000
DTSTAMP:20260421T132410
CREATED:20201217T123603Z
LAST-MODIFIED:20211221T104304Z
UID:10006378-1641463200-1641479400@amala-dance.com
SUMMARY:Fresh Beginning / New Year Workshop online
DESCRIPTION:Reset & Refresh – How do we start the New Year ?\nDas letzte Jahr wird uns in Erinnerung bleiben und für viele von uns war es nicht einfach. \nDaher möchte ich euch einladen\, mit einen wachen\, kraftvollen und neuen Blick auf das Kommende zu schauen. Neben allen Bestimmungen und Beschränkungen sind es äussere Umstände\, die uns beeinflussen. Diese haben nichts zu tun mit unserem wesentlichen Kern\, der Freiheit im Innern\, dem was in uns reifen und wachsen möchte. \n  \n\nlet go  – wir verabschieden uns bewusst von dem\, was uns unfrei macht und lassen Altes gehen.\nlet be –  wir schenken dem\, was kostbar ist in unserem Leben unsere Wertschätzung und Aufmerksamkeit\nlet see  – wir pflanzen die Samen für unsere Träume\, finden eine tiefe Ausrichtung\, eine kraftvolle Vision für unsere Lebensreise.\n\nWir tanzen für uns selbst\, für unsere Liebsten und für das große Ganze in dem wir leben. Wir nutzen die 5Rhythmen\, kreatives Schreiben und Sharing für diese Online Reise. \nMiniworkshop 10- 12h / Pause / 12.40 – 14.30h ca. Zeiten \nAnmeldung Fresh Beginning22\nbitte senden an amala@5Rhythmen-stuttgart.de  \n  \n 
URL:https://amala-dance.com/event/fresh-beginning/
LOCATION:Sängerschaft Schwaben\, Am Kriegsbergturm 37\, Stuttgart\, Baden Württemberg\, 70192\, Deutschland
CATEGORIES:5Rhythmen®,Einsteiger-Workshops,Fortgeschrittenen-Workshops,Specials,Workshops
ATTACH;FMTTYPE=image/jpeg:https://amala-dance.com/wp-content/uploads/2020/12/niklas-weiss-YtRWcobgiDM-unsplash-2.jpg
ORGANIZER;CN="Amala P. Storm":MAILTO:amala@5rhythmen-stuttgart.de
END:VEVENT
END:VCALENDAR