BEGIN:VCALENDAR
VERSION:2.0
PRODID:-//Amala - Body  Soul  Dance - ECPv6.7.0//NONSGML v1.0//EN
CALSCALE:GREGORIAN
METHOD:PUBLISH
X-WR-CALNAME:Amala - Body  Soul  Dance
X-ORIGINAL-URL:https://amala-dance.com
X-WR-CALDESC:Veranstaltungen für Amala - Body  Soul  Dance
REFRESH-INTERVAL;VALUE=DURATION:PT1H
X-Robots-Tag:noindex
X-PUBLISHED-TTL:PT1H
BEGIN:VTIMEZONE
TZID:Europe/Helsinki
BEGIN:DAYLIGHT
TZOFFSETFROM:+0200
TZOFFSETTO:+0300
TZNAME:EEST
DTSTART:20210328T010000
END:DAYLIGHT
BEGIN:STANDARD
TZOFFSETFROM:+0300
TZOFFSETTO:+0200
TZNAME:EET
DTSTART:20211031T010000
END:STANDARD
END:VTIMEZONE
BEGIN:VEVENT
DTSTART;TZID=Europe/Helsinki:20210929T193000
DTEND;TZID=Europe/Helsinki:20210929T213000
DTSTAMP:20260421T063947
CREATED:20181205T121443Z
LAST-MODIFIED:20210811T115515Z
UID:10006323-1632943800-1632951000@amala-dance.com
SUMMARY:5Rhythmen / Dance Tribe München
DESCRIPTION:Die 5 Rhythmen® sind eine Bewegungsmeditation. Durch das bewusste Tanzen der aufeinanderfolgenden Rhythmen (Flowing Staccato Chaos Lyrical Stillness®) werden Energien freigesetzt und Blockaden in Fluss gebracht. \nWir tanzen barfuß. Bring Dir ausreichend Wasser zum Trinken und bequeme Tanzkleidung mit. \nDie Veranstaltungen sind offen für alle\, die Interesse an Tanz und Bewegung haben – unabhängig davon\, ob sie DTM-Vereinsmitglieder sind oder nicht. Ermäßigungsmöglichkeiten an der Kasse erfragen. \n\n” Seit mehr als 14 Jahren gebe ich die Sweat your Prayers Abende in München und freue mich diese Abende in der gewachsenen Gemeinschaft der Tänzer/innen zu gestalten. ” Amala
URL:https://amala-dance.com/event/5rhythmen-dance-tribe-muenchen-20-2-2-2/
LOCATION:München Agilolfingerplatz 1\, Agilolfingerpl. 1\, München\, Bayern\, 81543\, Deutschland
CATEGORIES:5Rhythmen®,Wave-Angebot
ATTACH;FMTTYPE=image/jpeg:https://amala-dance.com/wp-content/uploads/2016/07/IMG_2592-Kopie1.jpg
GEO:48.11511;11.56572
X-APPLE-STRUCTURED-LOCATION;VALUE=URI;X-ADDRESS=München Agilolfingerplatz 1 Agilolfingerpl. 1 München Bayern 81543 Deutschland;X-APPLE-RADIUS=500;X-TITLE=Agilolfingerpl. 1:geo:11.56572,48.11511
END:VEVENT
END:VCALENDAR