BEGIN:VCALENDAR
VERSION:2.0
PRODID:-//Amala - Body  Soul  Dance - ECPv6.7.0//NONSGML v1.0//EN
CALSCALE:GREGORIAN
METHOD:PUBLISH
X-WR-CALNAME:Amala - Body  Soul  Dance
X-ORIGINAL-URL:https://amala-dance.com
X-WR-CALDESC:Veranstaltungen für Amala - Body  Soul  Dance
REFRESH-INTERVAL;VALUE=DURATION:PT1H
X-Robots-Tag:noindex
X-PUBLISHED-TTL:PT1H
BEGIN:VTIMEZONE
TZID:Europe/Helsinki
BEGIN:DAYLIGHT
TZOFFSETFROM:+0200
TZOFFSETTO:+0300
TZNAME:EEST
DTSTART:20210328T010000
END:DAYLIGHT
BEGIN:STANDARD
TZOFFSETFROM:+0300
TZOFFSETTO:+0200
TZNAME:EET
DTSTART:20211031T010000
END:STANDARD
END:VTIMEZONE
BEGIN:VEVENT
DTSTART;TZID=Europe/Helsinki:20210727T200000
DTEND;TZID=Europe/Helsinki:20210727T220000
DTSTAMP:20260421T220754
CREATED:20191202T110806Z
LAST-MODIFIED:20210710T075418Z
UID:10006061-1627416000-1627423200@amala-dance.com
SUMMARY:Wave after Wave / New Beginning 21
DESCRIPTION:Diese Kurse sind eine Einladung die 5 Rhythmen™ kennen zu lernen\nund das Verständnis für die Rhythmen zu vertiefen.\nWir beginnen da wo wir sind. In der Balance zwischen freier Bewegung\nund Anleitung erforschen wir jeden der fünf Rhythmen: die Form\, die\nBewegung im Körper und im Raum\, die spezifische Energie\,\ndie der jeweilige Rhythmus in uns erweckt und wie wir diese Energie\nfür uns und in Gemeinschaft nutzen können. Jeder Abend fokussiert\nein Thema und führt durch eine vollständige Wave.\nWir folgen dem freien Fluss unserer Energie\,\nder Freude an Bewegung und geben uns die Freiheit\nuns auszudrücken. \n“Wave tanzen schafft eine heilsame\, kraftvolle\nund tiefe Verbindung zum eigenen Körper\,\nseiner Lebendigkeit\, und der Quelle des Lebens\,\ndem Spirit oder dem Sein.”  Amala \nAlle sind willkommen\, Anfänger\, erfahrene Tänzer/innen und Neugierige.\nDie fortlaufenden Kurse sind einzeln buchbar.\nMitzubringen: bequeme Kleidung\, Getränk\, rutschfeste Socken/ Tanzschuhe / GGG \, geimpft\, genesen\, getestet ( Schnelltest )\nAnmeldung: bitte telefonisch unter 0711 6076724 oder via email amala@5rhythmen-stuttgart.de anmelden \nDie bis dahin geltenden Coronaregeln bestimmen die Teilnehmerzahl und den Ablauf.  \n 
URL:https://amala-dance.com/event/basic-skills-2-2-2-3-2021-07-27/2021-07-27/
LOCATION:Tanztempel Ost\, Ulmer Str. 184\, Stuttgart\, Baden Württemberg\, 70188\, Deutschland
CATEGORIES:5Rhythmen®,Classes,Einsteiger-Kurse,Wave after Wave,Wave-Angebot
ATTACH;FMTTYPE=image/jpeg:https://amala-dance.com/wp-content/uploads/2013/12/home21.jpg
ORGANIZER;CN="Amala P. Storm":MAILTO:amala@5rhythmen-stuttgart.de
GEO:48.8001622;9.2146158
X-APPLE-STRUCTURED-LOCATION;VALUE=URI;X-ADDRESS=Tanztempel Ost Ulmer Str. 184 Stuttgart Baden Württemberg 70188 Deutschland;X-APPLE-RADIUS=500;X-TITLE=Ulmer Str. 184:geo:9.2146158,48.8001622
END:VEVENT
END:VCALENDAR