BEGIN:VCALENDAR
VERSION:2.0
PRODID:-//Amala - Body  Soul  Dance - ECPv6.7.0//NONSGML v1.0//EN
CALSCALE:GREGORIAN
METHOD:PUBLISH
X-WR-CALNAME:Amala - Body  Soul  Dance
X-ORIGINAL-URL:https://amala-dance.com
X-WR-CALDESC:Veranstaltungen für Amala - Body  Soul  Dance
REFRESH-INTERVAL;VALUE=DURATION:PT1H
X-Robots-Tag:noindex
X-PUBLISHED-TTL:PT1H
BEGIN:VTIMEZONE
TZID:Europe/Helsinki
BEGIN:DAYLIGHT
TZOFFSETFROM:+0200
TZOFFSETTO:+0300
TZNAME:EEST
DTSTART:20200329T010000
END:DAYLIGHT
BEGIN:STANDARD
TZOFFSETFROM:+0300
TZOFFSETTO:+0200
TZNAME:EET
DTSTART:20201025T010000
END:STANDARD
END:VTIMEZONE
BEGIN:VEVENT
DTSTART;TZID=Europe/Helsinki:20200717T180000
DTEND;TZID=Europe/Helsinki:20200719T160000
DTSTAMP:20260425T152809
CREATED:20191213T132458Z
LAST-MODIFIED:20200707T161105Z
UID:10006069-1595008800-1595174400@amala-dance.com
SUMMARY:Emotional Intelligence / Balancing Body & Emotions
DESCRIPTION:Open Floor Movement & Therapy in Motion\nIch freue mich sehr dieses so aktuelle und wichtige Thema anbieten zu können. Nach all den Emotionen und der Zurückhaltung in vielen Bereichen werde ich den Kursinhalt so anpassen\, dass wir Zeit haben auf alles zu schauen was jetzt durchtanzt werden möchte.Dabei ist Emotionale Balance und die Stärkung unsere inneren Ressourcen unser Leitfaden. \nIn jedem Augenblick unseres Lebens tanzt unser Nervensystem in unserem Körper mit allen Gegebenheiten. Manchmal mit Freude und Genuss und manchmal mit Frust und dem Gefühl von etwas bestimmt zu werden\, das wir nicht wirklich wollen. Manchmal sind wir gestresst\, überdreht\, mit zu vielen Dingen gleich- zeitig beschäftigt und haben dadurch zu wenig Ruhe und Balance in uns selbst. Haben wir dann endlich mal Zeit und Ruhe sind wir schlapp oder unmotiviert für all die Ideen und Leidenschaften in unserem Herzen. Oder wir haben das Gefühl für uns selbst verloren\, um was es uns eigentlich geht\, was unserer inneren Wahrheit entspricht. Das sind die Extreme die jeder mehr oder weniger kennt. Wir sind abgeschnitten von der Quelle in uns. \n\n\n\n\n\n\n\n\nIm Kurs geht es darum\, wie wir uns grundsätzlich wohl fühlen: geerdet\, präsent und mit positiven Gefühlen in der Welt und ihren Beziehungen. \n– Wie gehen wir mit unserer Energie um?\n– Was brauche ich für eine gesunde Balance?\n– Kann ich meine Gefühle akzeptieren und mit ihnen umgehen?\n– Wie kann ich Innen und Aussen in Harmonie bringen? \nWir nehmen diese Fragen mit in unseren Tanz und üben uns im Körper zu ver- ankern. Raus aus der Opferrolle und hinein in eine gesunde Balance von außen und innen\, tun und sein\, Gemeinschaft und Alleinsein\, arbeiten und entspannen\, Ziele erreichen und dem Fluss des Lebens folgen. \n\n\n\n\nMit neuem Schwung und gestärkt empfinden wir die Reise durch unser Leben wieder lebendig und von unserer Seele gesteuert. Wir sind fähig mit den Gegebenheiten des Alltags umzugehen und unsere Energie immer wieder zu regenerieren. \nIn Emotional Intelligence Kursen arbeiten wir mit:  \n\nOpen Floor Movement\n Individuell Work\nTherapy in Motion*\nFeedback\nTeachings \nRitualen\nkreative Medien \nMeditation\n\nDieser Kurs bietet einen Überblick über das Thema Resilienz und Selbstregulation und gibt dir wichtige Hinweise im Umgang mit dir selbst und anderen. \nDaher kann er auch von psychosozialen Berufen\, Lehrern und Helferberufe bzw. allen die mit anderen Menschen arbeiten\, als Lehrgang benutzt werden (ohne staatl. Anerkennung).\nDie Ausbildung zum Open Floor Teacher & Therapy in Motion ist bei OF international möglich. Weitere Infos erhälst du bei Amala. \n* Es folgt eine Kursreihe Emotional Intelligence mit 3 weiteren Workshops 2020 /2021. Die Stunden werden anerkannt für das Open Floor Teachertraining. \n\n\n\n\n\n\n\n\n\n\n\n\n\n\n\n\n\n\n\n\n\n\n\n\nOrt: Gut Helmeringen bei Ulm\nVorraussetzung: 20 h Conscious Dance Praxis\, 5Rhythmen® Waves Erfahrung\nAnmeldeformular anfordern bei openfloor@amala-dance.com \n\n\n\n\nDie Kursstunden sind anerkannt für das Teacher Training. \nAnmeldung Anmeldung EI BodyEmotion \n  \n\n\nEnglish \nI am very happy to be able to offer this current and important topic. After all the emotions and reluctance in many areas\, I will adjust the course content that we have time to look at everything that wants to be danced through now. Emotional balance and strengthening our internal resources are our guidelines. \n\n\n\n\n\nEvery moment of our lives\, our nervous system in our body dances with all cir- cumstances. Sometimes with pleasure and sometimes with frustration and the feeling of being determined by something we do not really want. Sometimes we are stressed\, upset\, too busy with too many things at the same time\, and thus have too little rest and balance in ourselves. Finally\, we have time and rest\, we are tired or unmotivated for all the ideas and passions in our hearts. Or we have lost the feeling for ourselves\, what we are actually need\, what our inner truth is. These are the extremes everyone knows more or less. \nWe are cut off from the source in us. \nThe course is about how we feel in general: grounded\, present and with positive feelings in the world and their relationships. \n– How do we deal with our energy?\n– What do I need for a healthy balance?\n– Can I accept and handle my feelings?\n– How can my inner space be in harmony with the outside? \nWe take these questions into our dance and practice anchoring ourselves in the body. Get out of the victim role and into a healthy balance of outside and inside\, do and be\,communion and aloneness\, work and relax\, achieve goals and follow the flow of life. \nWith renewed momentum and strength\, we feel the journey through our lives alive again and managable by our soul. We are able to deal with the everyday conditions and to regenerate our energy over and over again. \n\n\n\n\nIn Emotional Intelligence courses we work with:\n Open Floor Movement / Individual Work – Therapy in Motion * / Feedback / Teachings / Rituals / Creative Media / Meditation \n\n\n\n\n\n\n\n\n\n\n\n\n\n\n\n\n\n\n\n\n\n\n\n\nThis course provides an overview of resilience and selfregulation and gives you important clues in dealing with yourself and others.\nTherefore\, it can also be used by psychosocial occupations\, teachers and helper professions or anyone who works with other people\, as a course (without state recognition).\nThe Open Floor Teacher & Therapy in Motion training is available at OF international. You will receive further information from Amala \n* Following is a course series Emotional Intelligence with 3 further workshops 2020/2021.\n• The lessons are recognized for the Open Floor Teacher Training. \n\n\n\n\n\n\n\n\n\n\n\n\nInfos and Registration at openfloor@amala-dance.com
URL:https://amala-dance.com/event/emotional-intelligence-bodybalance/
LOCATION:Gut Helmeringen\, Helmeringer Weg 43\,  Lauingen/ Donau\, Bayern\, 89415\, Deutschland
CATEGORIES:5Rhythmen®,Einsteiger-Workshops,Fortgeschrittenen-Workshops,Heartbeat-Workshops
ATTACH;FMTTYPE=image/jpeg:https://amala-dance.com/wp-content/uploads/2019/12/david-clode-djswadct1ps-unsplash-Kopie.jpg
ORGANIZER;CN="Amala P. Storm":MAILTO:amala@5rhythmen-stuttgart.de
GEO:48.54217;10.41494
X-APPLE-STRUCTURED-LOCATION;VALUE=URI;X-ADDRESS=Gut Helmeringen Helmeringer Weg 43  Lauingen/ Donau Bayern 89415 Deutschland;X-APPLE-RADIUS=500;X-TITLE=Helmeringer Weg 43:geo:10.41494,48.54217
END:VEVENT
END:VCALENDAR