BEGIN:VCALENDAR
VERSION:2.0
PRODID:-//Amala - Body  Soul  Dance - ECPv6.7.0//NONSGML v1.0//EN
CALSCALE:GREGORIAN
METHOD:PUBLISH
X-ORIGINAL-URL:https://amala-dance.com
X-WR-CALDESC:Veranstaltungen für Amala - Body  Soul  Dance
REFRESH-INTERVAL;VALUE=DURATION:PT1H
X-Robots-Tag:noindex
X-PUBLISHED-TTL:PT1H
BEGIN:VTIMEZONE
TZID:Europe/Helsinki
BEGIN:DAYLIGHT
TZOFFSETFROM:+0200
TZOFFSETTO:+0300
TZNAME:EEST
DTSTART:20200329T010000
END:DAYLIGHT
BEGIN:STANDARD
TZOFFSETFROM:+0300
TZOFFSETTO:+0200
TZNAME:EET
DTSTART:20201025T010000
END:STANDARD
END:VTIMEZONE
BEGIN:VEVENT
DTSTART;TZID=Europe/Helsinki:20200623T200000
DTEND;TZID=Europe/Helsinki:20200623T220000
DTSTAMP:20260425T171311
CREATED:20200529T095311Z
LAST-MODIFIED:20200529T095311Z
UID:10006079-1592942400-1592949600@amala-dance.com
SUMMARY:Wave after Wave
DESCRIPTION:Hallo liebe Tänzer/innen\, \nIn Corona Zeiten  werden wir zu mehr Aufmerksamkeit und Geduld aufgefordert . Gesetzlich braucht es entsprechende Vorkehrungen.\nDa die Teilnehmerzahl begrenzt ist\, ist eine Anmeldung erforderlich und verbindlich. \nDas Anmeldeformular mit den entsprechenden Vorgaben findest du hier\, eine 2. Möglichkeit ist dieses Worddoc: KursanmeldungC\nBitte melde dich bis spätestens 2 Stunden vor Beginn amala@5rhythmen-stuttgart.de an.\n \nFalls es zeitlich knapp wird kannst du mich auch anrufen/ sms  unter 017661982060 und nachfragen ob es noch Platz gibt.\nIch freue mich wieder live mit dir zu tanzen  \n  \nDiese Kurse sind eine Einladung die 5 Rhythmen™ kennen zu lernen\nund das Verständnis für die Rhythmen zu vertiefen.\nWir beginnen da wo wir sind. In der Balance zwischen freier Bewegung\nund Anleitung erforschen wir jeden der fünf Rhythmen: die Form\, die\nBewegung im Körper und im Raum\, die spezifische Energie\,\ndie der jeweilige Rhythmus in uns erweckt und wie wir diese Energie\nfür uns und in Gemeinschaft nutzen können. Jeder Abend fokussiert\nein Thema und führt durch eine vollständige Wave.\nWir folgen dem freien Fluss unserer Energie\,\nder Freude an Bewegung und geben uns die Freiheit\nuns auszudrücken. \n  \n\n 
URL:https://amala-dance.com/event/basic-skills-2-2-2-3-2-2-3/
LOCATION:Tanztempel Ost\, Ulmer Str. 184\, Stuttgart\, Baden Württemberg\, 70188\, Deutschland
CATEGORIES:5Rhythmen®,Classes,Einsteiger-Kurse,Wave after Wave,Wave-Angebot
ATTACH;FMTTYPE=image/jpeg:https://amala-dance.com/wp-content/uploads/2013/12/home21.jpg
ORGANIZER;CN="Amala P. Storm":MAILTO:amala@5rhythmen-stuttgart.de
GEO:48.8001622;9.2146158
X-APPLE-STRUCTURED-LOCATION;VALUE=URI;X-ADDRESS=Tanztempel Ost Ulmer Str. 184 Stuttgart Baden Württemberg 70188 Deutschland;X-APPLE-RADIUS=500;X-TITLE=Ulmer Str. 184:geo:9.2146158,48.8001622
END:VEVENT
END:VCALENDAR